BEGIN:VCALENDAR
VERSION:2.0
PRODID:-//Strovolos Municipality - ECPv6.15.20//NONSGML v1.0//EN
CALSCALE:GREGORIAN
METHOD:PUBLISH
X-ORIGINAL-URL:https://www.strovolos.org.cy
X-WR-CALDESC:Events for Strovolos Municipality
REFRESH-INTERVAL;VALUE=DURATION:PT1H
X-Robots-Tag:noindex
X-PUBLISHED-TTL:PT1H
BEGIN:VTIMEZONE
TZID:Europe/Athens
BEGIN:DAYLIGHT
TZOFFSETFROM:+0200
TZOFFSETTO:+0300
TZNAME:EEST
DTSTART:20230326T010000
END:DAYLIGHT
BEGIN:STANDARD
TZOFFSETFROM:+0300
TZOFFSETTO:+0200
TZNAME:EET
DTSTART:20231029T010000
END:STANDARD
BEGIN:DAYLIGHT
TZOFFSETFROM:+0200
TZOFFSETTO:+0300
TZNAME:EEST
DTSTART:20240331T010000
END:DAYLIGHT
BEGIN:STANDARD
TZOFFSETFROM:+0300
TZOFFSETTO:+0200
TZNAME:EET
DTSTART:20241027T010000
END:STANDARD
BEGIN:DAYLIGHT
TZOFFSETFROM:+0200
TZOFFSETTO:+0300
TZNAME:EEST
DTSTART:20250330T010000
END:DAYLIGHT
BEGIN:STANDARD
TZOFFSETFROM:+0300
TZOFFSETTO:+0200
TZNAME:EET
DTSTART:20251026T010000
END:STANDARD
END:VTIMEZONE
BEGIN:VEVENT
DTSTART;TZID=Europe/Athens:20241111T084500
DTEND;TZID=Europe/Athens:20241111T094500
DTSTAMP:20260422T082254
CREATED:20241107T080905Z
LAST-MODIFIED:20241107T081330Z
UID:53673-1731314700-1731318300@www.strovolos.org.cy
SUMMARY:«Μαθαίνουμε Αλλιώς»:  Εκπαιδευτικό πρόγραμμα για ενήλικες από την Τράπεζα Κύπρου και τον Δήμο Στροβόλου
DESCRIPTION:Ο Δήμος Στροβόλου και η Τράπεζα Κύπρου διοργανώνουν το εκπαιδευτικό πρόγραμμα «Μαθαίνουμε Αλλιώς: Όσα χρειάζεται να κάνεις στην τράπεζα είναι ένα κλικ μακριά»\, δίνοντας την ευκαιρία σε δημότες να τύχουν δωρεάν εκπαίδευσης για εύκολους\, πρακτικούς και ασφαλείς τρόπους χρήσης του Internet Banking\, του Mobile Banking και των ATM της Τράπεζας. \nΤο εκπαιδευτικό πρόγραμμα είναι σχεδιασμένο για ενήλικες και αφορά ένα ευρύ φάσμα εργαλείων διεξαγωγής τραπεζικών εργασιών. Παράλληλα\, θα γίνει παρουσίαση από τον Δήμο Στροβόλου σχετικά με τους τρόπους ηλεκτρονικής εξυπηρέτησης στον Δήμο (λήψη λογαριασμών ηλεκτρονικά και ηλεκτρονικές πληρωμές). \nΗ εκπαίδευση θα πραγματοποιηθεί τη Δευτέρα\, 11 Νοεμβρίου 2024\, στις 8:45 – 9:45 π.μ.\, στο Δημοτικό Μέγαρο Στροβόλου (Αίθουσα Δημοτικού Συμβουλίου). \nΣτο τέλος του προγράμματος\, θα γίνει κλήρωση ενός tablet ανάμεσα σε όσους παρακολουθήσουν την εκπαίδευση\, προσφορά της Τράπεζας Κύπρου και θα προσφερθεί κέρασμα. \nΗ δράση διεξάγεται με την υποστήριξη του Ανοικτού Σχολείου του Δήμου Στροβόλου. \nΟι εκπαιδεύσεις\, διεξάγονται σε διάφορους Δήμους και κοινότητες παγκύπρια. \nΕίσοδος ελεύθερη. \n  \nΑΠΟ ΤΟΝ ΔΗΜΟ ΣΤΡΟΒΟΛΟΥ \n7 Nοεμβρίου 2024
URL:https://www.strovolos.org.cy/event/mathainoume-allios-ekpaideftiko-programma-gia-enilikes-apo-tin-trapeza-kyprou-kai-ton-dimo-strovolou/
LOCATION:Δημοτικό Μέγαρο Στροβόλου
CATEGORIES:Εκδηλώσεις Δήμου
GEO:35.144036;33.343467
END:VEVENT
END:VCALENDAR