BEGIN:VCALENDAR
VERSION:2.0
PRODID:-//Strovolos Municipality - ECPv6.15.20//NONSGML v1.0//EN
CALSCALE:GREGORIAN
METHOD:PUBLISH
X-ORIGINAL-URL:https://www.strovolos.org.cy
X-WR-CALDESC:Events for Strovolos Municipality
REFRESH-INTERVAL;VALUE=DURATION:PT1H
X-Robots-Tag:noindex
X-PUBLISHED-TTL:PT1H
BEGIN:VTIMEZONE
TZID:Europe/Athens
BEGIN:DAYLIGHT
TZOFFSETFROM:+0200
TZOFFSETTO:+0300
TZNAME:EEST
DTSTART:20240331T010000
END:DAYLIGHT
BEGIN:STANDARD
TZOFFSETFROM:+0300
TZOFFSETTO:+0200
TZNAME:EET
DTSTART:20241027T010000
END:STANDARD
BEGIN:DAYLIGHT
TZOFFSETFROM:+0200
TZOFFSETTO:+0300
TZNAME:EEST
DTSTART:20250330T010000
END:DAYLIGHT
BEGIN:STANDARD
TZOFFSETFROM:+0300
TZOFFSETTO:+0200
TZNAME:EET
DTSTART:20251026T010000
END:STANDARD
BEGIN:DAYLIGHT
TZOFFSETFROM:+0200
TZOFFSETTO:+0300
TZNAME:EEST
DTSTART:20260329T010000
END:DAYLIGHT
BEGIN:STANDARD
TZOFFSETFROM:+0300
TZOFFSETTO:+0200
TZNAME:EET
DTSTART:20261025T010000
END:STANDARD
END:VTIMEZONE
BEGIN:VEVENT
DTSTART;TZID=Europe/Athens:20250430T210000
DTEND;TZID=Europe/Athens:20250430T210000
DTSTAMP:20260423T040911
CREATED:20250425T125058Z
LAST-MODIFIED:20250429T095430Z
UID:56135-1746046800-1746046800@www.strovolos.org.cy
SUMMARY:«Ομηρούπολη» από τον Κύκλο Φιλαναγνωσίας Δημ. Βιβλιοθήκης Στροβόλου & την Εθνική Εταιρεία Ελλήνων Λογοτεχνών Κύπρου\, 30/4/25\, Πολιτιστικό Κέντρο Στροβόλου
DESCRIPTION:
URL:https://www.strovolos.org.cy/event/omiroupoli-apo-ton-kyklo-filanagnosias-dim-vivliothikis-strovolou-tin-ethniki-etaireia-ellinon-logotechnon-kyprou-30-4-25-politistiko-kentro-strovolou/
LOCATION:Πολιτιστικό Κέντρο Στροβόλου
CATEGORIES:Εκδηλώσεις Δήμου
GEO:35.150126;33.343012
END:VEVENT
END:VCALENDAR