BEGIN:VCALENDAR
VERSION:2.0
PRODID:-//Strovolos Municipality - ECPv6.15.20//NONSGML v1.0//EN
CALSCALE:GREGORIAN
METHOD:PUBLISH
X-ORIGINAL-URL:https://www.strovolos.org.cy
X-WR-CALDESC:Events for Strovolos Municipality
REFRESH-INTERVAL;VALUE=DURATION:PT1H
X-Robots-Tag:noindex
X-PUBLISHED-TTL:PT1H
BEGIN:VTIMEZONE
TZID:Europe/Athens
BEGIN:DAYLIGHT
TZOFFSETFROM:+0200
TZOFFSETTO:+0300
TZNAME:EEST
DTSTART:20240331T010000
END:DAYLIGHT
BEGIN:STANDARD
TZOFFSETFROM:+0300
TZOFFSETTO:+0200
TZNAME:EET
DTSTART:20241027T010000
END:STANDARD
BEGIN:DAYLIGHT
TZOFFSETFROM:+0200
TZOFFSETTO:+0300
TZNAME:EEST
DTSTART:20250330T010000
END:DAYLIGHT
BEGIN:STANDARD
TZOFFSETFROM:+0300
TZOFFSETTO:+0200
TZNAME:EET
DTSTART:20251026T010000
END:STANDARD
BEGIN:DAYLIGHT
TZOFFSETFROM:+0200
TZOFFSETTO:+0300
TZNAME:EEST
DTSTART:20260329T010000
END:DAYLIGHT
BEGIN:STANDARD
TZOFFSETFROM:+0300
TZOFFSETTO:+0200
TZNAME:EET
DTSTART:20261025T010000
END:STANDARD
END:VTIMEZONE
BEGIN:VEVENT
DTSTART;TZID=Europe/Athens:20251129T190000
DTEND;TZID=Europe/Athens:20251129T190000
DTSTAMP:20260423T090550
CREATED:20251106T082557Z
LAST-MODIFIED:20251106T082725Z
UID:59606-1764442800-1764442800@www.strovolos.org.cy
SUMMARY:Θεατρική παράσταση «Ένας δολοφόνος… είναι ανάμεσά μας»\, 29/11/25 | 19:00
DESCRIPTION:Θεατρική παράσταση «Ένας Δολοφόνος…\nείναι ανάμεσα σας» \n29 Νοεμβρίου 2025 │ώρα: 19:00 │Δημοτικό Θέατρο Στροβόλου \nΕισιτήρια πωλούνται από https://www.ticketmaster.cy/showEventInformation.html?idEvent=7320
URL:https://www.strovolos.org.cy/event/theatriki-parastasi-enas-dolofonos-einai-anamesa-mas-29-11-25-1900/
LOCATION:Δημοτικό Θέατρο Στροβόλου\, Cyprus
CATEGORIES:Εκδηλώσεις Άλλων Φορέων
GEO:35.143943;33.343228
END:VEVENT
END:VCALENDAR