BEGIN:VCALENDAR
VERSION:2.0
PRODID:-//Strovolos Municipality - ECPv6.15.20//NONSGML v1.0//EN
CALSCALE:GREGORIAN
METHOD:PUBLISH
X-WR-CALNAME:Strovolos Municipality
X-ORIGINAL-URL:https://www.strovolos.org.cy
X-WR-CALDESC:Events for Strovolos Municipality
REFRESH-INTERVAL;VALUE=DURATION:PT1H
X-Robots-Tag:noindex
X-PUBLISHED-TTL:PT1H
BEGIN:VTIMEZONE
TZID:Europe/Athens
BEGIN:DAYLIGHT
TZOFFSETFROM:+0200
TZOFFSETTO:+0300
TZNAME:EEST
DTSTART:20210328T010000
END:DAYLIGHT
BEGIN:STANDARD
TZOFFSETFROM:+0300
TZOFFSETTO:+0200
TZNAME:EET
DTSTART:20211031T010000
END:STANDARD
BEGIN:DAYLIGHT
TZOFFSETFROM:+0200
TZOFFSETTO:+0300
TZNAME:EEST
DTSTART:20220327T010000
END:DAYLIGHT
BEGIN:STANDARD
TZOFFSETFROM:+0300
TZOFFSETTO:+0200
TZNAME:EET
DTSTART:20221030T010000
END:STANDARD
BEGIN:DAYLIGHT
TZOFFSETFROM:+0200
TZOFFSETTO:+0300
TZNAME:EEST
DTSTART:20230326T010000
END:DAYLIGHT
BEGIN:STANDARD
TZOFFSETFROM:+0300
TZOFFSETTO:+0200
TZNAME:EET
DTSTART:20231029T010000
END:STANDARD
END:VTIMEZONE
BEGIN:VEVENT
DTSTART;TZID=Europe/Athens:20221107T083000
DTEND;TZID=Europe/Athens:20221111T133000
DTSTAMP:20260421T004843
CREATED:20221107T093142Z
LAST-MODIFIED:20221107T093142Z
UID:37099-1667809800-1668173400@www.strovolos.org.cy
SUMMARY:Λειτουργία Έκθεσης «Περί Στροβόλου» Δευτ. - Παρ. (8:30 - 13:30)\, μέχρι και τις 18/11/22 - Δημ. Μέγαρο
DESCRIPTION:Ο Δήμος Στροβόλου ενημερώνει το κοινό ότι μετά από αίτημα πολλών συμπολιτών μας\, η Έκθεση «Περί Στροβόλου» θα παραμείνει ανοικτή για το κοινό μέχρι και την Παρασκευή 18 Νοεμβρίου 2022 και συγκεκριμένα\, από Δευτέρα έως Παρασκευή κατά τις πρωινές ώρες 8:30 – 13:30\, στο Δημοτικό Μέγαρο Στροβόλου. \nΌπως είχε ανακοινωθεί\, η Έκθεση παρουσιάζει τα αποτελέσματα του Προγράμματος «Περί Στροβόλου»\, το οποίο είχε ως στόχο  την αποτύπωση και διαφύλαξη της ιστορίας του Στροβόλου και το ψηφιακό αρχείο που έχει δημιουργηθεί\, έχει αναρτηθεί στην ιστοσελίδα www.peristrovolou.com.
URL:https://www.strovolos.org.cy/event/leitourgia-ekthesis-peri-strovolou-deft-par-830-1330-mechri-kai-tis-18-11-22-dim-megaro/
LOCATION:Δημοτικό Μέγαρο Στροβόλου
CATEGORIES:Εκδηλώσεις Δήμου
GEO:35.144036;33.343467
END:VEVENT
BEGIN:VEVENT
DTSTART;TZID=Europe/Athens:20221107T190000
DTEND;TZID=Europe/Athens:20221107T190000
DTSTAMP:20260421T004843
CREATED:20221104T121911Z
LAST-MODIFIED:20221107T125531Z
UID:36973-1667847600-1667847600@www.strovolos.org.cy
SUMMARY:Αναβολή Παρουσίασης της Ανθολογίας Ποίησης και Τέχνης Κυπρίων Λογοτεχνών και Καλλιτεχνών «ΠΡΟΣΦΥΓΩΝ ΝΟΣΤΟΣ» και Έκθεσης των Έργων Τέχνης που περιλαμβάνονται στην Ανθολογία. που ήταν προγραμματισμένη για τις 7/11/22
DESCRIPTION:Αναβολή εκδήλωσης Δήμου Στροβόλου λόγω πένθους για τον χαμό του Μακαριότατου Αρχιεπίσκοπου Κύπρου κ. Χρυσόστομου Β’. \nΠερισσότερες πληροφορίες εδώ.
URL:https://www.strovolos.org.cy/event/parousiasi-tis-anthologias-poiisis-kai-technis-kyprion-logotechnon-kai-kallitechnon-prosfygon-nostos-kai-ekthesi-ton-ergon-technis-pou-perilamvanontai-stin-anthologia-deftera-7-11-22-1900-politis/
LOCATION:Πολιτιστικό Κέντρο Στροβόλου
CATEGORIES:Εκδηλώσεις Δήμου
GEO:35.150126;33.343012
END:VEVENT
BEGIN:VEVENT
DTSTART;TZID=Europe/Athens:20221107T203000
DTEND;TZID=Europe/Athens:20221107T203000
DTSTAMP:20260421T004843
CREATED:20221017T111624Z
LAST-MODIFIED:20221107T124432Z
UID:36391-1667853000-1667853000@www.strovolos.org.cy
SUMMARY:Αναβολή Εκδήλωσης «Μουσική παράσταση «Ο ήχος μιας πόλης: Θεσσαλονίκη»\, με το μουσικό σχήμα «Μακρύδρομος»\, που ήταν προγραμματισμένη για τις 7/11/22
DESCRIPTION:Αναβολή εκδήλωσης Δήμου Στροβόλου λόγω πένθους για τον χαμό του Μακαριότατου Αρχιεπίσκοπου Κύπρου κ. Χρυσόστομου Β’. \nΠερισσότερες πληροφορίες εδώ.  \nΤα εισιτήρια που έχει ήδη εξασφαλίσει το κοινό θα ισχύουν κανονικά για την νέα ημερομηνία που θα ανακοινωθεί σύντομα. \n\nΟ μουσικό σχήμα «Μακρύδρομος» παρουσιάζει τη μουσική παράσταση «Ο ήχος μιας πόλης: Θεσσαλονίκη»\, στο πλαίσιο των φθινοπωρινών συναυλιών του Δήμου Στροβόλου. Η συναυλία θα δοθεί τη Δευτέρα 7 Νοεμβρίου και ώρα 20:30\, στο Δημοτικό Θέατρο Στροβόλου. \nΕρμηνεύουν οι Δημήτρης Μεσημέρης\, Φρειδερίκη Τομπάζου\, Κατερίνα Παράσχου\, Ανδρέας Ελεσνίτσαλης\, Δημήτρης Σουρουλλάς και Πάρης Παράσχος. \nΤην ορχήστρα απαρτίζουν οι Γιώργος Δημητρίου (λαούτο και μπουζούκι)\, Γιώργος Χατζήπαπας (κλαρίνο\, καβάλ\, μπαγλαμάς)\, Μαρίνος Γεωργιάδης (κιθάρες)\, Κώστας Χαλλούμας (Μπάσο)\, Γιώργος Ζένιος (Τύμπανα) \nΕνορχηστρώσεις: Δημήτρης Σουρουλλάς\nΕπιμέλεια φωνών: Φρειδερίκη Τομπάζου\nΉχος: Ορφέας Πιτσιλλίδης \nΕίσοδος: 5 ευρώ \nΌλα τα έσοδα από την πώληση των εισιτηρίων θα διατεθούν για την ενίσχυση του Παγκύπριου Συνδέσμου για Άτομα με Αυτισμό (Αρ. Άδειας Εράνου: 53/20) \nΓια πληροφορίες και εισιτήρια:  \n \n  \nΧορηγοί Επικοινωνίας: \n \n  \n  \n 
URL:https://www.strovolos.org.cy/event/mousiki-parastasi-o-ichos-mias-polis-thessaloniki-me-to-mousiko-schima-makrydromos-7-11-22/
LOCATION:Δημοτικό Θέατρο Στροβόλου\, Cyprus
CATEGORIES:Εκδηλώσεις Δήμου
GEO:35.143943;33.343228
END:VEVENT
END:VCALENDAR