BEGIN:VCALENDAR
VERSION:2.0
PRODID:-//Strovolos Municipality - ECPv6.15.20//NONSGML v1.0//EN
CALSCALE:GREGORIAN
METHOD:PUBLISH
X-ORIGINAL-URL:https://www.strovolos.org.cy
X-WR-CALDESC:Events for Strovolos Municipality
REFRESH-INTERVAL;VALUE=DURATION:PT1H
X-Robots-Tag:noindex
X-PUBLISHED-TTL:PT1H
BEGIN:VTIMEZONE
TZID:Europe/Athens
BEGIN:DAYLIGHT
TZOFFSETFROM:+0200
TZOFFSETTO:+0300
TZNAME:EEST
DTSTART:20210328T010000
END:DAYLIGHT
BEGIN:STANDARD
TZOFFSETFROM:+0300
TZOFFSETTO:+0200
TZNAME:EET
DTSTART:20211031T010000
END:STANDARD
BEGIN:DAYLIGHT
TZOFFSETFROM:+0200
TZOFFSETTO:+0300
TZNAME:EEST
DTSTART:20220327T010000
END:DAYLIGHT
BEGIN:STANDARD
TZOFFSETFROM:+0300
TZOFFSETTO:+0200
TZNAME:EET
DTSTART:20221030T010000
END:STANDARD
BEGIN:DAYLIGHT
TZOFFSETFROM:+0200
TZOFFSETTO:+0300
TZNAME:EEST
DTSTART:20230326T010000
END:DAYLIGHT
BEGIN:STANDARD
TZOFFSETFROM:+0300
TZOFFSETTO:+0200
TZNAME:EET
DTSTART:20231029T010000
END:STANDARD
END:VTIMEZONE
BEGIN:VEVENT
DTSTART;TZID=Europe/Athens:20221123T193000
DTEND;TZID=Europe/Athens:20221123T193000
DTSTAMP:20260420T215056
CREATED:20221116T070644Z
LAST-MODIFIED:20221116T070644Z
UID:37449-1669231800-1669231800@www.strovolos.org.cy
SUMMARY:«Η κλασική μουσική συναντά την ελληνική μουσική»\, με τα μουσικά και χορευτικά σχήματα του Δήμου Στροβόλου\, 23/11/22
DESCRIPTION:Ο Δήμος Στροβόλου παρουσιάζει την παράσταση «Η κλασική μουσική συναντά την Ελληνική Μουσική»\, την Τετάρτη 23 Νοεμβρίου 2022 και ώρα 19:30\, στο Δημοτικό Θέατρο Στροβόλου. \nΣυμμετέχουν η Δημοτική Χορωδία\, ο Λαογραφικός – Χορευτικός Όμιλος\, η Συμφωνική Μπάντα Δήμου Στροβόλου – Ευρωπαϊκού Πανεπιστημίου Κύπρου\, η Ορχήστρα Εγχόρδων και η Παιδική Χορωδία Μικρών Εθελοντών Δήμου Στροβόλου. \nΔιδασκαλία και μουσική διεύθυνση: Στέλιος Καραολής\, Δρ Γιάννης Μυράλης\, Κούλης Λιμνιώτης και Κλεοπάτρα Χαραλάμπους \nΧοροδιδάσκαλοι: Σωτήρης Αυγουστή\, Πέτρος Κιττής\nΣυνοδεία Πιάνου: ‘Αγγελος Δούκας και Μαριλένα Πολυκάρπου\nΣτο τραγούδι: Ειρήνη Αντωνίου \nΕίσοδος: 5 ευρώ \nΌλα τα έσοδα από την πώληση των εισιτηρίων θα διατεθούν για την ενίσχυση του Παγκύπριου Αντιλευχαιμικού Συνδέσμου «Ζωή». Αρ. Άδειας Εράνου: 53/2022 \nΓια Εισιτήρια: \n \nΠληροφορίες: 22 470470\nΧορηγοί επικοινωνίας: \n \n  \n  \n  \nΗ εκδήλωση ενδέχεται να βιντεοσκοπείται και να λαμβάνονται φωτογραφίες για το αρχείο του Δήμου Στροβόλου και για λόγους προβολής της εκδήλωσης σε μέσα μαζικής ενημέρωσης/επικοινωνίας.
URL:https://www.strovolos.org.cy/event/i-klasiki-mousiki-synanta-tin-elliniki-mousiki-me-ta-mousika-kai-choreftika-schimata-tou-dimou-strovolou-23-11-22/
LOCATION:Δημοτικό Θέατρο Στροβόλου\, Cyprus
CATEGORIES:Εκδηλώσεις Δήμου
GEO:35.143943;33.343228
END:VEVENT
END:VCALENDAR