BEGIN:VCALENDAR
VERSION:2.0
PRODID:-//Strovolos Municipality - ECPv6.15.20//NONSGML v1.0//EN
CALSCALE:GREGORIAN
METHOD:PUBLISH
X-WR-CALNAME:Strovolos Municipality
X-ORIGINAL-URL:https://www.strovolos.org.cy
X-WR-CALDESC:Events for Strovolos Municipality
REFRESH-INTERVAL;VALUE=DURATION:PT1H
X-Robots-Tag:noindex
X-PUBLISHED-TTL:PT1H
BEGIN:VTIMEZONE
TZID:Europe/Athens
BEGIN:DAYLIGHT
TZOFFSETFROM:+0200
TZOFFSETTO:+0300
TZNAME:EEST
DTSTART:20220327T010000
END:DAYLIGHT
BEGIN:STANDARD
TZOFFSETFROM:+0300
TZOFFSETTO:+0200
TZNAME:EET
DTSTART:20221030T010000
END:STANDARD
BEGIN:DAYLIGHT
TZOFFSETFROM:+0200
TZOFFSETTO:+0300
TZNAME:EEST
DTSTART:20230326T010000
END:DAYLIGHT
BEGIN:STANDARD
TZOFFSETFROM:+0300
TZOFFSETTO:+0200
TZNAME:EET
DTSTART:20231029T010000
END:STANDARD
BEGIN:DAYLIGHT
TZOFFSETFROM:+0200
TZOFFSETTO:+0300
TZNAME:EEST
DTSTART:20240331T010000
END:DAYLIGHT
BEGIN:STANDARD
TZOFFSETFROM:+0300
TZOFFSETTO:+0200
TZNAME:EET
DTSTART:20241027T010000
END:STANDARD
END:VTIMEZONE
BEGIN:VEVENT
DTSTART;TZID=Europe/Athens:20230309T170000
DTEND;TZID=Europe/Athens:20230309T190000
DTSTAMP:20260420T084323
CREATED:20230228T102444Z
LAST-MODIFIED:20230228T102444Z
UID:42420-1678381200-1678388400@www.strovolos.org.cy
SUMMARY:Eκδήλωση με αφορμή την Παγκόσμια Ημέρα Παχυσαρκίας\, 9/3/23
DESCRIPTION:
URL:https://www.strovolos.org.cy/event/ekdilosi-me-aformi-tin-pagkosmia-imera-pachysarkias-9-3-23/
LOCATION:Πολιτιστικό Κέντρο Στροβόλου
CATEGORIES:Εκδηλώσεις Δήμου
GEO:35.150126;33.343012
END:VEVENT
BEGIN:VEVENT
DTSTART;TZID=Europe/Athens:20230315T193000
DTEND;TZID=Europe/Athens:20230315T193000
DTSTAMP:20260420T084323
CREATED:20230303T095706Z
LAST-MODIFIED:20230306T090109Z
UID:42562-1678908600-1678908600@www.strovolos.org.cy
SUMMARY:Παρουσίαση του βιβλίου της Ερατούς Κοζάκου Μαρκουλλή «Πατρίδας Οράματα»\, από τον Όμ. Φίλων Δημ. Βιβλιοθήκης\, 15/3/23
DESCRIPTION:ΠΡΟΣΚΛΗΣΗ  \nΟ ΣΥΝΔΕΣΜΟΣ ΜΙΚΡΑΣΙΑΤΩΝ ΚΥΠΡΟΥ\nΟ ΔΗΜΟΣ ΣΤΡΟΒΟΛΟΥ\nΚΑΙ\nΟ ΟΜΙΛΟΣ ΦΙΛΩΝ\nΔΗΜΟΤΙΚΗΣ ΒΙΒΛΙΟΘΗΚΗΣ ΣΤΡΟΒΟΛΟΥ \n  \nσας προσκαλούν\nστην παρουσίαση του βιβλίου\nτης Ερατούς Κοζάκου Μαρκουλλή \n«Πατρίδας Οράματα» \nτην Τετάρτη\, 15 Μαρτίου 2023\, ώρα 7.30 μ.μ. στο Δημοτικό Μέγαρο Στροβόλου\nΟμιλήτρια:\nΜόνα Σαββίδου Θεοδούλου Ποιήτρια\, συγγραφέας\, Πρόεδρος\nτου Συνδέσμου Μικρασιατών Κύπρου \n  \nΠΡΟΓΡΑΜΜΑ  \n\nΚαλωσόρισμα από την πρόεδρο του Συνδέσμου Μόνα Σαββίδου Θεοδούλου\nΧαιρετισμός από τον Δήμαρχο Στροβόλου Ανδρέα Παπαχαραλάμπους\nΧαιρετισμός από την Πρόεδρο του Ομίλου Φίλων Δημοτικής Βιβλιοθήκης Στροβόλου δρα Μαρία Μιχαηλίδου\nΠαρουσίαση της Ποιητικής Συλλογής της Ερατούς Κοζάκου Μαρκουλλή από τη Μόνα Σαββίδου Θεοδούλου\nΑπαγγελία ποιημάτων από τους ηθοποιούς Βαλεντίνα Σοφοκλέους και Ανδρέα Νικολαΐδη\nΜουσική παρέμβαση από τον συνθέτη Γιώργο Καλογήρου.\n\nΑκολουθεί δεξίωση \nΤΑ ΕΣΟΔΑ ΑΠΟ ΤΗΝ ΠΩΛΗΣΗ ΤΩΝ ΒΙΒΛΙΩΝ ΘΑ ΔΙΑΤΕΘΟΥΝ ΓΙΑ ΤΗΝ ΑΝΕΓΕΡΣΗ ΤΟΥ ΜΝΗΜΕΙΟΥ ΠΡΟΣΦΥΓΩΝ 1922\, ΣΤΗ ΛΕΥΚΩΣΙΑ
URL:https://www.strovolos.org.cy/event/parousiasi-tou-vivliou-tis-eratous-kozakou-markoulli-patridas-oramata-apo-ton-om-filon-dim-vivliothikis-15-3-23/
LOCATION:Δημοτικό Μέγαρο Στροβόλου
CATEGORIES:Εκδηλώσεις Δήμου
GEO:35.144036;33.343467
END:VEVENT
BEGIN:VEVENT
DTSTART;TZID=Europe/Athens:20230316T190000
DTEND;TZID=Europe/Athens:20230316T190000
DTSTAMP:20260420T084323
CREATED:20230303T134741Z
LAST-MODIFIED:20230303T134741Z
UID:42586-1678993200-1678993200@www.strovolos.org.cy
SUMMARY:Τελετή ονοματοδότησης της αίθουσας εκδηλώσεων του Πολιτιστικού Κέντρου Στροβόλου «Νικόλαος Μούντης»\, προς τιμή του δωρητή του διατηρητέου κτηρίου\, 16/3/23
DESCRIPTION:
URL:https://www.strovolos.org.cy/event/teleti-onomatodotisis-tis-aithousas-ekdiloseon-tou-politistikou-kentrou-strovolou-nikolaos-mountis-pros-timi-tou-doriti-tou-diatiriteou-ktiriou-16-3-23/
LOCATION:Πολιτιστικό Κέντρο Στροβόλου
CATEGORIES:Εκδηλώσεις Δήμου
GEO:35.150126;33.343012
END:VEVENT
BEGIN:VEVENT
DTSTART;TZID=Europe/Athens:20230318T100000
DTEND;TZID=Europe/Athens:20230318T100000
DTSTAMP:20260420T084323
CREATED:20230316T094304Z
LAST-MODIFIED:20230316T094555Z
UID:43042-1679133600-1679133600@www.strovolos.org.cy
SUMMARY:«Δενδροφύτευση στο Γραμμικό Πάρκο σε συνεργασία με τον Παγκύπριο Σύνδεσμο Σύνδρομο Down»\, 18/3/23
DESCRIPTION:
URL:https://www.strovolos.org.cy/event/dendrofytefsi-sto-grammiko-parko-se-synergasia-me-ton-pagkyprio-syndesmo-syndromo-down-18-3-23/
LOCATION:Πάρκο Επικονιαστών-Γραμμικό Πάρκο Πεδιαίου
CATEGORIES:Εκδηλώσεις Δήμου
GEO:35.138345988151;33.328389736058
END:VEVENT
BEGIN:VEVENT
DTSTART;TZID=Europe/Athens:20230322T190000
DTEND;TZID=Europe/Athens:20230322T190000
DTSTAMP:20260420T084323
CREATED:20230316T130240Z
LAST-MODIFIED:20230316T130457Z
UID:43059-1679511600-1679511600@www.strovolos.org.cy
SUMMARY:Διάλεξη του Καθηγητή Κωνσταντίνου Δέλτα: «Η Κυπριακή Βιοτράπεζα και το DNA των Κυπρίων»\, 22/3/23
DESCRIPTION:
URL:https://www.strovolos.org.cy/event/dialeksi-tou-kathigiti-konstantinou-delta-i-kypriaki-viotrapeza-kai-to-dna-ton-kyprion-22-3-23/
LOCATION:Πολιτιστικό Κέντρο Στροβόλου
CATEGORIES:Εκδηλώσεις Δήμου
GEO:35.150126;33.343012
END:VEVENT
BEGIN:VEVENT
DTSTART;TZID=Europe/Athens:20230323T190000
DTEND;TZID=Europe/Athens:20230323T190000
DTSTAMP:20260420T084323
CREATED:20230314T085403Z
LAST-MODIFIED:20230314T085403Z
UID:42965-1679598000-1679598000@www.strovolos.org.cy
SUMMARY:Τελετή ανακήρυξης Πάρι Παπαέλληνα σε Επίτιμο Δημότη Στροβόλου\, 23/3/23
DESCRIPTION:
URL:https://www.strovolos.org.cy/event/teleti-anakiryksis-pari-papaellina-se-epitimo-dimoti-strovolou-23-3-23/
LOCATION:Δημοτικό Θέατρο Στροβόλου\, Cyprus
CATEGORIES:Εκδηλώσεις Δήμου
GEO:35.143943;33.343228
END:VEVENT
BEGIN:VEVENT
DTSTART;TZID=Europe/Athens:20230403T190000
DTEND;TZID=Europe/Athens:20230403T190000
DTSTAMP:20260420T084323
CREATED:20230329T081658Z
LAST-MODIFIED:20230329T082020Z
UID:43445-1680548400-1680548400@www.strovolos.org.cy
SUMMARY:Τελετή Βράβευσης του Σωματείου «Παρνασσός» και του Γυμναστικού Συλλόγου Στροβόλου «Ο Κεραυνός» με το βραβείο Κοινωνικής/Πολιτιστικής/Αθλητικής Προσφοράς «Κυριάκος Πίσσης»\, 3/4/23
DESCRIPTION:Τη Δευτέρα 3 Απριλίου και ώρα 19:00 θα πραγματοποιηθεί η εναρκτήρια εκδήλωση του θεσμού προσφοράς Ετήσιου Βραβείου Πολιτιστικής-Αθλητικής-Κοινωνικής Προσφοράς «Κυριάκος Πίσσης». \nO αείμνηστος Κυριάκος Πίσσης υπήρξε δημότης Στροβόλου με διακεκριμένη προσφορά στη Νεολαία. \nΓια το τρέχον έτος το εν λόγω Βραβείο θα απονεμηθεί στα Σωματεία «Παρνασσός» και Γυμναστικός Σύλλογος Στροβόλου «Ο Κεραυνός». \nΗ εκδήλωση\, η οποία τελεί υπό την αιγίδα της ΚΟΕ\, θα λάβει χώρα στο Ολυμπιακό Μέγαρο. \nΏρα προσέλευσης μέχρι τις 18:45. Είσοδος ελεύθερη. \n \n \nΑΠΟ ΤΟΝ ΔΗΜΟ ΣΤΡΟΒΟΛΟΥ\n29 Μαρτίου 2023 \n 
URL:https://www.strovolos.org.cy/event/teleti-vravefsis-tou-somateiou-parnassos-kai-tou-gymnastikou-syllogou-strovolou-o-keravnos-me-to-vraveio-koinonikis-politistikis-athlitikis-prosforas-kyriakos-pissis-3-4-23/
LOCATION:Ολυμπιακό Μέγαρο\, Amfipolis 21\, Nicosia\, Strovolos\, 2025\, Κύπρος
CATEGORIES:Εκδηλώσεις Δήμου
GEO:35.137904602196;33.371667326754
X-APPLE-STRUCTURED-LOCATION;VALUE=URI;X-ADDRESS=Ολυμπιακό Μέγαρο Amfipolis 21 Nicosia Strovolos 2025 Κύπρος;X-APPLE-RADIUS=500;X-TITLE=Amfipolis 21:geo:33.371667326754,35.137904602196
END:VEVENT
BEGIN:VEVENT
DTSTART;TZID=Europe/Athens:20230408T100000
DTEND;TZID=Europe/Athens:20230408T200000
DTSTAMP:20260420T084323
CREATED:20230330T121306Z
LAST-MODIFIED:20230330T121306Z
UID:43518-1680948000-1680984000@www.strovolos.org.cy
SUMMARY:Easter Hunt από τους Μικρούς Εθελοντές για φιλανθρωπικό σκοπό
DESCRIPTION:Easter Hunt από τους Μικρούς Εθελοντές για φιλανθρωπικό σκοπό \nΗ ομάδα Νέων ΜΙΚΡΟΙ ΕΘΕΛΟΝΤΕΣ σε συνεργασία με το Δήμο Στροβόλου διοργανώνουν EASTER HUNΤ για τους «ΜΙΚΡΟΥΣ ΗΡΩΕΣ»\, στο Πάρκο Ακρόπολης. \nΣάββατο 8 Απριλίου 2023\, 10:00-20:00\nΚυριακή 9 Απριλίου 2023\, 10:00-19:00 \nΓια δεύτερη συνεχόμενη χρονιά διοργανώνεται το διήμερο φεστιβάλ για παιδιά\, Easter Hunt\, όπου όλα τα καθαρά έσοδα φέτος\, θα διατεθούν για το φιλανθρωπικό σωματείο «Μικροί Ήρωες». \nΠαρουσιαστής: Λουκάς Χριστοδουλίδης. \nΧορηγοί Επικοινωνίας: Ράδιο Πολίτης\, Alpha Tv \nΣτα πλαίσια του Φεστιβάλ θα συμμετέχουν δημόσια και ιδιωτικά σχολεία\, μέλη του φιλανθρωπικού συνδέσμου ΜΙΚΡΟΙ ΕΘΕΛΟΝΤΕΣ\, ομάδες ανεξάρτητες\, σχολές και οργανωμένα σύνολα του Δήμου Στροβόλου. \nΣτον χώρο θα υπάρχουν περίπτερα με φαγητό\, ποτό και άλλα προϊόντα. \nΑρ. Μητρώου: ΛΕΥ/Σ/115\nΑρ. Άδειας Εράνου: 9/2023 \n#απόταπαιδιάπροσταπαιδιά #γιατίμαζίμπορούμεκαλύτερα
URL:https://www.strovolos.org.cy/event/easter-hunt-apo-tous-mikrous-ethelontes-gia-filanthropiko-skopo/2023-04-08/
LOCATION:Πάρκο Ακροπόλεως
CATEGORIES:Εκδηλώσεις Δήμου
GEO:35.146416;33.362124
END:VEVENT
BEGIN:VEVENT
DTSTART;TZID=Europe/Athens:20230417T160000
DTEND;TZID=Europe/Athens:20230417T193000
DTSTAMP:20260420T084323
CREATED:20230412T073742Z
LAST-MODIFIED:20230412T073742Z
UID:43896-1681747200-1681759800@www.strovolos.org.cy
SUMMARY:Πασχαλινό Πανηγύρι τη Δευτέρα του Πάσχα από τον Ιερό Ναό Αποστόλου Μάρκου Αρχαγγέλου Στροβόλου και τον Δήμο Στροβόλου\, 17/4/23 (16:00-19:30)
DESCRIPTION:
URL:https://www.strovolos.org.cy/event/paschalino-panigyri-ti-deftera-tou-pascha-apo-ton-iero-nao-apostolou-markou-archangelou-strovolou-kai-ton-dimo-strovolou-17-4-23-1600-1930/
LOCATION:Ιερός Ναός Αποστόλου Ευαγγελιστού Μάρκου
CATEGORIES:Εκδηλώσεις Δήμου
GEO:35.140861;33.322364
END:VEVENT
BEGIN:VEVENT
DTSTART;TZID=Europe/Athens:20230419T190000
DTEND;TZID=Europe/Athens:20230419T190000
DTSTAMP:20260420T084323
CREATED:20230412T081950Z
LAST-MODIFIED:20230412T082012Z
UID:43918-1681930800-1681930800@www.strovolos.org.cy
SUMMARY:Παρουσίαση του βιβλίου του δρος Κυριάκου Ιωάννου «Ποιος το γνωρίζει τούτο το νησί;»\, 19/4/23 - Μουσείο Εθνομάρτυρα Κυπριανού
DESCRIPTION:
URL:https://www.strovolos.org.cy/event/parousiasi-tou-vivliou-tou-dros-kyriakou-ioannou-poios-to-gnorizei-touto-to-nisi-19-4-23-mouseio-ethnomartyra-kyprianou/
LOCATION:Εκκλησιαστικό Μουσείο Εθνομάρτυρα Κυπριανού στον Στρόβολο
CATEGORIES:Εκδηλώσεις Δήμου
GEO:35.14624242943;33.340136045691
END:VEVENT
BEGIN:VEVENT
DTSTART;TZID=Europe/Athens:20230428T083000
DTEND;TZID=Europe/Athens:20230428T130000
DTSTAMP:20260420T084323
CREATED:20230427T071659Z
LAST-MODIFIED:20230427T071854Z
UID:44387-1682670600-1682686800@www.strovolos.org.cy
SUMMARY:Επιστημονικό Συνέδριο «Κωστής Παλαμάς και Κύπρος»\, 28/4/23\, 8:30-13:00\, στο Μουσείο Εθνομάρτυρα Κυπριανού\, με τη στήριξη του Δήμου Στροβόλου
DESCRIPTION:Για αναλυτικές πληροφορίες πατήστε εδώ
URL:https://www.strovolos.org.cy/event/epistimoniko-synedrio-kostis-palamas-kai-kypros-28-4-23-830-1300-sto-mouseio-ethnomartyra-kyprianou-me-ti-stiriksi-tou-dimou-strovolou/
LOCATION:Εκκλησιαστικό Μουσείο Εθνομάρτυρα Κυπριανού στον Στρόβολο
CATEGORIES:Εκδηλώσεις Δήμου
GEO:35.14624242943;33.340136045691
END:VEVENT
BEGIN:VEVENT
DTSTART;TZID=Europe/Athens:20230428T193000
DTEND;TZID=Europe/Athens:20230428T193000
DTSTAMP:20260420T084323
CREATED:20230426T063857Z
LAST-MODIFIED:20230426T063957Z
UID:44307-1682710200-1682710200@www.strovolos.org.cy
SUMMARY:Παρουσίαση της ποιητικής συλλογής του Άγι Χαραλαμπίδη «Ρωγμές των καιρών»\, από τον Όμιλο Φίλων Δημ. Βιβλιοθήκης Στροβόλου»\, 28/4/23
DESCRIPTION:
URL:https://www.strovolos.org.cy/event/parousiasi-tis-poiitikis-syllogis-tou-agi-charalampidi-rogmes-ton-kairon-apo-ton-omilo-filon-dim-vivliothikis-strovolou-28-4-23/
LOCATION:Πολιτιστικό Κέντρο Στροβόλου
CATEGORIES:Εκδηλώσεις Δήμου
GEO:35.150126;33.343012
END:VEVENT
BEGIN:VEVENT
DTSTART;TZID=Europe/Athens:20230510T203000
DTEND;TZID=Europe/Athens:20230510T203000
DTSTAMP:20260420T084323
CREATED:20230426T114100Z
LAST-MODIFIED:20230509T061310Z
UID:44347-1683750600-1683750600@www.strovolos.org.cy
SUMMARY:Χορευτική παράσταση «Αφηρημένη»\, με την Ομάδα Σύγχρονου Χορού «Σέλας»\, 10/5/23 - Φεστιβάλ Θεάτρου Δ.Σ.
DESCRIPTION:Ο Δήμος Στροβόλου ενημερώνει το κοινό για τις πιο κάτω εξελίξεις σε σχέση με την παράσταση Χορευτική παράσταση «Αφηρημένη» του  7ου Φεστιβάλ Θεάτρου  που θα πραγματοποιηθεί την Τετάρτη 10/5/23 και ώρα 20:30: \n\nΗ παράσταση θα δοθεί στο Δημοτικό Μέγαρο Στροβόλου\nΗ είσοδος θα είναι ελεύθερη\nΤα άτομα που έχουν ήδη εξασφαλίσει εισιτήρια για την παράσταση\, θα λάβουν σχετική ενημέρωση από την Tickethour\, αναφορικά με την επιστροφή του ποσού που έχουν καταβάλει για την προμήθεια των εισιτηρίων ( tickethour: 77 777040).\n\nΗ Χορευτική παράσταση «Αφηρημένη»\, με την Ομάδα Σύγχρονου Χορού «Σέλας»\, παρουσιάζει την επικοινωνία ανάμεσα στο σώμα\, τη μουσική\, των εικόνων και του χώρου\, μέσα από το χορό και τη μουσική. Αφόρμηση για τη δημιουργία του έργου αποτέλεσε ο πίνακας του Κύπριου καλλιτέχνη Χριστόφορου Σάββα (1924-1968) «Το πουλί της Μεσαρκάς».\nΠιο συγκεκριμένα\, εξερευνήθηκαν στοιχεία όπως τα σχήματα\, τα υλικά κατασκευής\, η διάθεση δημιουργίας του πίνακα καθώς και η διάθεση που εκπέμπει\, ο τίτλος και το ιστορικό υπόβαθρο. \n  \nΣυντελεστές: \nΈρευνα και Χορογραφία: Μαρία Καμπέρη \nΔραματουργία: Ειρήνη Ανδρέου \nΧορεύτρια: Παναγιώτα Νικολάου \nΜουσικοί: Δημήτρης Γιασεμίδης\, Νατάσα Χατζηανδρέου \nΔημιουργία Σκηνικού: Γιώργος Χατζηχρίστου \nCostume Design: Filep Motwary \nΠαραγωγή: Selas Dance Company \nΕίσοδος: ΔΩΡΕΑΝ \nΌλα τα έσοδα από την πώληση των εισιτηρίων\nθα δοθούν για την ενίσχυση της Κοινότητας Αγίου Λουκά του Ιατρού.\nΑριθμός Άδειας Εράνου: ΝΠ 25/2023 \n  \nΕίσοδος: ΔΩΡΕΑΝ   |    ΔΗΜΟΤΙΚΟ ΜΕΓΑΡΟ ΣΤΡΟΒΟΛΟΥ    |    20:30 \n  \n 
URL:https://www.strovolos.org.cy/event/choreftiki-parastasi-afirimeni-me-tin-omada-sygchronou-chorou-selas-10-5-23/
LOCATION:Δημοτικό Μέγαρο Στροβόλου
CATEGORIES:Εκδηλώσεις Δήμου
GEO:35.144036;33.343467
END:VEVENT
BEGIN:VEVENT
DTSTART;TZID=Europe/Athens:20230514T090000
DTEND;TZID=Europe/Athens:20230514T090000
DTSTAMP:20260420T084323
CREATED:20230504T094242Z
LAST-MODIFIED:20230505T082257Z
UID:44938-1684054800-1684054800@www.strovolos.org.cy
SUMMARY:Ποδηλατική Διαδρομή: CYcling in the City 2023\, Μετά-κινούμαι στην πόλη μου\, 14/5/23
DESCRIPTION:Σας προσκαλούμε στην εκδήλωση #CYcling in the city 2023\, στις 14 Μαΐου\, με κεντρικό μήνυμα «Μετά-κινούμαι στην πόλη μου». \nΗ εκδήλωση θα περιλαμβάνει ποδηλασία από το Σημείο Α\, Πάρκο Κυκλοφοριακής Αγωγής του Δήμος Αγλαντζιάς – Aglantzia Municipality στις 9:00 π.μ.\, μέχρι το Σημείο Β\, Λεωφόρο Αρχιεπισκόπου Μακαρίου Γ’\, Δήμος Λευκωσίας και επιστροφή στην αφετηρία. \nΕγγραφείτε διαδικτυακά ακολουθώντας τον σύνδεσμο: http://bitly.ws/Dso9 \nWe invite you to the event #CYcling in the city 2023\, on May 14\, with the central message “I’m moving in my city”. \nIn the event\, we will cycle from Point A\, Traffic Training Park of Δήμος Αγλαντζιάς – Aglantzia Municipality at 9:00 a.m.\, to Point B\, Archbishop Makariou Avenue 3\, Nicosia and return to the starting point. \nOnline Applications here http://bitly.ws/Dso9 \nΔήμος Στροβόλου\nΔήμος Αγλατζιάς\nΔήμος Λευκωσίας\nEmbassy of the Netherlands in Cyprus\nΒουλή των Αντιπροσώπων – House of Representatives\nΥπουργείο Μεταφορών\, Επικοινωνιών και Έργων\nΣυμβούλιο Προώθησης Χρήσης Ποδηλάτου\nΠοδηλάτες Λευκωσίας – Podilates Lefkosias\nNextbike by Tier Cyprus\nCyta\nAretaeio Hospital\nHellenic Bank\nVisit Nicosia (Lefkosia)\n#cyclinginthecity
URL:https://www.strovolos.org.cy/event/podilatiki-diadromi-cycling-in-the-city-2023-meta-kinoumai-stin-poli-mou-14-5-23/
LOCATION:Πάρκο Κυκλοφοριακής Αγωγής στην Αγγλατζιά
CATEGORIES:Εκδηλώσεις Δήμου
GEO:35.148073;33.375615
END:VEVENT
BEGIN:VEVENT
DTSTART;TZID=Europe/Athens:20230515T193000
DTEND;TZID=Europe/Athens:20230515T193000
DTSTAMP:20260420T084323
CREATED:20230508T053924Z
LAST-MODIFIED:20230508T054012Z
UID:45230-1684179000-1684179000@www.strovolos.org.cy
SUMMARY:Παρουσίαση μυθιστορήματος «Σονάτα για βιολί και θρήνο» του Πέτρου Τσερκέζη\, από τον Όμιλο Φίλων Δημ. Βιβλιοθήκης\, 15/5/23
DESCRIPTION:
URL:https://www.strovolos.org.cy/event/parousiasi-mythistorimatos-sonata-gia-violi-kai-thrino-tou-petrou-tserkezi-apo-ton-omilo-filon-dim-vivliothikis-15-5-23/
LOCATION:Πολιτιστικό Κέντρο Στροβόλου
CATEGORIES:Εκδηλώσεις Δήμου
GEO:35.150126;33.343012
END:VEVENT
BEGIN:VEVENT
DTSTART;TZID=Europe/Athens:20230518T190000
DTEND;TZID=Europe/Athens:20230518T190000
DTSTAMP:20260420T084323
CREATED:20230505T120316Z
LAST-MODIFIED:20230511T092230Z
UID:45153-1684436400-1684436400@www.strovolos.org.cy
SUMMARY:Συναυλία Ορχήστρας Εγχόρδων Δήμου Στροβόλου «Η Μουσική συνομιλεί με την Ιστορία»\, με πρωτότυπα έργα της Δέσποινας Ζορπά\, 18/5/23
DESCRIPTION:Ο Δήμος Στροβόλου παρουσιάζει τη συναυλία της Ορχήστρας Εγχόρδων «Η Μουσική συνομιλεί με την Ιστορία»\, με πρωτότυπα έργα της Δέσποινας Ζορπά\, την Πέμπτη 18 Μαΐου 2023 και ώρα 19:00\, στο Μουσείο Εθνομάρτυρα Αρχιεπισκόπου Κυπριανού. \nΤην ορχήστρα διευθύνει ο κ. Κούλης Λιμνιώτης\, ενώ στη συναυλία συμμετέχουν επίσης η Μαριάννα Μουμτζή στο κανονάκι\, η Νεφέλη Radakrisnan στο φλάουτο\, η Άντζελα Χαραλάμπους στο βιολοντσέλο\, ο Ραφαήλ Ησαΐας στα κρουστά-βιολί και ο Χρήστος Γεωργιάδης. \nΑνάμεσα στα έργα που θα ακουστούν ξεχωρίζει η μελοποίηση στίχων της «9ης Ιουλίου» του Βασίλη Μιχαηλίδη\, από τη Δέσποινα Ζορπά\, η οποία θα συμμετάσχει στη συναυλία με σόλο βιολί\, βιολοντσέλο\, πιάνο και τραγούδι. \nΗ είσοδος είναι ελεύθερη. \nΚατά τη διάρκεια της εκδήλωσης θα λαμβάνονται φωτογραφίες για σκοπούς προβολής και τήρησης αρχείου.
URL:https://www.strovolos.org.cy/event/synavlia-orchistras-egchordon-dimou-strovolou-i-mousiki-synanta-tin-istoria-me-prototypa-erga-tis-despoinas-zorpa-18-5-23/
LOCATION:Εκκλησιαστικό Μουσείο Εθνομάρτυρα Κυπριανού στον Στρόβολο
CATEGORIES:Εκδηλώσεις Δήμου
GEO:35.14624242943;33.340136045691
END:VEVENT
BEGIN:VEVENT
DTSTART;TZID=Europe/Athens:20230612T190000
DTEND;TZID=Europe/Athens:20230612T190000
DTSTAMP:20260420T084323
CREATED:20230609T122622Z
LAST-MODIFIED:20230609T123009Z
UID:45897-1686596400-1686596400@www.strovolos.org.cy
SUMMARY:Συναυλία Ορχήστρας Εγχόρδων Δήμου Στροβόλου με μέλη άνω των 18 ετών\, 12/6/23
DESCRIPTION:
URL:https://www.strovolos.org.cy/event/synavlia-orchistras-egchordon-dimou-strovolou-me-meli-ano-ton-18-eton-12-6-23/
LOCATION:Δημοτικό Μέγαρο Στροβόλου
CATEGORIES:Εκδηλώσεις Δήμου
GEO:35.144036;33.343467
END:VEVENT
BEGIN:VEVENT
DTSTART;TZID=Europe/Athens:20230614T193000
DTEND;TZID=Europe/Athens:20230614T193000
DTSTAMP:20260420T084323
CREATED:20230608T073033Z
LAST-MODIFIED:20230608T073033Z
UID:45836-1686771000-1686771000@www.strovolos.org.cy
SUMMARY:«Μουσικοί Διάλογοι» συναυλία για μαντολίνο & κλασική κιθάρα\, με τη Γεωργία Κόμπου & τον Κωνσταντίνο Οικονομίδη\, 14/6/23
DESCRIPTION:
URL:https://www.strovolos.org.cy/event/mousikoi-dialogoi-synavlia-gia-mantolino-klasiki-kithara-me-ti-georgia-kompou-ton-konstantino-oikonomidi-14-6-23/
LOCATION:Πολιτιστικό Κέντρο Στροβόλου
CATEGORIES:Εκδηλώσεις Δήμου
GEO:35.150126;33.343012
END:VEVENT
BEGIN:VEVENT
DTSTART;TZID=Europe/Athens:20230614T200000
DTEND;TZID=Europe/Athens:20230614T200000
DTSTAMP:20260420T084323
CREATED:20230612T063649Z
LAST-MODIFIED:20230612T063708Z
UID:45882-1686772800-1686772800@www.strovolos.org.cy
SUMMARY:8η Ετήσια Έκθεση Δραστηριοτήτων: Ζωγραφικής\, Αγιογραφίας\, Κατασκευής Υφασμάτινης Κούκλας\, Patchwork&Aplique\, Decoupage\, Μαγειρικής Ζαχαροπλαστικής\, Γλυπτικής\, Πλεξίματος με βελόνες (σμίλες)\, του Ανοικτού Σχολείου\, 14/6/23
DESCRIPTION:
URL:https://www.strovolos.org.cy/event/8i-etisia-ekthesi-drastiriotiton-zografikis-agiografias-kataskevis-yfasmatinis-kouklas-patchworkaplique-decoupage-mageirikis-zacharoplastikis-glyptikis-pleksimatos-me-velones-smiles-tou-an/
LOCATION:Σπηλιές Πάρκου Ακροπόλεως
CATEGORIES:Εκδηλώσεις Δήμου
ATTACH;FMTTYPE=image/jpeg:https://www.strovolos.org.cy/wp-content/uploads/prosklisi-teliki-ekthesi-anoixtou-sxoleiou-2023.jpg
GEO:35.146432;33.362382
END:VEVENT
BEGIN:VEVENT
DTSTART;TZID=Europe/Athens:20230615T203000
DTEND;TZID=Europe/Athens:20230615T203000
DTSTAMP:20260420T084323
CREATED:20230602T094213Z
LAST-MODIFIED:20230602T094213Z
UID:45753-1686861000-1686861000@www.strovolos.org.cy
SUMMARY:Συναυλία με τον Γιώργο Σταματάρη και την ορχήστρα του\, 15/6/23
DESCRIPTION:
URL:https://www.strovolos.org.cy/event/synavlia-me-ton-giorgo-stamatari-kai-tin-orchistra-tou-15-6-23/
LOCATION:Πάρκο Ακροπόλεως
CATEGORIES:Εκδηλώσεις Δήμου
GEO:35.146416;33.362124
END:VEVENT
BEGIN:VEVENT
DTSTART;TZID=Europe/Athens:20230620T193000
DTEND;TZID=Europe/Athens:20230620T193000
DTSTAMP:20260420T084323
CREATED:20230616T125619Z
LAST-MODIFIED:20230616T130408Z
UID:46071-1687289400-1687289400@www.strovolos.org.cy
SUMMARY:Ετήσια Έκθεση του Φωτογραφικού Ομίλου Δήμου Στροβόλου «Κυπριακά χωριά & Παράδοση»\, 20/6/23\, 19:30 - Αίθ. Εκδηλώσεων «Νικόλαος Μούντης» Πολιτιστικό Κέντρο Στροβόλου
DESCRIPTION:
URL:https://www.strovolos.org.cy/event/etisia-ekthesi-tou-fotografikou-omilou-dimou-strovolou-kypriaka-choria-paradosi-20-6-23-1930-aith-ekdiloseon-nikolaos-mountis-politistiko-kentro-strovolou/
LOCATION:Πολιτιστικό Κέντρο Στροβόλου
CATEGORIES:Εκδηλώσεις Δήμου
GEO:35.150126;33.343012
END:VEVENT
BEGIN:VEVENT
DTSTART;TZID=Europe/Athens:20230622T183000
DTEND;TZID=Europe/Athens:20230622T183000
DTSTAMP:20260420T084323
CREATED:20230621T121050Z
LAST-MODIFIED:20230621T121050Z
UID:46100-1687458600-1687458600@www.strovolos.org.cy
SUMMARY:Συναυλία Ορχήστρας Εγχόρδων Δήμου Στροβόλου με την ευκαιρία της Παγκόσμιας Ημέρας Μουσικής\, 22/6/23
DESCRIPTION:
URL:https://www.strovolos.org.cy/event/synavlia-orchistras-egchordon-dimou-strovolou-me-tin-efkairia-tis-pagkosmias-imeras-mousikis-22-6-23/
LOCATION:Δημοτικό Μέγαρο Στροβόλου
CATEGORIES:Εκδηλώσεις Δήμου
GEO:35.144036;33.343467
END:VEVENT
BEGIN:VEVENT
DTSTART;TZID=Europe/Athens:20230622T193000
DTEND;TZID=Europe/Athens:20230622T193000
DTSTAMP:20260420T084323
CREATED:20230612T075528Z
LAST-MODIFIED:20230612T075528Z
UID:45932-1687462200-1687462200@www.strovolos.org.cy
SUMMARY:Καλλιτεχνική Εκδήλωση Ανοικτού Σχολείου Δήμου Στροβόλoυ «7 Τραγούδια...Στην Οδό Ονείρων»\, 22/6/23
DESCRIPTION:
URL:https://www.strovolos.org.cy/event/kallitechniki-ekdilosi-anoiktou-scholeiou-dimou-strovoloy-7-tragoudia-stin-odo-oneiron-22-6-23/
LOCATION:Πάρκο Ακροπόλεως
CATEGORIES:Εκδηλώσεις Δήμου
GEO:35.146416;33.362124
END:VEVENT
BEGIN:VEVENT
DTSTART;TZID=Europe/Athens:20230628T180000
DTEND;TZID=Europe/Athens:20230628T180000
DTSTAMP:20260420T084323
CREATED:20230616T124556Z
LAST-MODIFIED:20230628T054515Z
UID:46064-1687975200-1687975200@www.strovolos.org.cy
SUMMARY:Τελετή ονοματοδότησης του Πάρκου «Παναγιώτης Λαζάρου\, Πεσών Στρτης 361 ΤΠ το 1974»\, 28/6/23\, 18:00 (Οδός Παρνασσού)
DESCRIPTION:
URL:https://www.strovolos.org.cy/event/teleti-onomatodotisis-tou-parkou-panagiotis-lazarou-peson-strtis-361-tp-to-1974-28-6-23-1800-odos-parnassou/
CATEGORIES:Εκδηλώσεις Δήμου
END:VEVENT
BEGIN:VEVENT
DTSTART;TZID=Europe/Athens:20230630T193000
DTEND;TZID=Europe/Athens:20230630T193000
DTSTAMP:20260420T084323
CREATED:20230628T122706Z
LAST-MODIFIED:20230628T122706Z
UID:46166-1688153400-1688153400@www.strovolos.org.cy
SUMMARY:Θερινή συναυλία της Χορωδίας «Μικροί Εθελοντές Δήμου Στροβόλου - Τραγουδώ για έναν σκοπό»\, 30/6/23
DESCRIPTION:
URL:https://www.strovolos.org.cy/event/therini-synavlia-tis-chorodias-mikroi-ethelontes-dimou-strovolou-tragoudo-gia-enan-skopo-30-6-23/
LOCATION:Πολιτιστικό Κέντρο
CATEGORIES:Εκδηλώσεις Δήμου
END:VEVENT
BEGIN:VEVENT
DTSTART;TZID=Europe/Athens:20230701T193000
DTEND;TZID=Europe/Athens:20230701T193000
DTSTAMP:20260420T084323
CREATED:20230629T124809Z
LAST-MODIFIED:20230629T124809Z
UID:46183-1688239800-1688239800@www.strovolos.org.cy
SUMMARY:Χορευτική παράσταση «Οικογενειακές Ιστορίες»\, 1/7/23
DESCRIPTION:Η σχολή χορού «Angels Dance Studio» παρουσιάζει\nτην παράσταση «Οικογενειακές Ιστορίες» \nΕισιτήρια πωλούνται από \nhttps://shop.tickethour.com/showEventInformation.html?idEvent=4263
URL:https://www.strovolos.org.cy/event/choreftiki-parastasi-oikogeneiakes-istories-1-7-23/
LOCATION:Δημοτικό Θέατρο Στροβόλου\, Cyprus
CATEGORIES:Εκδηλώσεις Δήμου
GEO:35.143943;33.343228
END:VEVENT
BEGIN:VEVENT
DTSTART;TZID=Europe/Athens:20230703T193000
DTEND;TZID=Europe/Athens:20230703T193000
DTSTAMP:20260420T084323
CREATED:20230629T124918Z
LAST-MODIFIED:20230629T124918Z
UID:46184-1688412600-1688412600@www.strovolos.org.cy
SUMMARY:Χορευτική παράσταση «Μανιφέστο»\, 3/7/23
DESCRIPTION:Το σωματείο «The Dance Central» παρουσιάζει\nτην παράσταση «Μανιφέστο» \nΕισιτήρια πωλούνται στην τιμή των €10
URL:https://www.strovolos.org.cy/event/choreftiki-parastasi-manifesto-3-7-23/
LOCATION:Δημοτικό Θέατρο Στροβόλου\, Cyprus
CATEGORIES:Εκδηλώσεις Δήμου
GEO:35.143943;33.343228
END:VEVENT
BEGIN:VEVENT
DTSTART;TZID=Europe/Athens:20230705T200000
DTEND;TZID=Europe/Athens:20230705T200000
DTSTAMP:20260420T084323
CREATED:20230629T124956Z
LAST-MODIFIED:20230629T124956Z
UID:46185-1688587200-1688587200@www.strovolos.org.cy
SUMMARY:Μιούζικαλ «Mama Mia»\, 5/7/23
DESCRIPTION:Η σχολή χορού «Bailando Centro de Danza» παρουσιάζει το μιούζικαλ «Mama Mia» \nΕισιτήρια πωλούνται από https://www.soldoutticketbox.com/mamma-mia-bailando-jul-2023/?lang=en
URL:https://www.strovolos.org.cy/event/miouzikal-mama-mia-5-7-23/
LOCATION:Δημοτικό Θέατρο Στροβόλου\, Cyprus
CATEGORIES:Εκδηλώσεις Δήμου
GEO:35.143943;33.343228
END:VEVENT
BEGIN:VEVENT
DTSTART;TZID=Europe/Athens:20230706T193000
DTEND;TZID=Europe/Athens:20230706T193000
DTSTAMP:20260420T084323
CREATED:20230704T090817Z
LAST-MODIFIED:20230704T090817Z
UID:46273-1688671800-1688671800@www.strovolos.org.cy
SUMMARY:«Φωνές Καλών Καιρών» από τον Όμιλο Λογοτεχνίας Δήμου Στροβόλου και την Ομάδα Συγγραφέων «ΔΙΑΒΑΣΕΙΣ»\, 6/7/23
DESCRIPTION:«Φωνές Καλών Καιρών» \nΟ Λογοτεχνικός Όμιλος Δήμου Στροβόλου\, τον οποίο συντονίζει η ομάδα Συγγραφέων Διαβάσεις\, αποτελούμενη από τους Νάσια Διονυσίου\, Κωνσταντία Σωτηρίου και Χρίστο Ρ. Τσιαήλη\, διοργανώνει στις 6 Ιουλίου και ώρα 19:30 στον προαύλιο χώρο του Πολιτιστικού  Κέντρου Στροβόλου (Αρχιεπισκόπου Κυπριανού 34)\, εκδήλωση με τίτλο «Φωνές Καλών Καιρών»\, όπου 20 ποιητές\, ποιήτριες και πεζογράφοι ενώνουν τις φωνές τους για να δώσουν το μήνυμα του φωτός και της ελπίδας κόντρα στους δύσκολους και σκοτεινούς καιρούς που ζούμε. \nΣυμμετέχοντες: \nΣτέλλα Βοσκαρίδου\nΚατερίνα Γεννάρη\nΧαρά  Ζυμαρά\nΔέσποινα Ηρακλέους\nΕρατώ Ιωάννου\nΜαρία Α. Ιωάννου\nΑννα Κουππάνου\nΜιχάλης Μαυροθέρης\nΓιώργος Μολέσκης\nΑντώνης Μπαλασόπουλος\nΔάφνη Νικήτα\nΑνδρέας Νικολαΐδης\nΡωξάνη Νικολάου\nΕλένη Ξένου\nΙσμήνη Παφίτη\nΠαναγιώτης Πέτσας\nΚυριάκος Στυλιανού\nΜαρία Τζιαούρη-Χίλμερ\nΑνδρέας Τιμοθέου\nΜαρία Τσαγγάρη \nΕίσοδος ελεύθερη. Κατά τη διάρκεια της εκδήλωσης θα λαμβάνονται φωτογραφίες και βίντεο για σκοπούς προβολής και τήρησης αρχείου. Πληροφορίες: 22 470470 \n \nΑΠΟ ΤΟΝ ΔΗΜΟ ΣΤΡΟΒΟΛΟΥ\n30 Ιουνίου 2023 \n 
URL:https://www.strovolos.org.cy/event/fones-kalon-kairon-apo-ton-omilo-logotechnias-dimou-strovolou-kai-tin-omada-syngrafeon-diavaseis-6-7-23/
LOCATION:Πολιτιστικό Κέντρο
CATEGORIES:Εκδηλώσεις Δήμου
END:VEVENT
BEGIN:VEVENT
DTSTART;TZID=Europe/Athens:20230706T193000
DTEND;TZID=Europe/Athens:20230706T193000
DTSTAMP:20260420T084323
CREATED:20230629T125033Z
LAST-MODIFIED:20230629T125033Z
UID:46186-1688671800-1688671800@www.strovolos.org.cy
SUMMARY:Χορευτική παράσταση «Shine to nine»\, 6/7/23
DESCRIPTION:Ο Αθλητικός Σύλλογος «Παγκύπριος» και η σχολή «Dance Academy Cyprus» παρουσιάζουν\nτη χορευτική παράσταση «Shine to nine» \nΕίσοδος με δελτία ελευθέρας εισόδου
URL:https://www.strovolos.org.cy/event/choreftiki-parastasi-shine-to-nine-6-7-23/
LOCATION:Δημοτικό Θέατρο Στροβόλου\, Cyprus
CATEGORIES:Εκδηλώσεις Δήμου
GEO:35.143943;33.343228
END:VEVENT
END:VCALENDAR