BEGIN:VCALENDAR
VERSION:2.0
PRODID:-//Strovolos Municipality - ECPv6.15.20//NONSGML v1.0//EN
CALSCALE:GREGORIAN
METHOD:PUBLISH
X-ORIGINAL-URL:https://www.strovolos.org.cy
X-WR-CALDESC:Events for Strovolos Municipality
REFRESH-INTERVAL;VALUE=DURATION:PT1H
X-Robots-Tag:noindex
X-PUBLISHED-TTL:PT1H
BEGIN:VTIMEZONE
TZID:Europe/Athens
BEGIN:DAYLIGHT
TZOFFSETFROM:+0200
TZOFFSETTO:+0300
TZNAME:EEST
DTSTART:20210328T010000
END:DAYLIGHT
BEGIN:STANDARD
TZOFFSETFROM:+0300
TZOFFSETTO:+0200
TZNAME:EET
DTSTART:20211031T010000
END:STANDARD
BEGIN:DAYLIGHT
TZOFFSETFROM:+0200
TZOFFSETTO:+0300
TZNAME:EEST
DTSTART:20220327T010000
END:DAYLIGHT
BEGIN:STANDARD
TZOFFSETFROM:+0300
TZOFFSETTO:+0200
TZNAME:EET
DTSTART:20221030T010000
END:STANDARD
BEGIN:DAYLIGHT
TZOFFSETFROM:+0200
TZOFFSETTO:+0300
TZNAME:EEST
DTSTART:20230326T010000
END:DAYLIGHT
BEGIN:STANDARD
TZOFFSETFROM:+0300
TZOFFSETTO:+0200
TZNAME:EET
DTSTART:20231029T010000
END:STANDARD
END:VTIMEZONE
BEGIN:VEVENT
DTSTART;VALUE=DATE:20220512
DTEND;VALUE=DATE:20220513
DTSTAMP:20260420T093819
CREATED:20220419T114353Z
LAST-MODIFIED:20220419T114353Z
UID:31074-1652313600-1652399999@www.strovolos.org.cy
SUMMARY:«Το ταξίδι στο Μπάουντιφουλ»\, του Όρτον Φουτ\, στο Δημ. Θέατρο Στροβόλου\, 12/5/22
DESCRIPTION:
URL:https://www.strovolos.org.cy/event/to-taksidi-sto-mpaountifoul-tou-orton-fout-sto-dim-theatro-strovolou-12-5-22/
LOCATION:Δημοτικό Θέατρο Στροβόλου\, Cyprus
CATEGORIES:Εκδηλώσεις Δήμου
GEO:35.143943;33.343228
END:VEVENT
BEGIN:VEVENT
DTSTART;VALUE=DATE:20220518
DTEND;VALUE=DATE:20220519
DTSTAMP:20260420T093819
CREATED:20220419T114945Z
LAST-MODIFIED:20220419T114945Z
UID:31079-1652832000-1652918399@www.strovolos.org.cy
SUMMARY:«Τα κορίτσια της λίμνης»\, του Μιχάλη Παπαδόπουλου\, στο Δημ. Θέατρο Στροβόλου\, 18/5/22
DESCRIPTION:
URL:https://www.strovolos.org.cy/event/ta-koritsia-tis-limnis-tou-michali-papadopoulou-sto-dim-theatro-strovolou-18-5-22/
LOCATION:Δημοτικό Θέατρο Στροβόλου\, Cyprus
CATEGORIES:Εκδηλώσεις Δήμου
GEO:35.143943;33.343228
END:VEVENT
BEGIN:VEVENT
DTSTART;TZID=Europe/Athens:20220520T193000
DTEND;TZID=Europe/Athens:20220520T193000
DTSTAMP:20260420T093819
CREATED:20220516T071405Z
LAST-MODIFIED:20220516T071405Z
UID:31638-1653075000-1653075000@www.strovolos.org.cy
SUMMARY:Παρουσίαση του βιβλίου «Η αλήθεια» του Νικόλα Σμυρνάκη\, από τον Όμ. Φίλων Δημ. Βιβλιοθήκης\,  20/5/22
DESCRIPTION:
URL:https://www.strovolos.org.cy/event/parousiasi-tou-vivliou-i-alitheia-tou-nikola-smyrnaki-apo-ton-om-filon-dim-vivliothikis-20-5-22/
LOCATION:Πολιτιστικό Κέντρο Στροβόλου
CATEGORIES:Εκδηλώσεις Δήμου
GEO:35.150126;33.343012
END:VEVENT
BEGIN:VEVENT
DTSTART;TZID=Europe/Athens:20220523T200000
DTEND;TZID=Europe/Athens:20220523T200000
DTSTAMP:20260420T093819
CREATED:20220518T084047Z
LAST-MODIFIED:20220518T084047Z
UID:31714-1653336000-1653336000@www.strovolos.org.cy
SUMMARY:Με Αγαπη και Φως
DESCRIPTION:
URL:https://www.strovolos.org.cy/event/me-agapi-kai-fos/
LOCATION:Δημοτικό Θέατρο Στροβόλου\, Cyprus
CATEGORIES:Εκδηλώσεις Δήμου
GEO:35.143943;33.343228
END:VEVENT
BEGIN:VEVENT
DTSTART;TZID=Europe/Athens:20220525T193000
DTEND;TZID=Europe/Athens:20220525T193000
DTSTAMP:20260420T093819
CREATED:20220520T081847Z
LAST-MODIFIED:20220520T081847Z
UID:31823-1653507000-1653507000@www.strovolos.org.cy
SUMMARY:Διάλεξη δρος Μαρίας Μιχαηλίδου με θέμα: «Η πρόσληψη του 1922 στην Κυπριακή Πεζογραφία»\, 25/5/22
DESCRIPTION:
URL:https://www.strovolos.org.cy/event/dialeksi-dros-marias-michailidou-me-thema-i-proslipsi-tou-1922-stin-kypriaki-pezografia-25-5-22/
LOCATION:Πολιτιστικό Κέντρο Στροβόλου
CATEGORIES:Εκδηλώσεις Δήμου
GEO:35.150126;33.343012
END:VEVENT
BEGIN:VEVENT
DTSTART;VALUE=DATE:20220526
DTEND;VALUE=DATE:20220527
DTSTAMP:20260420T093819
CREATED:20220419T115849Z
LAST-MODIFIED:20220419T115849Z
UID:31090-1653523200-1653609599@www.strovolos.org.cy
SUMMARY:«Οι γαμπροί της Ευτυχίας»\, των Ν. Τσιφόρου και Π. Βασιλειάδη»\, στο Δημ. Θέατρο Στροβόλου\, 26/5/22
DESCRIPTION:
URL:https://www.strovolos.org.cy/event/oi-gamproi-tis-eftychias-ton-n-tsiforou-kai-p-vasileiadi-sto-dim-theatro-strovolou-26-5-22/
LOCATION:Δημοτικό Θέατρο Στροβόλου\, Cyprus
CATEGORIES:Εκδηλώσεις Δήμου
GEO:35.143943;33.343228
END:VEVENT
BEGIN:VEVENT
DTSTART;TZID=Europe/Athens:20220528T100000
DTEND;TZID=Europe/Athens:20220528T130000
DTSTAMP:20260420T093819
CREATED:20220525T125646Z
LAST-MODIFIED:20220525T125646Z
UID:31953-1653732000-1653742800@www.strovolos.org.cy
SUMMARY:Φεστιβάλ Χαράς από το Hope For Children για την Παγκόσμια Ημέρα Παιδιού\, με τη στήριξη του Δήμου Στροβόλου\, 28/5/22
DESCRIPTION:Έρχεται το Φεστιβάλ Χαράς από το Hope For Children για να γιορτάσει την Παγκόσμια Ημέρα Παιδιού  \nΣάββατο 28 Μαΐου 2022\, στο Πολιτιστικό Κέντρο Δήμου Στροβόλου \nΜια τεράστια αγκαλιά\, με πολλά διαδραστικά\, εκπαιδευτικά και διασκεδαστικά παιχνίδια περιμένουν όλα τα παιδιά\, το Σάββατο 28 Μαΐου 2022\, στο Πολιτιστικό Κέντρο Δήμου Στροβόλου\, από τις 10:00πμ – 13:00μμ\, στο μεγάλο Φεστιβάλ Χαράς που διοργανώνει ο ανθρωπιστικός οργανισμός “Hope For Children” CRC Policy Center\, με αφορμή την Παγκόσμια Ημέρα Παιδιού και την Παγκόσμια Ημέρα Αναδοχής που γιορτάζονται κάθε χρόνο την 1η Ιουνίου και 31 Μαΐου αντίστοιχα! \nΓια τους σκοπούς της εκδήλωσης\, τέσσερα θρυλικά προϊόντα που αγάπησαν και αγαπούν μικροί και μεγάλοι\, το γαλατάκι σοκολάτα Χαραλαμπίδης Κρίστης\, η σοκολάτα Σερενάτα\, τα γαριδάκια Γ. Χαραλάμπους και η ΚΕΑΝΙΤΑ\, ενώνουν τις δυνάμεις τους για να στηρίξουν το “Hope For Children” CRC Policy Center\, προσφέροντας δωρεάν τα προϊόντα τους σε όλα τα παιδιά! \nΤο πρόγραμμα των εκπαιδευτικών και ψυχαγωγικών δραστηριοτήτων για τα παιδιά όλων των ηλικιών\, περιλαμβάνει αφήγηση παραμυθιού\, μουσική\, χορό\, κουκλοθέατρο και βιωματικά εργαστήρια από το εξειδικευμένο προσωπικό του “Hope For Children” CRC Policy Center. Παράλληλα\, ετοιμάζονται και άλλες πολλές εκπλήξεις που θα αναδείξουν το Φεστιβάλ Χαράς σε μια συναρπαστική εμπειρία για όλα τα παιδιά! \nTo “Hope For Children” CRC Policy Center ως διαχρονικός πρεσβευτής των αρχών και των αξιών της Σύμβασης για τα Δικαιώματα του Παιδιού\, τιμά την Παγκόσμια Ημέρα Παιδιού και την Παγκόσμια Ημέρα Αναδοχής\, οι οποίες υπενθυμίζουν την ανάγκη που υπάρχει για λήψη περαιτέρω μέτρων για την προστασία των παιδιών από κάθε είδους παραβίαση των δικαιωμάτων τους και εκμετάλλευση. Κατά τη διάρκεια της εκδήλωσης\, οι λειτουργοί του Οργανισμού\, θα ενημερώνουν για τις σημαντικές ανάγκες του Προγράμματος Ανάδοχων οικογενειών στην Κύπρο. \nΤο Φεστιβάλ Χαράς στηρίζουν επίσης ο Δήμος Στροβόλου και το Caffe Nero που θα προσφέρει μέρος των εισπράξεων από τα ροφήματα που θα ετοιμάζει κατά τη διάρκεια της εκδήλωσης. \nΣας περιμένουμε! \nΓια περισσότερες πληροφορίες μπορείτε να καλέσετε τον οργανισμό “Hope For Children” CRC Policy Center στο τηλ. 22 103234. \n \n 
URL:https://www.strovolos.org.cy/event/festival-charas-apo-to-hope-for-children-gia-tin-pagkosmia-imera-paidiou-me-ti-stiriksi-tou-dimou-strovolou-28-5-22/
LOCATION:Πολιτιστικό Κέντρο Στροβόλου
CATEGORIES:Εκδηλώσεις Δήμου
GEO:35.150126;33.343012
END:VEVENT
BEGIN:VEVENT
DTSTART;TZID=Europe/Athens:20220530T200000
DTEND;TZID=Europe/Athens:20220530T200000
DTSTAMP:20260420T093819
CREATED:20220518T141405Z
LAST-MODIFIED:20220518T141438Z
UID:31744-1653940800-1653940800@www.strovolos.org.cy
SUMMARY:Θεατρική παράσταση «Ξενοδοχείο των δύο κόσμων»\, του Έρικ Εμάνουελ Σμιτ από την ερασιτεχνική ομάδα θεάτρου του Ανοικτού Σχολείου Δήμου Στροβόλου
DESCRIPTION:
URL:https://www.strovolos.org.cy/event/theatriki-parastasi-ksenodocheio-ton-dyo-kosmon-tou-erik-emanouel-smit-apo-tin-erasitechniki-omada-theatrou-tou-anoiktou-scholeiou-dimou-strovolou/
LOCATION:Δημοτικό Θέατρο Στροβόλου\, Cyprus
CATEGORIES:Εκδηλώσεις Δήμου
GEO:35.143943;33.343228
END:VEVENT
BEGIN:VEVENT
DTSTART;VALUE=DATE:20220602
DTEND;VALUE=DATE:20220603
DTSTAMP:20260420T093819
CREATED:20220419T120313Z
LAST-MODIFIED:20220419T120313Z
UID:31097-1654128000-1654214399@www.strovolos.org.cy
SUMMARY:«Ο Μεγάλος Περίπατος του Πέτρου»\, του μυθιστορήματος της Άλκης Ζέη από τη Θεατρική Ομάδα «Αντι-Δρώντες»\, στο Δημ. Θέατρο Στροβόλου\, 2/6/22
DESCRIPTION:
URL:https://www.strovolos.org.cy/event/o-megalos-peripatos-tou-petrou-tou-mythistorimatos-tis-alkis-zei-apo-ti-theatriki-omada-anti-drontes-sto-dim-theatro-strovolou-2-6-22/
LOCATION:Δημοτικό Θέατρο Στροβόλου\, Cyprus
CATEGORIES:Εκδηλώσεις Δήμου
GEO:35.143943;33.343228
END:VEVENT
BEGIN:VEVENT
DTSTART;TZID=Europe/Athens:20220602T193000
DTEND;TZID=Europe/Athens:20220602T193000
DTSTAMP:20260420T093820
CREATED:20220531T114318Z
LAST-MODIFIED:20220531T114318Z
UID:32070-1654198200-1654198200@www.strovolos.org.cy
SUMMARY:Παρουσίαση βιβλίου «Τρεις γενιές σιωπής – Βερεγγάρια» της Γιόλας Δαμιανού Παπαδοπούλου\,  2/6/22
DESCRIPTION:
URL:https://www.strovolos.org.cy/event/parousiasi-vivliou-treis-genies-siopis-verengaria-tis-giolas-damianou-papadopoulou-2-6-22/
LOCATION:Πολιτιστικό Κέντρο Στροβόλου
CATEGORIES:Εκδηλώσεις Δήμου
GEO:35.150126;33.343012
END:VEVENT
BEGIN:VEVENT
DTSTART;TZID=Europe/Athens:20220607T183000
DTEND;TZID=Europe/Athens:20220607T183000
DTSTAMP:20260420T093820
CREATED:20220531T125647Z
LAST-MODIFIED:20220531T125647Z
UID:32096-1654626600-1654626600@www.strovolos.org.cy
SUMMARY:Εγκαίνια Έκθεσης «Χαράξεις και Σπηλαιοδημιουργίες»\, 7/6/22
DESCRIPTION:
URL:https://www.strovolos.org.cy/event/egkainia-ekthesis-charakseis-kai-spilaiodimiourgies-7-6-22/
LOCATION:Σπηλιές Πάρκου Ακροπόλεως
CATEGORIES:Εκδηλώσεις Δήμου
GEO:35.146432;33.362382
END:VEVENT
BEGIN:VEVENT
DTSTART;TZID=Europe/Athens:20220608T190000
DTEND;TZID=Europe/Athens:20220608T190000
DTSTAMP:20260420T093820
CREATED:20220531T113050Z
LAST-MODIFIED:20220531T113050Z
UID:32060-1654714800-1654714800@www.strovolos.org.cy
SUMMARY:Φιλανθρωπική Εκδήλωση “Fashion Philosophy”\, από τη Φιλόπτωχο Αδελφότητα Στροβόλου & τον Δήμο Στροβόλου\, 8/6/22
DESCRIPTION:Φιλόπτωχος Αδελφότητα  \nΣτροβόλου \n  \nΗ Φιλόπτωχος Αδελφότητα Στροβόλου\, σε συνεργασία με τον Δήμο Στροβόλου\, στην προσπάθειά τους να εξασφαλίσουν τους απαραίτητους πόρους για τις ανάγκες των αναξιοπαθούντων συνανθρώπων μας\, διοργανώνει Φιλανθρωπική Εκδήλωση που θα περιλαμβάνει απογευματινό κοκτέιλ και επίδειξη μόδας του Παγκοσμίου Βραβευμένου οίκου κοσμημάτων NATC Jewels By Natasa Christodoulou και του καταστήματος She Boutique\, Complice\, Andelo Boutique & Camel Active. Guest Designer η Αφροδίτη Χατζηρακλέους. \nΌπως είχε ανακοινωθεί\, η  εκδήλωση\, τελεί υπό την αιγίδα της Υπουργού Εργασίας και Κοινωνικών Ασφαλείας Ζέτας Αιμιλιανίδου και του Δημάρχου Στροβόλου\, κ Ανδρέα Παπαχαραλάμπους και θα φιλοξενηθεί στο Πολιτιστικό Κέντρο Στροβόλου\, την Τετάρτη\, 8 Ιουνίου 2022 και ώρα 7:00μ.μ. \nΣτην προσπάθεια υποστήριξης του έργου της Αδελφότητας θα συμμετέχουν στην επίδειξη μόδας αφιλοκερδώς γνωστά πρόσωπα της τηλεόρασης\, ηθοποιοί\, μοντέλα με επίτιμη προσκεκλημένη τη διακεκριμένη σχεδιάστρια Μύριαμ Γεροκώστα. \nΠαρουσιάζουν η Γιώτα Κουφαλίδου και ο Ανδρέας Φαλάς. \nΥποστηρικτές: \n \nΧορηγοί επικοινωνίας: \n \nΑπό τη Φιλόπτωχο Αδελφότητα Στροβόλου και τον Δήμο Στροβόλου \n31/5/22
URL:https://www.strovolos.org.cy/event/filanthropiki-ekdilosi-fashion-philosophy-apo-ti-filoptocho-adelfotita-strovolou-ton-dimo-strovolou-8-6-22/
LOCATION:Πολιτιστικό Κέντρο Στροβόλου
CATEGORIES:Εκδηλώσεις Δήμου
GEO:35.150126;33.343012
END:VEVENT
BEGIN:VEVENT
DTSTART;TZID=Europe/Athens:20220609T183000
DTEND;TZID=Europe/Athens:20220609T183000
DTSTAMP:20260420T093820
CREATED:20220603T075013Z
LAST-MODIFIED:20220603T075013Z
UID:32197-1654799400-1654799400@www.strovolos.org.cy
SUMMARY:Παρουσίαση βιβλίου δρα Σάββα Τρίχα «Ξεκίνα Χτες»\, στο Πολιτιστικό Κέντρο Στροβόλου\, 9/6/22
DESCRIPTION:
URL:https://www.strovolos.org.cy/event/parousiasi-vivliou-dra-savva-tricha-ksekina-chtes-sto-politistiko-kentro-strovolou-9-6-22/
LOCATION:Δημαρχείο Στροβόλου
CATEGORIES:Εκδηλώσεις Δήμου
GEO:35.144048;33.343646
END:VEVENT
BEGIN:VEVENT
DTSTART;TZID=Europe/Athens:20220610T100000
DTEND;TZID=Europe/Athens:20220610T130000
DTSTAMP:20260420T093820
CREATED:20220603T080350Z
LAST-MODIFIED:20220603T080350Z
UID:32201-1654855200-1654866000@www.strovolos.org.cy
SUMMARY:Επιστήμη και πολίτες: Ενεργοί πολίτες στη διεξαγωγή\, παραγωγή και αξιοποίηση της έρευνας\, 10/6/22
DESCRIPTION:Το Πανεπιστήμιο Κύπρου σε συνεργασία με τον Δήμο Στροβόλου διοργανώνει την εκδήλωση Επιστήμη και πολίτες: Ενεργοί πολίτες στη διεξαγωγή\, παραγωγή και αξιοποίηση της έρευνας\, την Παρασκευή 10/6/22 από τις 10:00π.μ. – 1:00μ.μ. στο Κέντρο Πληροφόρησης – Βιβλιοθήκη «Στέλιος Ιωάννου» (Βιβλιοθήκη του Πανεπιστημίου Κύπρου). Θα απευθύνει χαιρετισμό ο Δήμαρχος Στροβόλου κ. Ανδρέας Παπαχαλάμπους και θα παρουσίαστεί το Προγράμμα «Περί Στροβόλου» από την κ. Μαρία Βρυωνίδου.
URL:https://www.strovolos.org.cy/event/epistimi-kai-polites-energoi-polites-sti-dieksagogi-paragogi-kai-aksiopoiisi-tis-erevnas-10-6-22/
LOCATION:Βιβλιοθήκη Στέλιου Ιωάννου -Πανεπιστήμιου Κύπρου
CATEGORIES:Εκδηλώσεις Δήμου
GEO:35.144037;33.410757
END:VEVENT
BEGIN:VEVENT
DTSTART;TZID=Europe/Athens:20220610T193000
DTEND;TZID=Europe/Athens:20220610T193000
DTSTAMP:20260420T093820
CREATED:20220606T121657Z
LAST-MODIFIED:20220606T121657Z
UID:32262-1654889400-1654889400@www.strovolos.org.cy
SUMMARY:Παρουσίαση του βιβλίου «Η σφραγίδα της Λένας Μαντά»\, 10/6/22
DESCRIPTION:
URL:https://www.strovolos.org.cy/event/parousiasi-tou-vivliou-i-sfragida-tis-lenas-manta-10-6-22/
LOCATION:Πολιτιστικό Κέντρο Στροβόλου
CATEGORIES:Εκδηλώσεις Δήμου
GEO:35.150126;33.343012
END:VEVENT
BEGIN:VEVENT
DTSTART;TZID=Europe/Athens:20220614T000000
DTEND;TZID=Europe/Athens:20220614T000000
DTSTAMP:20260420T093820
CREATED:20220610T130351Z
LAST-MODIFIED:20220610T130351Z
UID:32374-1655164800-1655164800@www.strovolos.org.cy
SUMMARY:Συναυλία του μουσικού σχήματος “POR AMOR AL ARTE”\,  με μουσική από κινηματογραφικές ταινίες\, 14/6/22
DESCRIPTION:Ο Δήμαρχος \nκαι το Δημοτικό Συμβούλιο Στροβόλου \nσας προσκαλούν στη συναυλία του μουσικού σχήματος \n“POR AMOR AL ARTE” \nμε μουσική από κινηματογραφικές ταινίες \nτην Τρίτη\, 14 Ιουνίου 2022 και ώρα 20:00 \nστο φουαγιέ του Δημοτικού Μεγάρου Στροβόλου. \n\nΣυμμετέχουν  \nΣτέλιος Ναθαναήλ\, Ανδρέας Λιμνιώτης (α’ βιολιά) \nΦίλιππος Νικολαΐδης\, Στέφανος Χριστοδούλου (β’ βιολιά) \nΚούλης Λιμνιώτης\, Νικόλας Μακρίδης (βιόλα) \nΑλέξια Γιάγκου (βιολοντσέλο) \nΧριστίνα Ιωαννίδου (φαγκότο) \n\nΕίσοδος ελεύθερη \nΓια πληροφορίες: 22 470470
URL:https://www.strovolos.org.cy/event/synavlia-tou-mousikou-schimatos-por-amor-al-arte-me-mousiki-apo-kinimatografikes-tainies-14-6-22/
LOCATION:Δημοτικό Μέγαρο Στροβόλου
CATEGORIES:Εκδηλώσεις Δήμου
GEO:35.144036;33.343467
END:VEVENT
BEGIN:VEVENT
DTSTART;TZID=Europe/Athens:20220617T200000
DTEND;TZID=Europe/Athens:20220617T200000
DTSTAMP:20260420T093820
CREATED:20220614T081412Z
LAST-MODIFIED:20220614T085349Z
UID:32398-1655496000-1655496000@www.strovolos.org.cy
SUMMARY:Συναυλία «Οι φωνές σμίγουν στο Πάρκο»\, στο πλαίσιο του θερινού μουσικού Φεστιβάλ του Δήμου Στροβόλου\, 17/6/22
DESCRIPTION:Για το αναλυτικό πρόγραμμα των θερινών συναυλιών πατήστε εδώ.
URL:https://www.strovolos.org.cy/event/synavlia-oi-fones-smigoun-sto-parko-sto-plaisio-tou-therinou-mousikou-festival-tou-dimou-strovolou-17-6-22/
LOCATION:Πάρκο Ακροπόλεως
CATEGORIES:Εκδηλώσεις Δήμου
GEO:35.146416;33.362124
END:VEVENT
BEGIN:VEVENT
DTSTART;TZID=Europe/Athens:20220622T190000
DTEND;TZID=Europe/Athens:20220622T190000
DTSTAMP:20260420T093820
CREATED:20220616T122532Z
LAST-MODIFIED:20220617T091439Z
UID:32521-1655924400-1655924400@www.strovolos.org.cy
SUMMARY:Φιλανθρωπική Εκδήλωση “Fashion Philosophy”\, από τη Φιλόπτωχο Αδελφότητα Στροβόλου & τον Δήμο Στροβόλου\, 22/6/22
DESCRIPTION:Η Φιλόπτωχος Αδελφότητα Στροβόλου\, σε συνεργασία με τον Δήμο Στροβόλου\, στην προσπάθειά τους να εξασφαλίσουν τους απαραίτητους πόρους για τις ανάγκες των αναξιοπαθούντων συνανθρώπων μας\, διοργανώνουν Φιλανθρωπική Εκδήλωση που θα περιλαμβάνει απογευματινό κοκτέιλ και επίδειξη μόδας του Παγκοσμίου Βραβευμένου οίκου κοσμημάτων NATC Jewels By Natasa Christodoulou και του καταστήματος She Boutique\, Complice\, Andelo Boutique & Camel Active. Guest Designer η Αφροδίτη Χατζηρακλέους. \nΗ εκδήλωση\, η οποία θα πραγματοποιηθεί την Τετάρτη 22 Ιουνίου και ώρα 19:00 στο Πολιτιστικό Κέντρο Στροβόλου\, είναι αφιερωμένη στη μνήμη της εκλιπούσας Υπουργού Εργασίας και Κοινωνικών Ασφαλίσεων Ζέτας Αιμιλιανίδου και τελεί υπό την αιγίδα του Δημάρχου Στροβόλου\, κ Ανδρέα Παπαχαραλάμπους. \nΣτην προσπάθεια υποστήριξης του έργου της Αδελφότητας θα συμμετέχουν στην επίδειξη μόδας αφιλοκερδώς γνωστά πρόσωπα της τηλεόρασης\, ηθοποιοί\, μοντέλα με επίτιμη προσκεκλημένη τη διακεκριμένη σχεδιάστρια Μύριαμ Γεροκώστα. \nΠαρουσιάζουν η Γιώτα Κουφαλίδου και ο Ανδρέας Φαλάς. \n  \nΥποστηρικτές: \n \nΧορηγοί επικοινωνίας: \n \nΑπό τη Φιλόπτωχο Αδελφότητα Στροβόλου και τον Δήμο Στροβόλου \n16/6/22
URL:https://www.strovolos.org.cy/event/filanthropiki-ekdilosi-fashion-philosophy-apo-ti-filoptocho-adelfotita-strovolou-ton-dimo-strovolou-22-6-22/
LOCATION:Πολιτιστικό Κέντρο Στροβόλου
CATEGORIES:Εκδηλώσεις Δήμου
GEO:35.150126;33.343012
END:VEVENT
BEGIN:VEVENT
DTSTART;TZID=Europe/Athens:20220622T203000
DTEND;TZID=Europe/Athens:20220622T203000
DTSTAMP:20260420T093820
CREATED:20220614T085840Z
LAST-MODIFIED:20220614T085840Z
UID:32412-1655929800-1655929800@www.strovolos.org.cy
SUMMARY:Αφιέρωμα στον Νίκο Γκάτσο «Πάει ο καιρός»\, στο πλαίσιο του θερινού μουσικού φεστιβάλ του Δήμου Στροβόλου\, 22/6/22
DESCRIPTION:Για το αναλυτικό πρόγραμμα των θερινών συναυλιών πατήστε εδώ.
URL:https://www.strovolos.org.cy/event/afieroma-ston-niko-gkatso-paei-o-kairos-sto-plaisio-tou-therinou-mousikou-festival-tou-dimou-strovolou-22-6-22/
LOCATION:Πάρκο Ακροπόλεως
CATEGORIES:Εκδηλώσεις Δήμου
GEO:35.146416;33.362124
END:VEVENT
BEGIN:VEVENT
DTSTART;TZID=Europe/Athens:20220623T193000
DTEND;TZID=Europe/Athens:20220623T193000
DTSTAMP:20260420T093820
CREATED:20220620T093624Z
LAST-MODIFIED:20220620T093624Z
UID:32611-1656012600-1656012600@www.strovolos.org.cy
SUMMARY:Συναυλία Ορχήστρας Εγχόρδων Δήμου Στροβόλου με την ευκαιρία της Παγκόσμιας Ημέρας Μουσικής\, 23/6/22
DESCRIPTION:ΠΡΟΣΚΛΗΣΗ \nΣυναυλία Ορχήστρας Εγχόρδων Δήμου Στροβόλου \nμε την ευκαιρία της Παγκόσμιας Ημέρας Μουσικής \n  \nΣυμμετέχει η Χορωδία «Μικροί Εθελοντές» Δήμου Στροβόλου \n  \nΠέμπτη 23 Ιουνίου και ώρα 19:30 \nΦουαγιέ Δημοτικού Μεγάρου Στροβόλου \nΔιεύθυνση Ορχήστρας Εγχόρδων: Κούλης Λιμνιώτης \nΔιεύθυνση Χορωδίας: Κλεοπάτρα Χαραλάμπους \nΕίσοδος ελεύθερη \nΓια πληροφορίες: 22 470470
URL:https://www.strovolos.org.cy/event/synavlia-orchistras-egchordon-dimou-strovolou-me-tin-efkairia-tis-pagkosmias-imeras-mousikis-23-6-22/
LOCATION:Δημοτικό Μέγαρο Στροβόλου
CATEGORIES:Εκδηλώσεις Δήμου
GEO:35.144036;33.343467
END:VEVENT
BEGIN:VEVENT
DTSTART;TZID=Europe/Athens:20220624T100000
DTEND;TZID=Europe/Athens:20220624T130000
DTSTAMP:20260420T093820
CREATED:20220617T090521Z
LAST-MODIFIED:20220617T090521Z
UID:32548-1656064800-1656075600@www.strovolos.org.cy
SUMMARY:Ημερίδα με θέμα «Επιστήμη και Πολίτες: ενεργοί πολίτες στη διεξαγωγή\, παραγωγή και αξιοποίηση της έρευνας» από τη Βιβλιοθήκη του Πανεπιστημίου Κύπρου και τη Δημοτική Βιβλιοθήκη Στροβόλου
DESCRIPTION: Η Βιβλιοθήκη Πανεπιστημίου Κύπρου\, σε συνεργασία με τη Βιβλιοθήκη του Δήμου Στροβόλου\, σας προσκαλούν σε ημερίδα που συνδιοργανώνουν με τίτλο: \n«Επιστήμη και Πολίτες: ενεργοί πολίτες στη διεξαγωγή\, παραγωγή και αξιοποίηση της έρευνας».\nΗ ημερίδα θα πραγματοποιηθεί την Παρασκευή 24 Ιουνίου 2022\, ώρα 10:00 – 13:00 στο «Κέντρο Πληροφόρησης – Βιβλιοθήκη Στέλιος Ιωάννου» ( αμφιθέατρο LRC 012).
URL:https://www.strovolos.org.cy/event/imerida-me-thema-epistimi-kai-polites-energoi-polites-sti-dieksagogi-paragogi-kai-aksiopoiisi-tis-erevnas-apo-ti-vivliothiki-tou-panepistimiou-kyprou-kai-ti-dimotiki-vivliothiki-strovolou/
LOCATION:Βιβλιοθήκη Στέλιου Ιωάννου -Πανεπιστήμιου Κύπρου
CATEGORIES:Εκδηλώσεις Δήμου
GEO:35.144037;33.410757
END:VEVENT
BEGIN:VEVENT
DTSTART;TZID=Europe/Athens:20220628T193000
DTEND;TZID=Europe/Athens:20220628T193000
DTSTAMP:20260420T093820
CREATED:20220614T092025Z
LAST-MODIFIED:20220622T111439Z
UID:32417-1656444600-1656444600@www.strovolos.org.cy
SUMMARY:Συναυλία «Ζητάτε να σας πω… Απ’ το Παρίσι στην Παλιά Αθήνα»\, με τη Βανέσσα Μεγαλέμου & τον Βασίλη Βουρβόπουλο\, 28/6/22
DESCRIPTION:Για το αναλυτικό πρόγραμμα των θερινών συναυλιών πατήστε εδώ.
URL:https://www.strovolos.org.cy/event/synavlia-zitate-na-sas-po-ap-to-parisi-stin-palia-athina-me-ti-vanessa-megalemou-ton-vasili-vourvopoulo-28-6-22/
LOCATION:Πολιτιστικό Κέντρο Στροβόλου
CATEGORIES:Εκδηλώσεις Δήμου
GEO:35.150126;33.343012
END:VEVENT
BEGIN:VEVENT
DTSTART;TZID=Europe/Athens:20220629T193000
DTEND;TZID=Europe/Athens:20220629T193000
DTSTAMP:20260420T093820
CREATED:20220620T094451Z
LAST-MODIFIED:20220620T094451Z
UID:32618-1656531000-1656531000@www.strovolos.org.cy
SUMMARY:Παρουσίαση βιβλίου «Κατακαλόκαιρο»\, της Ευαγγελίας Χαραλάμπους\, 29/6/22
DESCRIPTION:
URL:https://www.strovolos.org.cy/event/parousiasi-vivliou-katakalokairo-tis-evangelias-charalampous-29-6-22/
LOCATION:Πολιτιστικό Κέντρο Στροβόλου
CATEGORIES:Εκδηλώσεις Δήμου
GEO:35.150126;33.343012
END:VEVENT
BEGIN:VEVENT
DTSTART;TZID=Europe/Athens:20220701T190000
DTEND;TZID=Europe/Athens:20220701T190000
DTSTAMP:20260420T093820
CREATED:20220621T133052Z
LAST-MODIFIED:20220621T133052Z
UID:32667-1656702000-1656702000@www.strovolos.org.cy
SUMMARY:«Τραγουδώ» για έναν σκοπό»\, Συναυλία με τη Χορωδία «Μικροί Εθελοντές» Δήμου Στροβόλου και τη μουσική σχολή Music Moments\, 1/7/22
DESCRIPTION:
URL:https://www.strovolos.org.cy/event/tragoudo-gia-enan-skopo-synavlia-me-ti-chorodia-mikroi-ethelontes-dimou-strovolou-kai-ti-mousiki-scholi-music-moments-1-7-22/
LOCATION:Πολιτιστικό Κέντρο Στροβόλου
CATEGORIES:Εκδηλώσεις Δήμου
GEO:35.150126;33.343012
END:VEVENT
BEGIN:VEVENT
DTSTART;TZID=Europe/Athens:20220705T190000
DTEND;TZID=Europe/Athens:20220705T190000
DTSTAMP:20260420T093820
CREATED:20220621T132439Z
LAST-MODIFIED:20220621T132439Z
UID:32662-1657047600-1657047600@www.strovolos.org.cy
SUMMARY:Συναυλία με τη Συμφωνική Μπάντα Δήμου Στροβόλου – Ευρωπαϊκού Πανεπιστημίου Κύπρου\, 5/7/22
DESCRIPTION:
URL:https://www.strovolos.org.cy/event/synavlia-me-ti-symfoniki-mpanta-dimou-strovolou-evropaikou-panepistimiou-kyprou-5-7-22/
LOCATION:Πολιτιστικό Κέντρο Στροβόλου
CATEGORIES:Εκδηλώσεις Δήμου
GEO:35.150126;33.343012
END:VEVENT
BEGIN:VEVENT
DTSTART;TZID=Europe/Athens:20220708T203000
DTEND;TZID=Europe/Athens:20220708T203000
DTSTAMP:20260420T093820
CREATED:20220614T092318Z
LAST-MODIFIED:20220614T092318Z
UID:32427-1657312200-1657312200@www.strovolos.org.cy
SUMMARY:Οι «Παπιγιόν Band» έρχονται στο Πάρκο Ακρόπολης\, στο πλαίσιο του θερινού μουσικού φεστιβάλ του Δήμου Στροβόλου\, 8/7/22
DESCRIPTION:Για το αναλυτικό πρόγραμμα των θερινών συναυλιών πατήστε εδώ.
URL:https://www.strovolos.org.cy/event/oi-papigion-band-erchontai-sto-parko-akropolis-sto-plaisio-tou-therinou-mousikou-festival-tou-dimou-strovolou-8-7-22/
LOCATION:Πάρκο Ακροπόλεως
CATEGORIES:Εκδηλώσεις Δήμου
GEO:35.146416;33.362124
END:VEVENT
BEGIN:VEVENT
DTSTART;TZID=Europe/Athens:20220906T200000
DTEND;TZID=Europe/Athens:20220906T200000
DTSTAMP:20260420T093820
CREATED:20220905T171843Z
LAST-MODIFIED:20220906T065503Z
UID:34710-1662494400-1662494400@www.strovolos.org.cy
SUMMARY:Μουσική βραδιά στον προσφυγικό οικισμό Κόκκινες - προαύλιο της εκκλησίας Απ. Λουκά\, 6/9/22
DESCRIPTION:
URL:https://www.strovolos.org.cy/event/mousiki-vradia-ston-prosfygiko-oikismo-kokkines-proavlio-tis-ekklisias-ap-louka-6-9-22/
LOCATION:Ι.Ν. Αποστόλου Λουκά Προσφυγικό Οικισμό «Κόκκινες\, Κύπρος
CATEGORIES:Εκδηλώσεις Δήμου
GEO:35.125241;33.331044
END:VEVENT
BEGIN:VEVENT
DTSTART;TZID=Europe/Athens:20220908T080000
DTEND;TZID=Europe/Athens:20220908T080000
DTSTAMP:20260420T093820
CREATED:20220825T095304Z
LAST-MODIFIED:20220825T095304Z
UID:34465-1662624000-1662624000@www.strovolos.org.cy
SUMMARY:Τιμητική εκδήλωση για τον χαράκτη Χαμπή Τσαγγάρη με την ευκαιρία της έκδοσης του δίτομου έργου του "Χαμπής ο Χαράκτης"\, 8/9/22
DESCRIPTION:
URL:https://www.strovolos.org.cy/event/timitiki-ekdilosi-gia-ton-charakti-champi-tsangari-me-tin-efkairia-tis-ekdosis-tou-ditomou-ergou-tou-champis-o-charaktis-8-9-22/
LOCATION:Πολιτιστικό Κέντρο Στροβόλου
CATEGORIES:Εκδηλώσεις Δήμου
GEO:35.150126;33.343012
END:VEVENT
BEGIN:VEVENT
DTSTART;TZID=Europe/Athens:20220909T190000
DTEND;TZID=Europe/Athens:20220909T190000
DTSTAMP:20260420T093820
CREATED:20220901T130431Z
LAST-MODIFIED:20220901T130431Z
UID:34644-1662750000-1662750000@www.strovolos.org.cy
SUMMARY:Εγκαίνια Έκθεσης «Η κουλτούρα του κουβανέζικου tobacco»\, σε συνεργασία με την Πρεσβεία της Κούβας\,  9/9/22
DESCRIPTION:
URL:https://www.strovolos.org.cy/event/egkainia-ekthesis-i-koultoura-tou-kouvanezikou-tobacco-se-synergasia-me-tin-presveia-tis-kouvas-9-9-22/
LOCATION:Πολιτιστικό Κέντρο Στροβόλου
CATEGORIES:Εκδηλώσεις Δήμου
GEO:35.150126;33.343012
END:VEVENT
BEGIN:VEVENT
DTSTART;TZID=Europe/Athens:20220911T183000
DTEND;TZID=Europe/Athens:20220911T183000
DTSTAMP:20260420T093820
CREATED:20220802T112638Z
LAST-MODIFIED:20220906T131107Z
UID:33741-1662921000-1662921000@www.strovolos.org.cy
SUMMARY:Εγκαίνια Μουσείου Εθνομάρτυρα Αρχιεπισκόπου Κύπρου Κυπριανού\, 11/9/22 και ώρα 18:30\, έναντι Ι.Ν. Παναγίας Χρυσελεούσας
DESCRIPTION:Η Ιερά Αρχιεπισκοπή Κύπρου και ο Δήμος Στροβόλου είναι στην ευχάριστη θέση να ανακοινώσουν ότι την Κυριακή 11 Σεπτεμβρίου 2022 στις 18:30 μ.μ. θα ανοίξει τις πύλες του για το κοινό\, για πρώτη φορά το Μουσείο Εθνομάρτυρα Αρχιεπισκόπου Κυπριανού\, έναντι του Ι.Ν. της Παναγίας Χρυσελεούσας στον ιστορικό πυρήνα Στροβόλου. \nΣτο Μουσείο φιλοξενούνται εκθέματα που αποτελούν αναπόσπαστο κομμάτι της ιστορίας του Στροβόλου και της μνήμης των κατοίκων του\, οι οποίοι τα διαφύλαξαν δια μέσου των αιώνων. Στο Μουσείο εκτός από ευάριθμα\, αλλά σημαντικά διασωθέντα κειμήλια που σχετίζονται με τον Αρχιεπίσκοπο Κυπριανό\, εκτίθεται σημαντικός αριθμός αντικειμένων\, τα οποία προέρχονται από τις ιστορικές εκκλησίες του Στροβόλου\, την Παναγία Χρυσελεούσα και τον Άγιο Γεώργιο. \nΠαράλληλα\, ανάμεσα στα εκθέματα ξεχωρίζουν ο πίνακας του Ιωάννη Κισσονέργη «Η Θεοτόκος Ελεούσα Στροβόλου» (1949) και το χειρόγραφο «Βραβείον ζώντων και τεθνεώτων ορθοδόξων χριστιανών» του Στροβόλου (1792)\, στο οποίο αναγράφονται από τον ιερομόναχο Θεοφάνη τα ονόματα των οικογενειών του Στροβόλου\, μεταξύ αυτών και της οικογένειας του αρχιεπισκόπου Κυπριανού. \n  \n \nΑΠΟ ΤΟΝ ΔΗΜΟ ΣΤΡΟΒΟΛΟΥ \n6 Σεπτεμβρίου 2022
URL:https://www.strovolos.org.cy/event/egkainia-mouseiou-ethnomartyra-archiepiskopou-kyprou-kyprianou-11-9-22-kai-ora-1830-enanti-i-n-panagias-chryseleousas/
LOCATION:Ιερός Ναός Παναγιάς Χρυσελεούσας
CATEGORIES:Εκδηλώσεις Δήμου
GEO:35.146334;33.340482
END:VEVENT
END:VCALENDAR