BEGIN:VCALENDAR
VERSION:2.0
PRODID:-//Strovolos Municipality - ECPv6.15.20//NONSGML v1.0//EN
CALSCALE:GREGORIAN
METHOD:PUBLISH
X-WR-CALNAME:Strovolos Municipality
X-ORIGINAL-URL:https://www.strovolos.org.cy
X-WR-CALDESC:Events for Strovolos Municipality
REFRESH-INTERVAL;VALUE=DURATION:PT1H
X-Robots-Tag:noindex
X-PUBLISHED-TTL:PT1H
BEGIN:VTIMEZONE
TZID:Europe/Athens
BEGIN:DAYLIGHT
TZOFFSETFROM:+0200
TZOFFSETTO:+0300
TZNAME:EEST
DTSTART:20220327T010000
END:DAYLIGHT
BEGIN:STANDARD
TZOFFSETFROM:+0300
TZOFFSETTO:+0200
TZNAME:EET
DTSTART:20221030T010000
END:STANDARD
BEGIN:DAYLIGHT
TZOFFSETFROM:+0200
TZOFFSETTO:+0300
TZNAME:EEST
DTSTART:20230326T010000
END:DAYLIGHT
BEGIN:STANDARD
TZOFFSETFROM:+0300
TZOFFSETTO:+0200
TZNAME:EET
DTSTART:20231029T010000
END:STANDARD
BEGIN:DAYLIGHT
TZOFFSETFROM:+0200
TZOFFSETTO:+0300
TZNAME:EEST
DTSTART:20240331T010000
END:DAYLIGHT
BEGIN:STANDARD
TZOFFSETFROM:+0300
TZOFFSETTO:+0200
TZNAME:EET
DTSTART:20241027T010000
END:STANDARD
END:VTIMEZONE
BEGIN:VEVENT
DTSTART;TZID=Europe/Athens:20230519T191500
DTEND;TZID=Europe/Athens:20230519T191500
DTSTAMP:20260419T200458
CREATED:20230503T115433Z
LAST-MODIFIED:20230503T120023Z
UID:44808-1684523700-1684523700@www.strovolos.org.cy
SUMMARY:Τελική γιορτή νηπιαγωγείου «Χαρούμενα Παιδάκια»\, 19/5/23
DESCRIPTION:Το Νηπιαγωγείο «Χαρούμενα Παιδάκια» παρουσιάζει την τελική γιορτή του νηπιαγωγείου
URL:https://www.strovolos.org.cy/event/teliki-giorti-nipiagogeiou-charoumena-paidakia-19-5-23/
LOCATION:Δημοτικό Θέατρο Στροβόλου\, Cyprus
CATEGORIES:Εκδηλώσεις στο Δημοτικό Θέατρο
GEO:35.143943;33.343228
END:VEVENT
END:VCALENDAR