BEGIN:VCALENDAR
VERSION:2.0
PRODID:-//Strovolos Municipality - ECPv6.15.20//NONSGML v1.0//EN
CALSCALE:GREGORIAN
METHOD:PUBLISH
X-ORIGINAL-URL:https://www.strovolos.org.cy
X-WR-CALDESC:Events for Strovolos Municipality
REFRESH-INTERVAL;VALUE=DURATION:PT1H
X-Robots-Tag:noindex
X-PUBLISHED-TTL:PT1H
BEGIN:VTIMEZONE
TZID:Europe/Athens
BEGIN:DAYLIGHT
TZOFFSETFROM:+0200
TZOFFSETTO:+0300
TZNAME:EEST
DTSTART:20220327T010000
END:DAYLIGHT
BEGIN:STANDARD
TZOFFSETFROM:+0300
TZOFFSETTO:+0200
TZNAME:EET
DTSTART:20221030T010000
END:STANDARD
BEGIN:DAYLIGHT
TZOFFSETFROM:+0200
TZOFFSETTO:+0300
TZNAME:EEST
DTSTART:20230326T010000
END:DAYLIGHT
BEGIN:STANDARD
TZOFFSETFROM:+0300
TZOFFSETTO:+0200
TZNAME:EET
DTSTART:20231029T010000
END:STANDARD
BEGIN:DAYLIGHT
TZOFFSETFROM:+0200
TZOFFSETTO:+0300
TZNAME:EEST
DTSTART:20240331T010000
END:DAYLIGHT
BEGIN:STANDARD
TZOFFSETFROM:+0300
TZOFFSETTO:+0200
TZNAME:EET
DTSTART:20241027T010000
END:STANDARD
END:VTIMEZONE
BEGIN:VEVENT
DTSTART;TZID=Europe/Athens:20230520T160000
DTEND;TZID=Europe/Athens:20230520T160000
DTSTAMP:20260419T200707
CREATED:20230503T093116Z
LAST-MODIFIED:20230503T093321Z
UID:44732-1684598400-1684598400@www.strovolos.org.cy
SUMMARY:Παιδική Παράσταση «Ο ψεύτης βοσκός»\, 20/5/23
DESCRIPTION:Η παιδική σκηνή του θεάτρου Coronet παρουσιάζει τη παιδική παράσταση «Ο ψεύτης βοσκός»\, ο αγαπημένος μύθος του Αισώπου σε διασκευή Ειρήνης Σταματίου και σκηνοθεσία της ιδίας και του Μπάμπη Κλαλιώτη. Η παράσταση Θα πραγματοποιηθεί το Σάββατο 20/5/23 και ώρα 4:00μ.μ. στο Δημοτικό Θέατρο Στροβόλου. \nΟ Αίσωπος\, ο πιο γνωστός μυθοποιός της αρχαιότητας\, διαχρονικός μέχρι σήμερα\, μέσα από τις ιστορίες του αφηγείται διδάγματα ζωής με φόντο τις ανθρώπινες αξίες. Η προφορικότητα των μύθων του διατηρεί τη ζωντάνια του λόγου του\, αφήνοντας αμείωτο το ενδιαφέρον των θεατών μέσα στους αιώνες. \nΉρωες πραγματικοί και φανταστικοί\, τραγουδούν\, χορεύουν\, παίζουν μουσική και αναβιώνουν τον υπέροχο μύθο του Αισώπου\, που λάτρεψαν μικροί και μεγάλοι. \nΗ βοσκοπούλα με την όμορφη φωνή και το γάργαρο γέλιο\, η φουρνάρισσα με τις λαχταριστές μελένιες πίτες\, ο τσαγκάρης\,  ο αυστηρός και.. λίγο λαίμαργος Δήμαρχος εμφανίζονται επί σκηνής για να μας διηγηθούν την ιστορία τους και πρώτος απ’ όλους ο μικρός ψεύτης βοσκός! \nΟ σκανταλιάρης βοσκός βαριέται και σκαρώνει μια σειρά από φάρσες εις βάρος των συγχωριανών του.  Κι ενώ στην αρχή όλα πάνε όπως επιθυμεί\, πού τον οδηγούν οι φάρσες του; \nΜε πολύ γέλιο\, χορό\, τραγούδι και ζωντανή μουσική\, μικροί και μεγάλοι διασκεδάζουν συμμετέχοντας στα παθήματα του ήρωα παίρνοντας σπουδαία μαθήματα ζωής. \n  \nΣυντελεστές: \nΘεατρική διασκευή: Ειρήνη Σταματίου \nΣκηνοθεσία: Μπάμπης Κλαλιώτης\, Ειρήνη Σταματίου \nΣκηνικά-Κοστούμια: Μάγδα Καλέμη \nΜουσική: Αλίκη Ζωγράφου \nΚινησιολογία: Φιλίππα Κουτούπα \nΦωτισμοί: Μπάμπης Κλαλιώτης \nΔημόσιες σχέσεις – Επικοινωνία: Ράνια Παπαδοπούλου \nΠαραγωγή: Ερωφίλη ΑΜΚΕ \n  \nΕρμηνεύουν οι: \nΑλίκη Ζωγράφου\, Παναγιώτης Δαβιδόπουλος\, Φιλίππα Κουτούπα\, Κώστας Πασπάλης \n  \nΗ ταυτότητα της παράστασης \n«Ο ψεύτης βοσκός»  \nΜύθος του Αισώπου \nΓια παιδιά ηλικίας 4-12 ετών \nΔιάρκεια: 70’  \n  \nΣάββατο 20 Μαΐου 2023 | Δημοτικό Θέατρο Στροβόλου | 4.00μ.μ.  \nΕισιτήρια: soldouttickets
URL:https://www.strovolos.org.cy/event/paidiki-parastasi-o-pseftis-voskos-20-5-23/
LOCATION:Δημοτικό Θέατρο Στροβόλου\, Cyprus
CATEGORIES:Εκδηλώσεις στο Δημοτικό Θέατρο
GEO:35.143943;33.343228
END:VEVENT
BEGIN:VEVENT
DTSTART;TZID=Europe/Athens:20230520T203000
DTEND;TZID=Europe/Athens:20230520T203000
DTSTAMP:20260419T200707
CREATED:20230502T120957Z
LAST-MODIFIED:20230502T121955Z
UID:44607-1684614600-1684614600@www.strovolos.org.cy
SUMMARY:«Η πόρνη από πάνω» του Αντώνη Τσιπιανίτη\, 20/5/23
DESCRIPTION:ΔΕΛΤΙΟ ΤΥΠΟΥ\n«Η πόρνη από πάνω»\n12 χρόνια συνεχούς επιτυχίας  \nΤο αριστούργημα του Αντώνη Τσιπιανίτη\nμε την Κατερίνα Διδασκάλου\nπου απέσπασε το θερμό χειροκρότημα κοινού και κριτικών\nπεριοδεύει στην Κύπρο!  \nΣκηνοθεσία: Σταμάτης Πατρώνης\nΠαραγωγή: Ερωφίλη ΑΜΚΕ \n  \nΜετά από 12 ΧΡΟΝΙΑ  συνεχούς παρουσίας στο Ελληνικό θέατρο\, που έχει αποσπάσει τις καλύτερες κριτικές\, έρχεται στο Δημοτικό Θέατρο Στροβόλου το Σάββατο 20 Μαΐου στο Δημοτικό Θέατρο Στροβόλου. Ώρα έναρξης της παράστασης: 20:30. \n«Η πόρνη από πάνω»\, το αριστούργημα του Αντώνη Τσιπιανίτη σε σκηνοθεσία Σταμάτη Πατρώνη με την Κατερίνα Διδασκάλου περιοδεύει σε επιλεγμένους σταθμούς στην Ελλάδα και στην Κύπρο! \nΗ Κατερίνα Διδασκάλου επιστρέφει για δωδέκατη χρονιά με το συγκλονιστικό μονόλογο\, που απέσπασε το θερμό χειροκρότημα κοινού και κριτικών. \nΗ προδοσία\, η απόρριψη\, η βαναυσότητα εναντίον των γυναικών και ταυτόχρονα ο έρωτας\, η δύναμη που βρίσκει κανείς μέσα του ακόμη και στις δυσκολίες και  η επιδίωξη για την χαρά της ζωής ξετυλίγονται συναρπαστικά μέσα από την αφήγηση της Ερατούς\, μιας γυναίκας που μέσα από τον δύσκολο γάμο της έχασε πολλά\, κέρδισε όμως τον εαυτό της. \nΗ Κατερίνα Διδασκάλου\, αναπολώντας τη ζωή της Ερατούς\, πλημμυρίζει κυριολεκτικά τη σκηνή\, υποδυόμενη ταυτόχρονα με απίστευτη ευκολία όλους τους χαρακτήρες που έπαιξαν ρόλο στη ζωή της ηρωίδας. ‘Ένα μοναδικό ρεσιτάλ ερμηνείας που μας ταξιδεύει για 90 λεπτά από το γέλιο στη συγκίνηση\, παραμένοντας κάθε στιγμή στην πραγματικότητα για να οδηγήσει σε ένα τέλος έκπληξη. \nΗ υπόθεση του έργου \nΗ Ερατώ -η νοικοκυρά από κάτω- μιλάει για τον έρωτα\, την απόρριψη\, την προδοσία\, τη βαναυσότητα σε βάρος των γυναικών\, τους διεφθαρμένους δημόσιους λειτουργούς\, την έλλειψη αυτοεκτίμησης. Με υπομονή και στωικότητα ζει στο περιθώριο\, μέχρι την ημέρα που στο από πάνω διαμέρισμα μετακομίζει μια πόρνη. Και τότε….. ‘’ \nΗ ταυτότητα της παράστασης \n«Η πόρνη από πάνω» \nΜονόλογος\nΔιάρκεια: 90΄ \n  \nΣυντελεστές \nΚείμενο: Αντώνης Τσιπιανίτης\nΣκηνοθεσία: Σταμάτης Πατρώνης\nΦωτισμοί: Σεμίνα Παπαλεξανδροπούλου\nΚαλλιτεχνική επιμέλεια: Μηνάς Μινατσής\nΚοστούμια: Δημήτρης Ανδριανός\nΜουσική επιμέλεια: Μιχάλης Ρουμπής\, Ιωάννης-Ιόλαος Μανιάτης\nΒοηθός σκηνοθέτη: Μιχάλης Ρουμπής\nΦωτογράφιση αφίσας: Κωστής Λίερος\nΟργάνωση περιοδείας: Αλέξανδρος Πιτόσογλου\nΠαραγωγή: Ερωφίλη ΑΜΚΕ \n  \nΔημοτικό Θέατρο Στροβόλου   |   Σάββατο 20/5/23   |   20:30  \nΕισιτήρια soldouttickets εδώ
URL:https://www.strovolos.org.cy/event/i-porni-apo-pano-tou-antoni-tsipianiti-20-5-23/
LOCATION:Δημοτικό Θέατρο Στροβόλου\, Cyprus
CATEGORIES:Εκδηλώσεις στο Δημοτικό Θέατρο
GEO:35.143943;33.343228
END:VEVENT
END:VCALENDAR