BEGIN:VCALENDAR
VERSION:2.0
PRODID:-//Strovolos Municipality - ECPv6.15.20//NONSGML v1.0//EN
CALSCALE:GREGORIAN
METHOD:PUBLISH
X-WR-CALNAME:Strovolos Municipality
X-ORIGINAL-URL:https://www.strovolos.org.cy
X-WR-CALDESC:Events for Strovolos Municipality
REFRESH-INTERVAL;VALUE=DURATION:PT1H
X-Robots-Tag:noindex
X-PUBLISHED-TTL:PT1H
BEGIN:VTIMEZONE
TZID:Europe/Athens
BEGIN:DAYLIGHT
TZOFFSETFROM:+0200
TZOFFSETTO:+0300
TZNAME:EEST
DTSTART:20220327T010000
END:DAYLIGHT
BEGIN:STANDARD
TZOFFSETFROM:+0300
TZOFFSETTO:+0200
TZNAME:EET
DTSTART:20221030T010000
END:STANDARD
BEGIN:DAYLIGHT
TZOFFSETFROM:+0200
TZOFFSETTO:+0300
TZNAME:EEST
DTSTART:20230326T010000
END:DAYLIGHT
BEGIN:STANDARD
TZOFFSETFROM:+0300
TZOFFSETTO:+0200
TZNAME:EET
DTSTART:20231029T010000
END:STANDARD
BEGIN:DAYLIGHT
TZOFFSETFROM:+0200
TZOFFSETTO:+0300
TZNAME:EEST
DTSTART:20240331T010000
END:DAYLIGHT
BEGIN:STANDARD
TZOFFSETFROM:+0300
TZOFFSETTO:+0200
TZNAME:EET
DTSTART:20241027T010000
END:STANDARD
END:VTIMEZONE
BEGIN:VEVENT
DTSTART;TZID=Europe/Athens:20230612T203000
DTEND;TZID=Europe/Athens:20230612T203000
DTSTAMP:20260420T063342
CREATED:20230602T114517Z
LAST-MODIFIED:20230609T111928Z
UID:45762-1686601800-1686601800@www.strovolos.org.cy
SUMMARY:«Ο Επιθεωρητής» του Νικολάι Γκόγκολ – Θεατρική Ομάδα Ενηλίκων Αν. Σχολείου Δήμου Στροβόλου\, 12/6/23α
DESCRIPTION:Η Ερασιτεχνική Θεατρική Ομάδα Ενηλίκων\nτου Ανοικτού Σχολείου Δήμου Στροβόλου\nστα πλαίσια του 7ου  Φεστιβάλ Θεάτρου παρουσιάζει την παράσταση «Ο Επιθεωρητής» \nΕίσοδος Ελεύθερη
URL:https://www.strovolos.org.cy/event/o-epitheoritis-tou-nikolai-gkogkol-theatriki-omada-enilikon-an-scholeiou-dimou-strovolou-12-6-23a/
LOCATION:Δημοτικό Θέατρο Στροβόλου\, Cyprus
CATEGORIES:Εκδηλώσεις στο Δημοτικό Θέατρο
GEO:35.143943;33.343228
END:VEVENT
BEGIN:VEVENT
DTSTART;TZID=Europe/Athens:20230612T203000
DTEND;TZID=Europe/Athens:20230612T203000
DTSTAMP:20260420T063342
CREATED:20230504T092811Z
LAST-MODIFIED:20230504T120630Z
UID:44912-1686601800-1686601800@www.strovolos.org.cy
SUMMARY:«Ο Επιθεωρητής» του Νικολάι Γκόγκολ - Θεατρική Ομάδα Ενηλίκων Αν. Σχολείου Δήμου Στροβόλου\, 12/6/23 - Φεστιβάλ Θεάτρου Δ.Σ.
DESCRIPTION:Το 7ο Φεστιβάλ Θεάτρου του Δήμου Στροβόλoυ ολοκληρώνεται με τη παράσταση «Ο Επιθεωρητής» του Νικολάι Γκόγκολ σε σκηνοθεσία/διδασκαλία Νάσιας Κελεπέσιη\, με τη ερασιτεχνική θεατρική ομάδα ενηλίκων του Ανοικτού Σχολείου του Δήμου Στροβόλου\, τη Δευτέρα 12/6/23 και ώρα 20:30 στο Δημοτικό Θέατρο Στροβόλου. [Είσοδος ελεύθερη]  \nΠερίληψη Έργου  \nΤο κλασικό αριστούργημα του κορυφαίου Ρώσου δραματουργού Νικολάι Γκόγκολ\, ανεβάζει η θεατρική ομάδα ενηλίκων του Ανοικτού Σχολείου Δήμου Στροβόλου σε σκηνοθεσία και διδασκαλία της ηθοποιού\, θεατρολόγου Νάσια Κελεπέσιη. Είναι στην ουσία μια κωμωδία του Βορρά\, όπου η ιδιωτική ίντριγκα του Μένανδρου σμίγει με τη δημόσια κριτική του Αριστοφάνη. \nΣε μια επαρχιακή πόλη στα βάθη της Ρωσίας\, οι αρχές του τόπου νομίζουν από παρεξήγηση πως ο νεαρός Χλιεστακόφ είναι ο αναμενόμενος κρατικός Επιθεωρητής από την πρωτεύουσα. Όταν τον επισκέπτονται αρχίζουν να επιδίδονται σε ένα πρωτοφανές πανδαιμόνιο από κολακείες\, αλληλοκατηγορίες και αυτοεξευτελισμούς. Στην καλοκουρδισμένη αυτή φάρσα στηλιτεύευται η διαφθορά του λαού από την Εξουσία και δείχνεται πως\, όσο μεγαλώνει η κρατική απολυταρχία\, τόσο μικραίνει η συνείδηση του ανθρώπου. \nΣυντελεστές:  \nΣκηνοθεσία/ Διδασκαλία: Νάσια Κελεπέσιη\nΦωτισμοί/ Μουσική: Ορέστης Μίνος  \nΠαίζουν με σειρά εμφάνισης:  \nΈπαρχος: Ειρήνη Δικωμίτου\nΔικαστής – Άμμος Φεντόροβιτς: Μάρω Αγριδιώτου\nΕπόπτης Νοσοκομείων – Αρτέμι Φιλίποβιτς: Ζωή Παλταδώρου\nΕπόπτης Σχολείων – Λουχά Λόνχιτς: Βανέσσα Ταράση\nΕπόπτης Ταχυδρομείων – Ιβάν Κονσμίτς:  Αργυρώ Σταύρου\nΚτηματίας – Πιότρ Ιβάνοβιτς: Παναγιώτα Παπαμιχαήλ\nΥπηρέτης Σβιστούνοφ: Μαρία Ανδριανού\nΓυναίκα Έπαρχου –  Άννα Αντρέγιεβνα: Ευάγγελος Τσιγκρέλης\nΚόρη Έπαρχου – Μαρία Αντρέγιεβνα: Γιώργος Ακκίδης\nΟσήπ: Στέφανη Πέτσα\nΧλεστιακώφ: Φωτεινή Πολυκάρπου\nΥπηρέτης Ξενοδοχείου/ Έμπορος/ Γριά: Αλεξία Αντωνιάδου  \nΔΗΜΟΤΙΚΟ ΘΕΑΤΡΟ ΣΤΡΟΒΟΛΟΥ | ΕΙΣΟΔΟΣ ΕΛΕΥΘΕΡΗ   | 20:30
URL:https://www.strovolos.org.cy/event/o-epitheoritis-tou-nikolai-gkogkol-theatriki-omada-enilikon-an-scholeiou-dimou-strovolou-12-6-23-festival-theatrou-d-s/
LOCATION:Δημοτικό Θέατρο Στροβόλου\, Cyprus
CATEGORIES:Εκδηλώσεις στο Δημοτικό Θέατρο
GEO:35.143943;33.343228
END:VEVENT
BEGIN:VEVENT
DTSTART;TZID=Europe/Athens:20230613T183000
DTEND;TZID=Europe/Athens:20230613T183000
DTSTAMP:20260420T063342
CREATED:20230602T114551Z
LAST-MODIFIED:20230602T114551Z
UID:45763-1686681000-1686681000@www.strovolos.org.cy
SUMMARY:Τελική γιορτή νηπιαγωγείου «Nostri Amici»\, 13/6/23
DESCRIPTION:Το νηπιαγωγείο «Nostri Amici» παρουσιάζει\nτην τελική γιορτή του νηπιαγωγείου
URL:https://www.strovolos.org.cy/event/teliki-giorti-nipiagogeiou-nostri-amici-13-6-23/
LOCATION:Δημοτικό Θέατρο Στροβόλου\, Cyprus
CATEGORIES:Εκδηλώσεις στο Δημοτικό Θέατρο
GEO:35.143943;33.343228
END:VEVENT
BEGIN:VEVENT
DTSTART;TZID=Europe/Athens:20230614T180000
DTEND;TZID=Europe/Athens:20230614T180000
DTSTAMP:20260420T063342
CREATED:20230602T114622Z
LAST-MODIFIED:20230602T114622Z
UID:45764-1686765600-1686765600@www.strovolos.org.cy
SUMMARY:Τελική γιορτή  νηπιαγωγείου «Castello»\, 14/6/23
DESCRIPTION:Το νηπιαγωγείο «Castello» παρουσιάζει\nτην τελική γιορτή του νηπιαγωγείου
URL:https://www.strovolos.org.cy/event/teliki-giorti-nipiagogeiou-castello-14-6-23/
LOCATION:Δημοτικό Θέατρο Στροβόλου\, Cyprus
CATEGORIES:Εκδηλώσεις στο Δημοτικό Θέατρο
GEO:35.143943;33.343228
END:VEVENT
BEGIN:VEVENT
DTSTART;TZID=Europe/Athens:20230615T180000
DTEND;TZID=Europe/Athens:20230615T180000
DTSTAMP:20260420T063342
CREATED:20230602T114703Z
LAST-MODIFIED:20230614T064957Z
UID:45765-1686852000-1686852000@www.strovolos.org.cy
SUMMARY:Τελική γιορτή νηπιαγωγείου «Παιδική Χαρά»\, 15/6/23
DESCRIPTION:Το νηπιαγωγείο «Παιδική Χαρά» παρουσιάζει\nτην τελική γιορτή του νηπιαγωγείου
URL:https://www.strovolos.org.cy/event/teliki-giorti-nipiagogeiou-paidiki-chara-15-6-23/
LOCATION:Δημοτικό Θέατρο Στροβόλου\, Cyprus
CATEGORIES:Εκδηλώσεις στο Δημοτικό Θέατρο
GEO:35.143943;33.343228
END:VEVENT
BEGIN:VEVENT
DTSTART;TZID=Europe/Athens:20230616T190000
DTEND;TZID=Europe/Athens:20230616T190000
DTSTAMP:20260420T063342
CREATED:20230602T114738Z
LAST-MODIFIED:20230602T114738Z
UID:45766-1686942000-1686942000@www.strovolos.org.cy
SUMMARY:Τελική γιορτή νηπιαγωγείου «Άγιος Γεώργιος»\, 16/6/23
DESCRIPTION:Το νηπιαγωγείο «Άγιος Γεώργιος» παρουσιάζει\nτην τελική γιορτή του νηπιαγωγείου
URL:https://www.strovolos.org.cy/event/teliki-giorti-nipiagogeiou-agios-georgios-16-6-23/
LOCATION:Δημοτικό Θέατρο Στροβόλου\, Cyprus
CATEGORIES:Εκδηλώσεις στο Δημοτικό Θέατρο
GEO:35.143943;33.343228
END:VEVENT
BEGIN:VEVENT
DTSTART;TZID=Europe/Athens:20230619T193000
DTEND;TZID=Europe/Athens:20230619T193000
DTSTAMP:20260420T063342
CREATED:20230602T114822Z
LAST-MODIFIED:20230609T112412Z
UID:45767-1687203000-1687203000@www.strovolos.org.cy
SUMMARY:Καλλιτεχνική παράσταση παιδιών των ομάδων ρυθμικής γυμναστικής και μπαλέτου του προγράμματος Ανοικτού Σχολείου του Δήμου Στροβόλου\, 19/6/23
DESCRIPTION:Οι ομάδες παιδιών ρυθμικής γυμναστικής\nκαι μπαλέτου του προγράμματος του\nΑνοικτού Σχολείου Δήμου Στροβόλου\nπαρουσιάζουν την καλλιτεχνική\nτους παράσταση \nΕίσοδος ελεύθερη
URL:https://www.strovolos.org.cy/event/kallitechniki-parastasi-paidion-ton-omadon-rythmikis-gymnastikis-kai-mpaletou-tou-programmatos-anoiktou-scholeiou-tou-dimou-strovolou-19-6-23/
LOCATION:Δημοτικό Θέατρο Στροβόλου\, Cyprus
CATEGORIES:Εκδηλώσεις στο Δημοτικό Θέατρο
ATTACH;FMTTYPE=image/jpeg:https://www.strovolos.org.cy/wp-content/uploads/kouklopaixtis.jpg
GEO:35.143943;33.343228
END:VEVENT
BEGIN:VEVENT
DTSTART;TZID=Europe/Athens:20230621T190000
DTEND;TZID=Europe/Athens:20230621T190000
DTSTAMP:20260420T063342
CREATED:20230602T114909Z
LAST-MODIFIED:20230602T114909Z
UID:45768-1687374000-1687374000@www.strovolos.org.cy
SUMMARY:Τελική γιορτή νηπιαγωγείου «Casa Dei Bambini»\, 21/6/23
DESCRIPTION:Το νηπιαγωγείο  «Casa Dei Bambini» παρουσιάζει\nτην τελική γιορτή του νηπιαγωγείου
URL:https://www.strovolos.org.cy/event/teliki-giorti-nipiagogeiou-casa-dei-bambini-21-6-23/
LOCATION:Δημοτικό Θέατρο Στροβόλου\, Cyprus
CATEGORIES:Εκδηλώσεις στο Δημοτικό Θέατρο
GEO:35.143943;33.343228
END:VEVENT
BEGIN:VEVENT
DTSTART;TZID=Europe/Athens:20230622T180000
DTEND;TZID=Europe/Athens:20230622T180000
DTSTAMP:20260420T063342
CREATED:20230602T114945Z
LAST-MODIFIED:20230602T114945Z
UID:45769-1687456800-1687456800@www.strovolos.org.cy
SUMMARY:Τελική γιορτή νηπιαγωγείου «Fun Philosophy»\, 22/6/23
DESCRIPTION:Το νηπιαγωγείο «Fun Philosophy» παρουσιάζει\nτην τελική γιορτή του νηπιαγωγείου
URL:https://www.strovolos.org.cy/event/teliki-giorti-nipiagogeiou-fun-philosophy-22-6-23/
LOCATION:Δημοτικό Θέατρο Στροβόλου\, Cyprus
CATEGORIES:Εκδηλώσεις στο Δημοτικό Θέατρο
GEO:35.143943;33.343228
END:VEVENT
BEGIN:VEVENT
DTSTART;TZID=Europe/Athens:20230623T190000
DTEND;TZID=Europe/Athens:20230623T190000
DTSTAMP:20260420T063342
CREATED:20230602T115022Z
LAST-MODIFIED:20230602T115022Z
UID:45770-1687546800-1687546800@www.strovolos.org.cy
SUMMARY:Τελική γιορτή του νηπιαγωγείου «Privilege»\, 23/6/23
DESCRIPTION:Το νηπιαγωγείο «Privilege» παρουσιάζει\nτην τελική γιορτή του νηπιαγωγείου
URL:https://www.strovolos.org.cy/event/teliki-giorti-tou-nipiagogeiou-privilege-23-6-23/
LOCATION:Δημοτικό Θέατρο Στροβόλου\, Cyprus
CATEGORIES:Εκδηλώσεις στο Δημοτικό Θέατρο
GEO:35.143943;33.343228
END:VEVENT
BEGIN:VEVENT
DTSTART;TZID=Europe/Athens:20230625T173000
DTEND;TZID=Europe/Athens:20230625T173000
DTSTAMP:20260420T063342
CREATED:20230602T115110Z
LAST-MODIFIED:20230609T112034Z
UID:45771-1687714200-1687714200@www.strovolos.org.cy
SUMMARY:Χορευτική Παράσταση «Bon Voyage»\, 25/6/23
DESCRIPTION:Η σχολή χορού «Dance Devotion Studio» παρουσιάζει την παράσταση «Bon Voyage» \nΕισιτήρια πωλούνται από τη σχολή\nστην τιμή των €15
URL:https://www.strovolos.org.cy/event/choreftiki-parastasi-bon-voyage-25-6-23/
LOCATION:Δημοτικό Θέατρο Στροβόλου\, Cyprus
CATEGORIES:Εκδηλώσεις στο Δημοτικό Θέατρο
GEO:35.143943;33.343228
END:VEVENT
BEGIN:VEVENT
DTSTART;TZID=Europe/Athens:20230626T160000
DTEND;TZID=Europe/Athens:20230626T160000
DTSTAMP:20260420T063342
CREATED:20230602T115233Z
LAST-MODIFIED:20230609T112110Z
UID:45772-1687795200-1687795200@www.strovolos.org.cy
SUMMARY:Χορευτική Παράσταση Μ. Σιακαλλή\, «Έλα στον ρυθμό»\, 26/6/23
DESCRIPTION:Η Σχολή Χορού «Μ. Σιακαλλής» παρουσιάζει\nτην παράσταση «Έλα στον ρυθμό» \nΕίσοδος ελεύθερη
URL:https://www.strovolos.org.cy/event/choreftiki-parastasi-m-siakalli-ela-ston-rythmo-26-6-23-3/
LOCATION:Δημοτικό Θέατρο Στροβόλου\, Cyprus
CATEGORIES:Εκδηλώσεις στο Δημοτικό Θέατρο
GEO:35.143943;33.343228
END:VEVENT
BEGIN:VEVENT
DTSTART;TZID=Europe/Athens:20230626T181500
DTEND;TZID=Europe/Athens:20230626T181500
DTSTAMP:20260420T063342
CREATED:20230602T115214Z
LAST-MODIFIED:20230602T115214Z
UID:45773-1687803300-1687803300@www.strovolos.org.cy
SUMMARY:Χορευτική Παράσταση Μ. Σιακαλλή\, «Έλα στον ρυθμό»\, 26/6/23
DESCRIPTION:Η Σχολή Χορού «Μ. Σιακαλλής» παρουσιάζει\nτην παράσταση «Έλα στον ρυθμό» \n\nΕίσοδος ελεύθερη
URL:https://www.strovolos.org.cy/event/choreftiki-parastasi-m-siakalli-ela-ston-rythmo-26-6-23-2/
LOCATION:Δημοτικό Θέατρο Στροβόλου\, Cyprus
CATEGORIES:Εκδηλώσεις στο Δημοτικό Θέατρο
GEO:35.143943;33.343228
END:VEVENT
BEGIN:VEVENT
DTSTART;TZID=Europe/Athens:20230626T203000
DTEND;TZID=Europe/Athens:20230626T203000
DTSTAMP:20260420T063342
CREATED:20230602T115156Z
LAST-MODIFIED:20230602T115156Z
UID:45774-1687811400-1687811400@www.strovolos.org.cy
SUMMARY:Χορευτική Παράσταση Μ. Σιακαλλή\, «Έλα στον ρυθμό»\, 26/6/23
DESCRIPTION:Η Σχολή Χορού «Μ. Σιακαλλής» παρουσιάζει\nτην παράσταση «Έλα στον ρυθμό» \n\nΕίσοδος ελεύθερη
URL:https://www.strovolos.org.cy/event/choreftiki-parastasi-m-siakalli-ela-ston-rythmo-26-6-23/
LOCATION:Δημοτικό Θέατρο Στροβόλου\, Cyprus
CATEGORIES:Εκδηλώσεις στο Δημοτικό Θέατρο
GEO:35.143943;33.343228
END:VEVENT
BEGIN:VEVENT
DTSTART;TZID=Europe/Athens:20230627T193000
DTEND;TZID=Europe/Athens:20230627T193000
DTSTAMP:20260420T063342
CREATED:20230602T115354Z
LAST-MODIFIED:20230609T112257Z
UID:45806-1687894200-1687894200@www.strovolos.org.cy
SUMMARY:A street dance show «Think big»\, 27/6/23
DESCRIPTION:Η Σχολή Χορού «Creativity Dance Studio» παρουσιάζει την παράσταση «Think big» \nΕισιτήρια πωλούνται από https://www.soldoutticketbox.com/think-big-jun-2023/?lang=en
URL:https://www.strovolos.org.cy/event/a-street-dance-show-think-big-27-6-23/
LOCATION:Δημοτικό Θέατρο Στροβόλου\, Cyprus
CATEGORIES:Εκδηλώσεις στο Δημοτικό Θέατρο
GEO:35.143943;33.343228
END:VEVENT
BEGIN:VEVENT
DTSTART;TZID=Europe/Athens:20230630T193000
DTEND;TZID=Europe/Athens:20230630T193000
DTSTAMP:20260420T063342
CREATED:20230602T115418Z
LAST-MODIFIED:20230609T112215Z
UID:45805-1688153400-1688153400@www.strovolos.org.cy
SUMMARY:Μουσικοχορευτική Παράσταση «Angels Dance Studio»\, 30/6/23
DESCRIPTION:Η σχολή χορού «Angels Dance Studio» παρουσιάζει\nτην Θεατρική μουσικοχορευτική παράσταση\n«Οικογενειακές Ιστορίες» \nΔιαθέσιμα εισιτήρια από 15/6/23 στην Tickethour
URL:https://www.strovolos.org.cy/event/mousikochoreftiki-parastasi-angels-dance-studio-30-6-23/
LOCATION:Δημοτικό Θέατρο Στροβόλου\, Cyprus
CATEGORIES:Εκδηλώσεις στο Δημοτικό Θέατρο
GEO:35.143943;33.343228
END:VEVENT
BEGIN:VEVENT
DTSTART;TZID=Europe/Athens:20231002T183000
DTEND;TZID=Europe/Athens:20231002T183000
DTSTAMP:20260420T063342
CREATED:20230929T075107Z
LAST-MODIFIED:20230929T075107Z
UID:47091-1696271400-1696271400@www.strovolos.org.cy
SUMMARY:Ετήσια Διάλεξη Συλλόγου Αρχιτεκτόνων Κύπρου εις μνήμη Πάνου Κουλέρμου\, 2/10/23
DESCRIPTION:Ο Σύλλογος Αρχιτεκτόνων Κύπρου διοργανώνει την «Ετήσια Διάλεξη Συλλόγου Αρχιτεκτόνων Κύπρου εις μνήμη Πάνου Κουλέρμου» \nΗ συμμετοχή στην εκδήλωση είναι δωρεάν.
URL:https://www.strovolos.org.cy/event/etisia-dialeksi-syllogou-architektonon-kyprou-eis-mnimi-panou-koulermou-2-10-23/
LOCATION:Δημοτικό Θέατρο Στροβόλου\, Cyprus
CATEGORIES:Εκδηλώσεις στο Δημοτικό Θέατρο
GEO:35.143943;33.343228
END:VEVENT
BEGIN:VEVENT
DTSTART;TZID=Europe/Athens:20231005T200000
DTEND;TZID=Europe/Athens:20231005T200000
DTSTAMP:20260420T063342
CREATED:20230929T075134Z
LAST-MODIFIED:20230929T075134Z
UID:47092-1696536000-1696536000@www.strovolos.org.cy
SUMMARY:Ήχων πλεύσεις\, ρεσιτάλ για φλάουτο και πιάνο\, 5/10/23
DESCRIPTION:Η εταιρεία Ledra Music Soloists παρουσιάζει\nτη συναυλία «Ήχων πλεύσεις\, ρεσιτάλ για φλάουτο και πιάνο» \nΕισιτήρια πωλούνται από https://www.soldoutticketbox.com/sound-sails-lms-oct-2023/?lang=el
URL:https://www.strovolos.org.cy/event/ichon-plefseis-resital-gia-flaouto-kai-piano-5-10-23/
LOCATION:Δημοτικό Θέατρο Στροβόλου\, Cyprus
CATEGORIES:Εκδηλώσεις στο Δημοτικό Θέατρο
GEO:35.143943;33.343228
END:VEVENT
BEGIN:VEVENT
DTSTART;TZID=Europe/Athens:20231006T203000
DTEND;TZID=Europe/Athens:20231006T203000
DTSTAMP:20260420T063342
CREATED:20230929T075203Z
LAST-MODIFIED:20230929T075203Z
UID:47093-1696624200-1696624200@www.strovolos.org.cy
SUMMARY:Starlight 1- Μεγάλοι Ερμηνευτές\, 6/10/23
DESCRIPTION:Το Ίδρυμα Συμφωνική Ορχήστρα Κύπρου παρουσιάζει τη συναυλία «Starlight 1- Μεγάλοι Ερμηνευτές» \nΕισιτήρια πωλούνται από\nτην ιστοσελίδα του Ιδρύματος\n«Συμφωνική Ορχήστρα Κύπρου»\nwww.cyso.org.cy
URL:https://www.strovolos.org.cy/event/starlight-1-megaloi-ermineftes-6-10-23/
LOCATION:Δημοτικό Θέατρο Στροβόλου\, Cyprus
CATEGORIES:Εκδηλώσεις στο Δημοτικό Θέατρο
GEO:35.143943;33.343228
END:VEVENT
BEGIN:VEVENT
DTSTART;TZID=Europe/Athens:20231007T130000
DTEND;TZID=Europe/Athens:20231007T130000
DTSTAMP:20260420T063342
CREATED:20230929T075333Z
LAST-MODIFIED:20230929T075333Z
UID:47094-1696683600-1696683600@www.strovolos.org.cy
SUMMARY:Παγκύπριοι Αγώνες Σωματικής Διάπλασης και Fitness 2023\, 7/10/23
DESCRIPTION:H Παγκύπρια Ερασιτεχνική Ομοσπονδία Σωματικής Διάπλασης παρουσιάζει τους παγκύπριους αγώνες Σωματικής Διάπλασης και Fitness 2023 \nΕισιτήρια θα πωλούνται στην είσοδο του θεάτρου
URL:https://www.strovolos.org.cy/event/pagkyprioi-agones-somatikis-diaplasis-kai-fitness-2023-7-10-23/
LOCATION:Δημοτικό Θέατρο Στροβόλου\, Cyprus
CATEGORIES:Εκδηλώσεις στο Δημοτικό Θέατρο
GEO:35.143943;33.343228
END:VEVENT
BEGIN:VEVENT
DTSTART;TZID=Europe/Athens:20231008T110000
DTEND;TZID=Europe/Athens:20231008T110000
DTSTAMP:20260420T063342
CREATED:20230929T075410Z
LAST-MODIFIED:20230929T075410Z
UID:47095-1696762800-1696762800@www.strovolos.org.cy
SUMMARY:Η Αλίκη στη Χώρα των Θαυμάτων\, 8/10/23
DESCRIPTION:Η εταιρεία Chandal Entertainment  παρουσιάζει την παράσταση «Η Αλίκη στη Χώρα των Θαυμάτων» \nΕισιτήρια πωλούνται από https://www.soldoutticketbox.com/alice-in-wonderland-chandal-oct-2023/?lang=el
URL:https://www.strovolos.org.cy/event/i-aliki-sti-chora-ton-thavmaton-8-10-23/
LOCATION:Δημοτικό Θέατρο Στροβόλου\, Cyprus
CATEGORIES:Εκδηλώσεις στο Δημοτικό Θέατρο
GEO:35.143943;33.343228
END:VEVENT
BEGIN:VEVENT
DTSTART;TZID=Europe/Athens:20231008T150000
DTEND;TZID=Europe/Athens:20231008T150000
DTSTAMP:20260420T063342
CREATED:20230929T075432Z
LAST-MODIFIED:20230929T130514Z
UID:47096-1696777200-1696777200@www.strovolos.org.cy
SUMMARY:Η Αλίκη στη Χώρα των Θαυμάτων\, 8/10/23
DESCRIPTION:Η εταιρεία Chandal Entertainment  παρουσιάζει την παράσταση «Η Αλίκη στη Χώρα των Θαυμάτων» \nΕισιτήρια πωλούνται από https://www.soldoutticketbox.com/alice-in-wonderland-chandal-oct-2023/?lang=el
URL:https://www.strovolos.org.cy/event/i-aliki-sti-chora-ton-thavmaton-8-10-23-2/
LOCATION:Δημοτικό Θέατρο Στροβόλου\, Cyprus
CATEGORIES:Εκδηλώσεις στο Δημοτικό Θέατρο
GEO:35.143943;33.343228
END:VEVENT
BEGIN:VEVENT
DTSTART;TZID=Europe/Athens:20231010T200000
DTEND;TZID=Europe/Athens:20231010T200000
DTSTAMP:20260420T063342
CREATED:20230929T075527Z
LAST-MODIFIED:20230929T075527Z
UID:47097-1696968000-1696968000@www.strovolos.org.cy
SUMMARY:Great pianists of the 21st century - Anna Geniushene\, 10/10/23
DESCRIPTION:Ο Πολιτιστικός Οργανισμός Avantgarde παρουσιάζει ρεσιτάλ πιάνου από την κορυφαία πιανίστρια Anna Geniushene \nΕισιτήρια πωλούνται από https://shop.tickethour.com/showEventInformation.html?idEvent=4346
URL:https://www.strovolos.org.cy/event/great-pianists-of-the-21st-century-anna-geniushene-10-10-23/
LOCATION:Δημοτικό Θέατρο Στροβόλου\, Cyprus
CATEGORIES:Εκδηλώσεις στο Δημοτικό Θέατρο
GEO:35.143943;33.343228
END:VEVENT
BEGIN:VEVENT
DTSTART;TZID=Europe/Athens:20231012T200000
DTEND;TZID=Europe/Athens:20231012T200000
DTSTAMP:20260420T063342
CREATED:20230929T075600Z
LAST-MODIFIED:20230929T075600Z
UID:47098-1697140800-1697140800@www.strovolos.org.cy
SUMMARY:Great pianists of the 21st century – Kevin Chen\, 12/10/23
DESCRIPTION:Ο Πολιτιστικός Οργανισμός Avantgarde παρουσιάζει ρεσιτάλ πιάνου από τον κορυφαίο πιανίστα Kevin Chen \nΕισιτήρια πωλούνται από https://shop.tickethour.com/showEventInformation.html?idEvent=4347
URL:https://www.strovolos.org.cy/event/great-pianists-of-the-21st-century-kevin-chen-12-10-23/
LOCATION:Δημοτικό Θέατρο Στροβόλου\, Cyprus
CATEGORIES:Εκδηλώσεις στο Δημοτικό Θέατρο
GEO:35.143943;33.343228
END:VEVENT
BEGIN:VEVENT
DTSTART;TZID=Europe/Athens:20231013T203000
DTEND;TZID=Europe/Athens:20231013T203000
DTSTAMP:20260420T063342
CREATED:20230929T095601Z
LAST-MODIFIED:20231002T132459Z
UID:47171-1697229000-1697229000@www.strovolos.org.cy
SUMMARY:Συναυλία «Η Διαθήκη»\, με την ευκαιρία των 85 χρόνων από τη γέννηση του Μάνου Ελευθερίου\, 13/10/23
DESCRIPTION:Με αφορμή τα 85 χρόνια από τη γέννηση του Μάνου Ελευθερίου\, ο Δήμος Στροβόλου παρουσιάζει την Παρασκευή 13 Οκτωβρίου 2023 και ώρα 20:30 τη συναυλία «Η Διαθήκη»\, με τραγούδια από τη γέννηση και την πορεία του έντεχνου ελληνικού και λαϊκού τραγουδιού. \nΣτη συναυλία θα ακουστούν τραγούδια των Μάνου Ελευθερίου\, Μίκη Θεοδωράκη\, Μάνου Χατζιδάκι\, Γιάννη Μαρκόπουλου\, Σταύρου Κουγιουμτζή\, Θάνου Μικρούτσικου\, κ.α. \nΟι ταλαντούχοι ερμηνευτές/ερμηνεύτριες Φίλιππος Κτενάς\, Φρειδερίκη Τομπάζου\, Γιώργος Παπασολομώντος και Αννίτα Κωνσταντίνου\, πλαισιώνονται από μεγάλη λαϊκή ορχήστρα με μαέστρο τον Μιχάλη Μέσσιο. Στο πιάνο ο καλλιτεχνικός Διευθυντής της παραγωγής Χρήστος Φιλίππου. \nΗ συναυλία θα δοθεί στο Δημοτικό Θέατρο Στροβόλου\, με είσοδο €5. \nΌλα τα έσοδα από την πώληση των εισιτηρίων θα διατεθούν για την ενίσχυση του Σωματείου «Βαγόνι Αγάπης». Αριθμός Άδειας Εράνου: Ν.Π. 56/2023 \nΓια πληροφορίες και εισιτήρια: \n \nΧορηγός Επικοινωνίας: \nΚατά τη διάρκεια της συναυλίας θα λαμβάνονται φωτογραφίες και βίντεο για σκοπούς προβολής και τήρησης αρχείου. \n  \nΑΠΟ ΤΟΝ ΔΗΜΟ ΣΤΡΟΒΟΛΟΥ \n29 Σεπτεμβρίου 2023 \n 
URL:https://www.strovolos.org.cy/event/synavlia-i-diathiki-me-tin-efkairia-ton-85-chronon-apo-ti-gennisi-tou-manou-eleftheriou-13-10-23/
LOCATION:Δημοτικό Θέατρο Στροβόλου\, Cyprus
CATEGORIES:Εκδηλώσεις στο Δημοτικό Θέατρο
GEO:35.143943;33.343228
END:VEVENT
BEGIN:VEVENT
DTSTART;TZID=Europe/Athens:20231013T203000
DTEND;TZID=Europe/Athens:20231013T203000
DTSTAMP:20260420T063342
CREATED:20230929T075625Z
LAST-MODIFIED:20230929T075625Z
UID:47099-1697229000-1697229000@www.strovolos.org.cy
SUMMARY:«Η Διαθήκη»\, Μάνος Ελευθερίου 85 χρόνια από τη γέννηση του ποιητή των τραγουδιών\, 13/10/23
DESCRIPTION:Ο Δήμος Στροβόλου στο πλαίσιο των μουσικών εκδηλώσεων του Δήμου παρουσιάζει τη συναυλία “«Η Διαθήκη»\, Μάνος Ελευθερίου 85 χρόνια από τη γέννηση του ποιητή των τραγουδιών” \n Περισσότερες πληροφορίες θα ανακοινωθούν σύντομα
URL:https://www.strovolos.org.cy/event/i-diathiki-manos-eleftheriou-85-chronia-apo-ti-gennisi-tou-poiiti-ton-tragoudion-13-10-23/
LOCATION:Δημοτικό Θέατρο Στροβόλου\, Cyprus
CATEGORIES:Εκδηλώσεις στο Δημοτικό Θέατρο
GEO:35.143943;33.343228
END:VEVENT
BEGIN:VEVENT
DTSTART;TZID=Europe/Athens:20231014T160000
DTEND;TZID=Europe/Athens:20231014T160000
DTSTAMP:20260420T063342
CREATED:20230929T080004Z
LAST-MODIFIED:20230929T080004Z
UID:47100-1697299200-1697299200@www.strovolos.org.cy
SUMMARY:The original BLACK LIGHT THEATRE OF PRAGUE – Ένα ταξίδι στη χώρα της φαντασίας\, 14\,10\,23
DESCRIPTION:Η εταιρεία Intershow Productions παρουσιάζει την παράσταση «The original BLACK LIGHT THEATRE OF PRAGUE – Ένα ταξίδι στη χώρα της φαντασίας» \nΤο φημισμένο Μαύρο Θέατρο της Πράγας (The Black Light Theatre of Prague)\, έρχεται για πρώτη φορά στο Δημοτικό Θέατρο Στροβόλου. \nΤο Μαύρο Θέατρο της Πράγας\, παρουσιάστηκε για πρώτη φορά από τον Jiři Srnec στο Διεθνές Φεστιβάλ Εδιμβούργου το 1961 και έγινε γρήγορα ένας από τους πιο γνωστούς θεατρικούς θιάσους σε όλον τον κόσμο. Έχει πάρει μέρος σε αμέτρητα θεατρικά φεστιβάλ και διεθνείς περιοδείες ενώ τις παραστάσεις του έχουν παρακολουθήσει πάνω από 5 εκατομμύρια θεατές σε 70 χώρες. \n“Ένα ταξίδι στη χώρα της φαντασίας!” για μικρούς και μεγάλους! \nΗ τέχνη του Μαύρου Θεάτρου\, στηρίζεται στο μαύρο σκηνογραφικό χώρο εντός του οποίου κινούνται οι ηθοποιοί – χειριστές των διαφόρων αντικειμένων ντυμένοι με μαύρα ρούχα\, πράγμα που τους καθιστά αόρατους στους θεατές. Αυτό που βλέπουν οι θεατές\, είναι ένα μαγικό παιχνίδι του πιθανού και του απίθανου\, όπου πολύχρωμα αντικείμενα αιωρούνται στον αέρα και ζουν δική τους ανεξάρτητη ζωή\, σε απόλυτο συγχρονισμό με τους ηθοποιούς που “αφηγούνται” στον θεατή την ιστορία τους μέσα από την παντομίμα. \nΣημαντικό στοιχείο είναι και ο ιδιαίτερος υπεριώδεις φωτισμός που χρησιμοποιείται ώστε να αναδείξει τα χρώματα στα σκηνικά\, στα αντικείμενα αλλά και στις ανθρώπινες φιγούρες. \nΕξιστορώντας πολύπλοκες ιστορίες και σκορπίζοντας μεγάλες δόσεις μαγείας\, ονειροπόλας διάθεσης και ομορφιάς\, το Μαύρο Θέατρο Srnec της Πράγας\, θα μας παρουσιάσει μια επιλογή από τα καλύτερα στιγμιότυπα της ιστορίας του.  \nΕισιτήρια πωλούνται από https://www.soldoutticketbox.com/black-light-theatre-of-praque-2023/?lang=en
URL:https://www.strovolos.org.cy/event/the-original-black-light-theatre-of-prague-ena-taksidi-sti-chora-tis-fantasias-141023/
LOCATION:Δημοτικό Θέατρο Στροβόλου\, Cyprus
CATEGORIES:Εκδηλώσεις στο Δημοτικό Θέατρο
GEO:35.143943;33.343228
END:VEVENT
BEGIN:VEVENT
DTSTART;TZID=Europe/Athens:20231015T113000
DTEND;TZID=Europe/Athens:20231015T113000
DTSTAMP:20260420T063342
CREATED:20230929T080055Z
LAST-MODIFIED:20230929T080055Z
UID:47101-1697369400-1697369400@www.strovolos.org.cy
SUMMARY:Μικροί κύριοι- Μικρές Κυρίες\, 15/10/23
DESCRIPTION:Η εταιρεία «Ζαφειρίου Θωμαή Θεατρικές Επιχειρήσεις» παρουσιάζει την παιδική παράσταση «Μικροί Κύριοι- Μικρές Κυρίες» \nΕισιτήρια πωλούνται από https://www.soldoutticketbox.com/mikroi-kyrioi-mikres-kyries-the-show-nov-2023/?lang=el
URL:https://www.strovolos.org.cy/event/mikroi-kyrioi-mikres-kyries-15-10-23/
LOCATION:Δημοτικό Θέατρο Στροβόλου\, Cyprus
CATEGORIES:Εκδηλώσεις στο Δημοτικό Θέατρο
GEO:35.143943;33.343228
END:VEVENT
BEGIN:VEVENT
DTSTART;TZID=Europe/Athens:20231015T150000
DTEND;TZID=Europe/Athens:20231015T150000
DTSTAMP:20260420T063342
CREATED:20230929T080126Z
LAST-MODIFIED:20230929T130555Z
UID:47144-1697382000-1697382000@www.strovolos.org.cy
SUMMARY:Μικροί κύριοι- Μικρές Κυρίες\, 15/10/23
DESCRIPTION:Η εταιρεία «Ζαφειρίου Θωμαή Θεατρικές Επιχειρήσεις» παρουσιάζει την παιδική παράσταση «Μικροί Κύριοι- Μικρές Κυρίες» \nΕισιτήρια πωλούνται από https://www.soldoutticketbox.com/mikroi-kyrioi-mikres-kyries-the-show-nov-2023/?lang=el
URL:https://www.strovolos.org.cy/event/mikroi-kyrioi-mikres-kyries-15-10-23-2/
LOCATION:Δημοτικό Θέατρο Στροβόλου\, Cyprus
CATEGORIES:Εκδηλώσεις στο Δημοτικό Θέατρο
GEO:35.143943;33.343228
END:VEVENT
BEGIN:VEVENT
DTSTART;TZID=Europe/Athens:20231016T200000
DTEND;TZID=Europe/Athens:20231016T200000
DTSTAMP:20260420T063342
CREATED:20230929T080154Z
LAST-MODIFIED:20230929T080154Z
UID:47102-1697486400-1697486400@www.strovolos.org.cy
SUMMARY:Great pianists of the 21st century\, 16/10/23
DESCRIPTION:Ο Πολιτιστικός Οργανισμός Avantgarde παρουσιάζει ρεσιτάλ πιάνου από τον κορυφαίο πιανίστα Lukas Sternath \nΕισιτήρια πωλούνται από https://shop.tickethour.com/showEventInformation.html?idEvent=4348
URL:https://www.strovolos.org.cy/event/great-pianists-of-the-21st-century-16-10-23/
LOCATION:Δημοτικό Θέατρο Στροβόλου\, Cyprus
CATEGORIES:Εκδηλώσεις στο Δημοτικό Θέατρο
GEO:35.143943;33.343228
END:VEVENT
END:VCALENDAR