BEGIN:VCALENDAR
VERSION:2.0
PRODID:-//Strovolos Municipality - ECPv6.15.20//NONSGML v1.0//EN
CALSCALE:GREGORIAN
METHOD:PUBLISH
X-ORIGINAL-URL:https://www.strovolos.org.cy
X-WR-CALDESC:Events for Strovolos Municipality
REFRESH-INTERVAL;VALUE=DURATION:PT1H
X-Robots-Tag:noindex
X-PUBLISHED-TTL:PT1H
BEGIN:VTIMEZONE
TZID:Europe/Athens
BEGIN:DAYLIGHT
TZOFFSETFROM:+0200
TZOFFSETTO:+0300
TZNAME:EEST
DTSTART:20250330T010000
END:DAYLIGHT
BEGIN:STANDARD
TZOFFSETFROM:+0300
TZOFFSETTO:+0200
TZNAME:EET
DTSTART:20251026T010000
END:STANDARD
BEGIN:DAYLIGHT
TZOFFSETFROM:+0200
TZOFFSETTO:+0300
TZNAME:EEST
DTSTART:20260329T010000
END:DAYLIGHT
BEGIN:STANDARD
TZOFFSETFROM:+0300
TZOFFSETTO:+0200
TZNAME:EET
DTSTART:20261025T010000
END:STANDARD
BEGIN:DAYLIGHT
TZOFFSETFROM:+0200
TZOFFSETTO:+0300
TZNAME:EEST
DTSTART:20270328T010000
END:DAYLIGHT
BEGIN:STANDARD
TZOFFSETFROM:+0300
TZOFFSETTO:+0200
TZNAME:EET
DTSTART:20271031T010000
END:STANDARD
END:VTIMEZONE
BEGIN:VEVENT
DTSTART;TZID=Europe/Athens:20260526T200000
DTEND;TZID=Europe/Athens:20260526T200000
DTSTAMP:20260423T005909
CREATED:20260422T115348Z
LAST-MODIFIED:20260422T115511Z
UID:62591-1779825600-1779825600@www.strovolos.org.cy
SUMMARY:Θεατρική παράσταση «Εκτός ελέγχου»\, στο πλαίσιο του 10ου Φεστιβάλ Θεάτρου του Δήμου Στροβόλου\, 26/5/26
DESCRIPTION:ΔΕΛΤΙΟ ΤΥΠΟΥ \nΕΚΤΟΣ ΕΛΕΓΧΟΥ \nτου Ray Cooney \nΤο 10ο  Φεστιβάλ του Δήμου Στροβόλου συνεχίζεται με την ξεκαρδιστική κωμωδία «Εκτός Ελέγχου!» του Βρετανού συγγραφέα Ray Cooney\, από το Σατιρικό Θέατρο\, σε μετάφραση Χάρη Αριστείδου και Μαριάννας Καυκαρίδου και σκηνοθεσία Μαριάννας Καυκαρίδου και Βασίλη Μιχαήλ. Η παράσταση θα δοθεί την Τρίτη 26 Μαΐου 2026 και ώρα 20:00 στο Δημοτικό Θέατρο Στροβόλου. Η παράσταση είναι κατάλληλη για άτομα άνω των 12. \nΕίσοδος: €6 \nΌλα τα έσοδα από την πώληση των εισιτηρίων θα διατεθούν για την ενίσχυση του Ιδρύματος «Nicholas Zoe Foundation». Αρ. Άδειας Εράνου Ν.Π.25/2026. \nΓια τους κατόχους Ευρωπαϊκής Κάρτας Αναπηρίας\, η είσοδος στην εν λόγω παράσταση είναι δωρεάν\, όπως επίσης και για έναν/μία συνοδό του/της. Θα μπορεί να γίνει προκράτηση εισιτηρίων στο τηλ. \n22 010191. \nΠληροφορίες και εισιτήρια: \n \nΛίγα λόγια για το έργο \nΈνας Υπουργός\, η γραμματέας της αντιπολίτευσης\, μια σουίτα ξενοδοχείου και ένα πτώμα. Το σκάνδαλο πρέπει να αποφευχθεί και… η κατάσταση βγαίνει Εκτός Ελέγχου! Ψέματα\, παρεξηγήσεις\, εκπλήξεις και καταιγιστικές  ανατροπές. Πόρτες που ανοιγοκλείνουν\, χαρακτήρες που μπλέκονται σε απελπιστικές καταστάσεις και ένας ρυθμός που δεν αφήνει περιθώριο για ανάσα\, συνθέτουν μια κλασική και άκρως διασκεδαστική κωμωδία που σατιρίζει την εξουσία\, την υποκρισία και τις ανθρώπινες αδυναμίες. \nΠαίζουν: Χάρης Αριστείδου\, Ηρόδοτος Μιλτιάδους\, Μαριλένη Σταύρου\, Μαρία Φιακά\, Γιώργος Αναγιωτός\, Ιωάννα Λαμπροπούλου\, Νικόλας Κουρουζίδης\, Αλέξανδρος Χρυσάνθου\, Ιλόνα Ανθιμιάδου \nΜετάφραση/ Διασκευή: Χάρης Αριστείδου και Μαριάννα Καυκαρίδου \nΣκηνογραφία/ Ενδυματολογία: Λάκης Γενεθλής \nΜουσική επένδυση: Χάρης Αριστείδου \nΣχεδιασμός Φωτισμού: Βικέντιος Χριστιανίδης \nΒοηθός Σκηνοθέτη: Μαριαλένα Παπαδοπούλου \nΚατασκευή σκηνικού: Γιώργος Χριστιανόπουλος \nΖωγραφική Εκτέλεση Σκηνικού: Martin Meason \n  \nΧορηγοί Επικοινωνίας:
URL:https://www.strovolos.org.cy/event/theatriki-parastasi-ektos-elegchou-sto-plaisio-tou-10ou-festival-theatrou-tou-dimou-strovolou-26-5-26/
LOCATION:Δημοτικό Θέατρο Στροβόλου\, Cyprus
CATEGORIES:Εκδηλώσεις Δήμου
GEO:35.143943;33.343228
END:VEVENT
BEGIN:VEVENT
DTSTART;TZID=Europe/Athens:20260613T203000
DTEND;TZID=Europe/Athens:20260613T203000
DTSTAMP:20260423T005909
CREATED:20260422T114934Z
LAST-MODIFIED:20260422T120711Z
UID:62576-1781382600-1781382600@www.strovolos.org.cy
SUMMARY:Θεατρική παράσταση «Ο Άνθρωπος που έσπασε τον κώδικα»\, στο πλαίσιο του 10ου Φεστιβάλ Θεάτρου του Δήμου Στροβόλου\, 13/6/26
DESCRIPTION:ΔΕΛΤΙΟ ΤΥΠΟΥ \nΟ ΑΝΘΡΩΠΟΣ ΠΟΥ ΕΣΠΑΣΕ ΤΟΝ ΚΩΔΙΚΑ \nτου Hugh Whitemore \nΜετάφραση: Ανδρέας Αραούζος \nΤο 10ο  Φεστιβάλ του Δήμου Στροβόλου κλείνει με το έργο «Ο Άνθρωπος που έσπασε τον κώδικα» του Hugh Whitemore από την Alpha Square. Το έργο είναι βασισμένο στο βιβλίο «Alan Turing: The Enigma» του Andrew Hodges\, σε μετάφραση Ανδρέα Αραούζου και σκηνοθεσία Ελένης Αναστασίου. Η παράσταση θα δοθεί το Σάββατο 13 Ιουνίου 2026 και ώρα 20:30 στο Δημοτικό Θέατρο Στροβόλου και είναι κατάλληλη για άτομα άνω των 12. \nΕίσοδος: €6 \nΌλα τα έσοδα από την πώληση των εισιτηρίων θα διατεθούν για την ενίσχυση του Συνδέσμου «Ένα Όνειρο Μια Ευχή». Αρ. Άδειας Εράνου: Ν.Π. 25/2026 \nΓια τους κατόχους Ευρωπαϊκής Κάρτας Αναπηρίας\, η είσοδος στην εν λόγω παράσταση είναι δωρεάν\, όπως επίσης και για έναν/μία συνοδό του/της. Θα μπορεί να γίνει προκράτηση εισιτηρίων στο τηλ. 22 010191. \nΠληροφορίες και εισιτήρια: \n \nΛίγα λόγια για το έργο \nΆλαν Τούρινγκ\, μια εκκεντρική διάνοια\, που έπαιξε σημαντικό ρόλο στη νίκη του Δευτέρου Παγκοσμίου Πολέμου. Έσπασε τον πολυσύνθετο Γερμανικό κώδικα Enigma\, επιτρέποντας στις συμμαχικές δυνάμεις να προβλέπουν τα σχέδια των Γερμανών. Εφόσον η δουλειά του κατατάχθηκε ως άκρως απόρρητη για χρόνια μετά τον πόλεμο\, κανείς δεν ήξερε πόσα του οφείλονταν όταν δικάστηκε επειδή έσπασε έναν άλλο κώδικα – το ταμπού της ομοφυλοφιλίας. Ο Τούρινγκ\, ο πατέρας της επιστήμης των υπολογιστών\, καταδικάστηκε για ασελγή συμπεριφορά και υποχρεώθηκε να υποστεί ορμονοθεραπεία που τον άφησε σωματικά και ψυχικά εξασθενημένο. Το έργο «Ο άνθρωπος που έσπασε τον κώδικα» μάς παρουσιάζει ποιος ήταν\, τί του συνέβη και γιατί. \nΠαίζουν: Ανδρέας Αραούζος\, Βαρνάβας Κυριαζής\, Λένια Σορόκου\, Θανάσης Δρακόπουλος\, Μαρίλια Χαριδήμου\, Εύρος Βασιλείου\, Σταύρος Δημόπουλος \nΣκηνοθεσία: Ελένη Αναστασίου \nΣκηνογραφία: Γιώργος Γιάννου \nΚοστούμια: Ρέα Ολυμπίου \nΜουσική: Δημήτρης Ζαχαρίου \nΣχεδιασμός Φωτισμού: Νίκος Μυλωνάς \nΧειρισμός φωτισμού και ήχου: Χριστίνα Ψαρά \nΧορηγοί Επικοινωνίας
URL:https://www.strovolos.org.cy/event/theatriki-parastasi-o-anthropos-pou-espase-ton-kodika-sto-plaisio-tou-10ou-festival-theatrou-tou-dimou-strovolou-13-6-26/
LOCATION:Δημοτικό Θέατρο Στροβόλου\, Cyprus
CATEGORIES:Εκδηλώσεις Δήμου
GEO:35.143943;33.343228
END:VEVENT
END:VCALENDAR