BEGIN:VCALENDAR
VERSION:2.0
PRODID:-//Strovolos Municipality - ECPv6.15.20//NONSGML v1.0//EN
CALSCALE:GREGORIAN
METHOD:PUBLISH
X-WR-CALNAME:Strovolos Municipality
X-ORIGINAL-URL:https://www.strovolos.org.cy
X-WR-CALDESC:Events for Strovolos Municipality
REFRESH-INTERVAL;VALUE=DURATION:PT1H
X-Robots-Tag:noindex
X-PUBLISHED-TTL:PT1H
BEGIN:VTIMEZONE
TZID:Europe/Athens
BEGIN:DAYLIGHT
TZOFFSETFROM:+0200
TZOFFSETTO:+0300
TZNAME:EEST
DTSTART:20250330T010000
END:DAYLIGHT
BEGIN:STANDARD
TZOFFSETFROM:+0300
TZOFFSETTO:+0200
TZNAME:EET
DTSTART:20251026T010000
END:STANDARD
BEGIN:DAYLIGHT
TZOFFSETFROM:+0200
TZOFFSETTO:+0300
TZNAME:EEST
DTSTART:20260329T010000
END:DAYLIGHT
BEGIN:STANDARD
TZOFFSETFROM:+0300
TZOFFSETTO:+0200
TZNAME:EET
DTSTART:20261025T010000
END:STANDARD
BEGIN:DAYLIGHT
TZOFFSETFROM:+0200
TZOFFSETTO:+0300
TZNAME:EEST
DTSTART:20270328T010000
END:DAYLIGHT
BEGIN:STANDARD
TZOFFSETFROM:+0300
TZOFFSETTO:+0200
TZNAME:EET
DTSTART:20271031T010000
END:STANDARD
END:VTIMEZONE
BEGIN:VEVENT
DTSTART;TZID=Europe/Athens:20260424T173000
DTEND;TZID=Europe/Athens:20260424T183000
DTSTAMP:20260423T232347
CREATED:20260324T115559Z
LAST-MODIFIED:20260402T055647Z
UID:62053-1777051800-1777055400@www.strovolos.org.cy
SUMMARY:Το Furry Book Club τον Μάρτιο για παιδιά και εφήβους στο Πολιτιστικό Κέντρο Στροβόλου! 24/4/26
DESCRIPTION:Δελτίο Τύπου\nΤο Furry Book Club για παιδιά και εφήβους\nστο Πολιτιστικό Κέντρο Στροβόλου 3 και 24 Απριλίου 2026 \nΤο επιτυχημένο πρόγραμμα «Furry Book Club –  Reading Dogs»\, για παιδιά και εφήβους\, συνεχίζεται και τον Απρίλιο στο Πολιτιστικό Κέντρο Στροβόλου\, με δωρεάν συμμετοχή. Απαραίτητη η εκ των προτέρων δήλωση συμμετοχής\, λόγω περιορισμένου αριθμού θέσεων.   \nΤο πρόγραμμα διοργανώνεται από τον Κυπριακό Σύνδεσμο Παιδικού και Νεανικού βιβλίου (ΚΣΠΝΒ)\, σε συνεργασία με το «Assistant Dogs Cyprus» και υποστηρίζεται από τον Δήμο Στροβόλου και τη Eurobank. \nΣτοχεύει στην ανάπτυξη της φιλαναγνωσίας και την προώθηση της κυπριακής παιδικής και νεανικής λογοτεχνίας\, μέσω λογοτεχνικών εργαστηρίων και παρουσιάσεων βιβλίων. Στην εκδήλωση συμμετέχουν ειδικά εκπαιδευμένα σκυλιά «ανάγνωσης – reading dogs»\,  συνοδευόμενα από τους εκπαιδευτές τους\, με στόχο την καλλιέργεια του σεβασμού των ζώων και της φιλοζωικής δράσης\, μέσα από βιωματικές εμπειρίες.\n \nΤο πρόγραμμα για τον Απρίλιο έχει ως εξής: \n\nΠαρασκευή 3/4/26\, 17:30-18:30: Παρουσίαση του βιβλίου «Να σου δείξω τη σελίδα »\, της Χριστίνας Γεωργίου \n\nΓια δηλώσεις συμμετοχής: \nhttps://docs.google.com/forms/d/1oSc7TaXcU2d29eG2eS3l6qDE4YY5ziotkgHoJ44DB50/edit \n\nΠαρασκευή 24/4/26\, 17:30 – 18:30: Παρουσίαση του βιβλίου «Το θαύμα εσύ» της Έλενας Μιτσίδη\n\nΓια δηλώσεις συμμετοχή: \nhttps://docs.google.com/forms/d/1tHhVQPW7QUpreZpLKmVZVRAvcNG1y2hqGuTqy8iMPx8/edit \n\nΒιογραφικό Χριστίνας Γεωργίου\nΒιογραφικό Έλενας Μιτσίδη\n\n  \n  \nΑπό τον Δήμο Στροβόλου και τον Κυπριακό Σύνδεσμο Παιδικού Νεανικού Βιβλίου\n24/3/26
URL:https://www.strovolos.org.cy/event/to-furry-book-club-ton-martio-gia-paidia-sto-politistiko-kentro-strovolou-24-4-26-1730-1830/
LOCATION:Πολιτιστικό Κέντρο Στροβόλου
CATEGORIES:Εκδηλώσεις Δήμου
GEO:35.150126;33.343012
END:VEVENT
BEGIN:VEVENT
DTSTART;TZID=Europe/Athens:20260425T110000
DTEND;TZID=Europe/Athens:20260425T110000
DTSTAMP:20260423T232347
CREATED:20260408T120935Z
LAST-MODIFIED:20260408T120951Z
UID:62410-1777114800-1777114800@www.strovolos.org.cy
SUMMARY:Τελετή ονοματοδότησης του Δημοτικού Πάρκου «Έλλη Σολομωνίδου»\, Σάββατο 25/4/26\, 11:00 (γωνία οδών Ανδρέα Παναγίδη & Ανδρέα Παρασκευά)
DESCRIPTION:
URL:https://www.strovolos.org.cy/event/teleti-onomatodotisis-tou-dimotikou-parkou-elli-solomonidou-savvato-25-4-26-1100-gonia-odon-andrea-panagidi-andrea-paraskeva/
LOCATION:Δημοτικό Πάρκο Έλλη Σολομωνίδου\, Cyprus
CATEGORIES:Εκδηλώσεις Δήμου
ATTACH;FMTTYPE=image/jpeg:https://www.strovolos.org.cy/wp-content/uploads/Nea-hmeromhnia-Teleth-onomatodothshs-Parkoy-Ellh-Solomonidoy-1080x1080-1.jpg
GEO:35.140734767599;33.368057786255
END:VEVENT
BEGIN:VEVENT
DTSTART;TZID=Europe/Athens:20260429T183000
DTEND;TZID=Europe/Athens:20260429T183000
DTSTAMP:20260423T232347
CREATED:20260421T075851Z
LAST-MODIFIED:20260421T075851Z
UID:62530-1777487400-1777487400@www.strovolos.org.cy
SUMMARY:10ο Ενοριακό Συμβούλιο Χρυσελεούσας – Αρχαγγέλου. Ο Στρόβολος αλλάζει. Μαζί κάνουμε καλύτερη τη γειτονιά μας!
DESCRIPTION:10ο  Ενοριακό Συμβούλιο:  \nΟ Στρόβολος αλλάζει. Μαζί κάνουμε καλύτερη τη γειτονιά μας! \n Ενοριακό Συμβούλιο Χρυσελεούσας – Αρχαγγέλου \n  \nΤην Τετάρτη 29 Απριλίου 2026 θα βρεθούμε μαζί για την γειτονιά μας. Για δεύτερη συνεχόμενη χρονιά\, ο Δήμος Στροβόλου διοργανώνει ενοριακά συμβούλια\,  με σκοπό την αμεσότερη επικοινωνία των δημοτών με το Δημοτικό Συμβούλιο και την ενημέρωση για εισηγήσεις ή τυχόν προβλήματα που αντιμετωπίζουν στις εκάστοτε γειτονιές οι δημότες. \nΤο δέκατο ενοριακό συμβούλιο\, για την ενορία Χρυσελεούσας-Αρχαγγέλου θα  διεξαχθεί την Τετάρτη 29 Απριλίου 2026\, στις 18:30 στην αίθουσα του Μουσείου Ενθομάρτυρα Αρχιεπισκόπου Κυπριανού (έναντι του Ι.Ν. Παναγίας Χρυσελεούσης).  \nΤο κοινό μπορεί να θέτει ανοικτά ερωτήματα και εισηγήσεις στον Δήμαρχο Σταύρο Σταυρινίδη και μέλη της Υπηρεσίας του Δήμου\, με απώτερο σκοπό τη βελτίωση των παρεχόμενων υπηρεσιών από τον Δήμο. \nΣημειώνεται ότι θα λαμβάνονται φωτογραφίες και βίντεο κατά τη διάρκεια της εκδήλωσης\, τα οποία θα δημοσιευθούν στα μέσα κοινωνικής δικτύωσης του Δήμου. \n  \n10ο Ενοριακό Συμβούλιο \nΣυμμετέχουμε. Συζητάμε. Συνδιαμορφώνουμε. \n  \nΑΠΟ ΤΟΝ ΔΗΜΟ ΣΤΡΟΒΟΛΟΥ \n21 Απριλίου 2026
URL:https://www.strovolos.org.cy/event/10o-enoriako-symvoulio-chryseleousas-archangelou-o-strovolos-allazei-mazi-kanoume-kalyteri-ti-geitonia-mas/
LOCATION:Εκκλησιαστικό Μουσείο Εθνομάρτυρα Κυπριανού στον Στρόβολο
CATEGORIES:Εκδηλώσεις Δήμου
GEO:35.14624242943;33.340136045691
END:VEVENT
BEGIN:VEVENT
DTSTART;TZID=Europe/Athens:20260429T193000
DTEND;TZID=Europe/Athens:20260429T193000
DTSTAMP:20260423T232347
CREATED:20260331T105038Z
LAST-MODIFIED:20260331T105038Z
UID:62172-1777491000-1777491000@www.strovolos.org.cy
SUMMARY:Θεατρική παράσταση «Λυσιστράτη»\, 29/4/26
DESCRIPTION:Το Λύκειο Εθνομάρτυρα Κυπριανού Στροβόλου\, παρουσιάζει τη θεατρική παράσταση\n«Λυσιστράτη» \n29 Απριλίου 2026 │ώρα: 19:30 │Δημοτικό Θέατρο Στροβόλου \nΕισιτήρια θα πωλούνται από το Σχολείο
URL:https://www.strovolos.org.cy/event/theatriki-parastasi-lysistrati-29-4-26/
LOCATION:Δημοτικό Θέατρο Στροβόλου\, Cyprus
CATEGORIES:Εκδηλώσεις στο Δημοτικό Θέατρο
GEO:35.143943;33.343228
END:VEVENT
END:VCALENDAR