BEGIN:VCALENDAR
VERSION:2.0
PRODID:-//Strovolos Municipality - ECPv6.15.20//NONSGML v1.0//EN
CALSCALE:GREGORIAN
METHOD:PUBLISH
X-ORIGINAL-URL:https://www.strovolos.org.cy
X-WR-CALDESC:Events for Strovolos Municipality
REFRESH-INTERVAL;VALUE=DURATION:PT1H
X-Robots-Tag:noindex
X-PUBLISHED-TTL:PT1H
BEGIN:VTIMEZONE
TZID:Europe/Athens
BEGIN:DAYLIGHT
TZOFFSETFROM:+0200
TZOFFSETTO:+0300
TZNAME:EEST
DTSTART:20210328T010000
END:DAYLIGHT
BEGIN:STANDARD
TZOFFSETFROM:+0300
TZOFFSETTO:+0200
TZNAME:EET
DTSTART:20211031T010000
END:STANDARD
BEGIN:DAYLIGHT
TZOFFSETFROM:+0200
TZOFFSETTO:+0300
TZNAME:EEST
DTSTART:20220327T010000
END:DAYLIGHT
BEGIN:STANDARD
TZOFFSETFROM:+0300
TZOFFSETTO:+0200
TZNAME:EET
DTSTART:20221030T010000
END:STANDARD
BEGIN:DAYLIGHT
TZOFFSETFROM:+0200
TZOFFSETTO:+0300
TZNAME:EEST
DTSTART:20230326T010000
END:DAYLIGHT
BEGIN:STANDARD
TZOFFSETFROM:+0300
TZOFFSETTO:+0200
TZNAME:EET
DTSTART:20231029T010000
END:STANDARD
END:VTIMEZONE
BEGIN:VEVENT
DTSTART;TZID=Europe/Athens:20221114T083000
DTEND;TZID=Europe/Athens:20221118T133000
DTSTAMP:20260422T052643
CREATED:20221107T093331Z
LAST-MODIFIED:20221107T093331Z
UID:37105-1668414600-1668778200@www.strovolos.org.cy
SUMMARY:Λειτουργία Έκθεσης «Περί Στροβόλου» Δευτ. - Παρ. (8:30 - 13:30)\, μέχρι και τις 18/11/22 - Δημ. Μέγαρο
DESCRIPTION:Ο Δήμος Στροβόλου ενημερώνει το κοινό ότι μετά από αίτημα πολλών συμπολιτών μας\, η Έκθεση «Περί Στροβόλου» θα παραμείνει ανοικτή για το κοινό μέχρι και την Παρασκευή 18 Νοεμβρίου 2022 και συγκεκριμένα\, από Δευτέρα έως Παρασκευή κατά τις πρωινές ώρες 8:30 – 13:30\, στο Δημοτικό Μέγαρο Στροβόλου. \nΌπως είχε ανακοινωθεί\, η Έκθεση παρουσιάζει τα αποτελέσματα του Προγράμματος «Περί Στροβόλου»\, το οποίο είχε ως στόχο  την αποτύπωση και διαφύλαξη της ιστορίας του Στροβόλου και το ψηφιακό αρχείο που έχει δημιουργηθεί\, έχει αναρτηθεί στην ιστοσελίδα www.peristrovolou.com.
URL:https://www.strovolos.org.cy/event/leitourgia-ekthesis-peri-strovolou-deft-par-830-1330-mechri-kai-tis-18-11-22-dim-megaro-2/
LOCATION:Δημοτικό Μέγαρο Στροβόλου
CATEGORIES:Εκδηλώσεις Δήμου
GEO:35.144036;33.343467
END:VEVENT
BEGIN:VEVENT
DTSTART;TZID=Europe/Athens:20221114T193000
DTEND;TZID=Europe/Athens:20221114T193000
DTSTAMP:20260422T052643
CREATED:20221104T122931Z
LAST-MODIFIED:20221104T122931Z
UID:36991-1668454200-1668454200@www.strovolos.org.cy
SUMMARY:Παρουσίαση του βιβλίου της Ελλάδας Σοφοκλέους «Σε φόντο λευκό»\, Πολιτιστικό Κέντρο\, Δευτέρα 14/11/22\, 19:30\, από τον Όμιλο Φίλων Δημοτικής Βιβλιοθήκης
DESCRIPTION:
URL:https://www.strovolos.org.cy/event/parousiasi-tou-vivliou-tis-elladas-sofokleous-se-fonto-lefko-politistiko-kentro-deftera-14-11-22-1930-apo-ton-omilo-filon-dimotikis-vivliothikis/
LOCATION:Πολιτιστικό Κέντρο
CATEGORIES:Εκδηλώσεις Δήμου
END:VEVENT
BEGIN:VEVENT
DTSTART;TZID=Europe/Athens:20221114T203000
DTEND;TZID=Europe/Athens:20221114T203000
DTSTAMP:20260422T052643
CREATED:20221104T123552Z
LAST-MODIFIED:20221104T123637Z
UID:37009-1668457800-1668457800@www.strovolos.org.cy
SUMMARY:«100 χρόνια Μνήμες Μικράς Ασίας – Μνήμες Πατρίδας»\, 14/11/22\, 20:30\, Δημοτικό Θέατρο Στροβόλου. Την εκδήλωση στηρίζει ο Δήμος Στροβόλου.
DESCRIPTION:
URL:https://www.strovolos.org.cy/event/100-chronia-mnimes-mikras-asias-mnimes-patridas-14-11-22-2030-dimotiko-theatro-strovolou-tin-ekdilosi-stirizei-o-dimos-strovolou/
LOCATION:Δημοτικό Θέατρο Στροβόλου\, Cyprus
CATEGORIES:Εκδηλώσεις Δήμου
GEO:35.143943;33.343228
END:VEVENT
BEGIN:VEVENT
DTSTART;TZID=Europe/Athens:20221115T203000
DTEND;TZID=Europe/Athens:20221115T203000
DTSTAMP:20260422T052643
CREATED:20221103T083636Z
LAST-MODIFIED:20221103T083636Z
UID:36901-1668544200-1668544200@www.strovolos.org.cy
SUMMARY:Κονσέρτο «United for Music»\, 15/11/2022 – Δημ. Θέατρο Στροβόλου
DESCRIPTION:Το Κέντρο Μουσικής Barenboim-Said ανακοινώνει την πρώτη διεθνή συναυλιακή περιοδεία μετά την πανδημία με τη ναυαρχίδα του\, το σύνολο της Filasteen Young Musicians Orchestra. Το σύνολο ενώνεται με τους Cyprus Young Strings Soloists και έρχεται στο Δημοτικό Θέατρο Στροβόλου με ένα κονσέρτο στις 15/11/2022 και ώρα 20:30 υπό τη διεύθυνση του μαέστρου Rémy Ballot Conductor. \nΤο Cyprus Young String Soloists Ensemble είναι ίδρυμα του καθηγητή Ματθαίου Καριόλου. Το σύνολο έχει αναγνωριστεί ευρέως από τη διεθνή κοινότητα κλασικής μουσικής\, φέρνοντας ονόματα όπως η Martha Argerich και ο Ivry gitlis στην Κύπρο. \nΗ Filasteen Young Musicians Orchestra έχει εμφανιστεί ενεργά στη Μέση Ανατολή και στην Ευρώπη ανεξάρτητα από το νεαρό της ηλικίας τους ως σύνολο. Η μουσική τους κατοικία βρίσκεται ακόμη στην Παλαιστίνη. Το FYMO έχει συνεργαστεί με σπουδαίους μαέστρους όπως ο μαέστρος Daniel Barenboim\, ο Thomas Guggeis\, ο Remy Ballot και πολλοί άλλοι. Η πρόσφατη εμφάνισή τους στο Musikverein Wien έγινε δεκτή με ενθουσιασμό. Η ορχήστρα ιδρύθηκε από τη Liina Leijala. \nΗ κοινή συναυλία στις 15 Νοεμβρίου θα είναι προς τιμήν των γενεθλίων του μαέστρου Daniel Barenboim. \nΕισιτήρια: 10€/15€
URL:https://www.strovolos.org.cy/event/konserto-united-for-music-15-11-2022-dim-theatro-strovolou/
LOCATION:Δημοτικό Θέατρο Στροβόλου\, Cyprus
CATEGORIES:Εκδηλώσεις Άλλων Φορέων
GEO:35.143943;33.343228
END:VEVENT
BEGIN:VEVENT
DTSTART;TZID=Europe/Athens:20221119T190000
DTEND;TZID=Europe/Athens:20221119T190000
DTSTAMP:20260422T052643
CREATED:20221118T131510Z
LAST-MODIFIED:20221118T131510Z
UID:37725-1668884400-1668884400@www.strovolos.org.cy
SUMMARY:Ο Δήμος Στροβόλου στηρίζει την τελετή Απονομής Βραβείων στο 17ο Διεθνές Φεστιβάλ Κινηματογράφου Κύπρου\, 19/11/22 - Είσοδος ελεύθερη
DESCRIPTION:17ο Διεθνές Φεστιβάλ Κινηματογράφου Κύπρου 12-19 Nοεμβρίου 2022\nYπό την Αιγίδα του Δήμου Στροβόλου \nΤο Διεθνές Φεστιβάλ Κινηματογράφου Κύπρου επιστρέφει για 17η συνεχή χρονιά με προβολες\, σεμινάρια και το Κινηματογραφικό Εργαστήριο Πήγασος\, τη περίοδο 12-18 Νοεμβρίου στο Cine Studio και στην Παλαιά Αγορά Παλουριώτισσας στη Λευκωσία. Η φαντασμαγορική Τελετή Λήξης και Απονομής Βραβείων Χρυσή Αφροδίτη θα πραγματοποιηθεί στο Δημοτικό Θέατρο Στροβόλου στις 19 Νοεμβρίου. \nTο Διεθνές Φεστιβάλ Κινηματογράφου Κύπρου έχει τη πιστοποίηση EFFE (EFFE Label) αποτελεί την ευρωπαϊκή σφραγίδα ποιότητας\, που απονέμεται στα αξιόλογα καλλιτεχνικά Φεστιβάλ για την εργασία τους στον τομέα της τέχνης\, τη συμμετοχή στην κοινότητα και το άνοιγμα ενός διεθνούς διαλόγου. Το CΥIFF είναι οργανισμός μη κερδοσκοπικός\, βασίζεται κυρίως σε εθελοντική εργασία και είναι εκπόνημα ομάδας Κυπρίων και Ελλαδιτών επαγγελματιών στον χώρο του πολιτισμού και των  τεχνών\, παραγωγών ταινιών και διεθνών συμβούλων του κινηματογράφου. Το Φεστιβάλ λειτουργεί με συνέπεια και καλλιτεχνική ευθύνη ετησίως\, από το 2006. Φέτος συνεργάζεται με το ίδρυμα Γυναίκες στο Κινηματογράφο και στη Τηλεόραση Κύπρου και την Εταιρεία Πολιτισμού Cine@Art. \nΣτους καλεσμένους συμπεριλαμβάνονται η ηθοποιός Μαρία Κορινθίου\, η Ινδή βραβευμένη αθλήτρια αγώνων ταχύτητας αυτοκινήτων influencer Garima Avtar\, η Μαριέλλα Σαββίδου\, ο νικητής του 1oυ Survivor\,  Γιώργος Αγγελοπουλος (Ντάνος)\, o ηθοποιός Σπύρος Μπιμπίλας και αρκετοί άλλοι διάσημοι καλλιτέχνες από  το εξωτερικό. \nΤο πρόγραμμα περιλαμβάνει τις ακόλουθες εκδηλώσεις: \n\nπολυαναμενόμενες πρεμιέρες\, που έρχονται έρχεται κατευθείαν από το Φεστιβάλ Καννών\, το Dodo του Πάνου Κούτρα με τους Σμαράγδα Καρύδη\, Άκη Σακελλαρίου\, Μαριέλλα Σαββίδου και το Dadalove (ταινία τεκμηρίωσης για την θεατρική ομάδα από το Παλέρμο Teatri Alchemici DaDaDaùn\, των Luigi Di Gangi και Ugo Giacomazzi\, όπου όλοι οι ηθοποιοί έχουν Down’s syndrome) κ.ά.  Θα διαγωνιστούν επίσης οι ιταλικές ταινίες  Bocche Inutili του Claudio Uberti σχετική με το ολοκαύτωμα και Perdutamente  του διάσημου Paolo Ruffini που υποστηρίζει ότι η ανάρρωση από το Αλτσχάιμερ είναι πραγματικά αδύνατη\, η μόνη θεραπεία είναι να περιβάλλεσαι από αγάπη. Από τις 25 ελληνικές και κυπριακές  συμμετοχές ξεχωρίζουν επίσης οι πρωτοεμφανιζόμενοι σκηνοθέτες Γιάννης Αϊβάζης με την ταινία του Αβυσσος και Κώνσταντίνος Μουρατίδης με Το Κλαδί στη Φωτιά με τους Σπύρο Μπιμπίλα\, τη Γενοβέφα Κτενίδουτο και το working progress έργο Destiny του Δημήτρη Κατσικούδη\, με τον Αντρέα Βουγιούκα και την κολομβιανή καλλονή Laura Barjum.\n“Νόστιμον Ήμαρ” και “Βραβευμένοι Κύπριοι Σκηνοθέτες”\,\nΘεματική με ταινίες με γυναίκα στη σκηνοθεσία ή/και στη παραγωγή\, για το βραβείο “Aphrodite Cinematic Award”\,\nΘεματική με ταινίες στη κατηγορία: “50/50” με ισάριθμη συμμετοχή ανδρών και γυναικών\,\nΘέματα ταινιών: ανθρώπινα δικαιώματα\, περιβάλλον\, ειρήνη\, διαφορετικότητα\, κοινωνικός και νεανικός προβληματισμός\,\nO Οργανισμός Ευρωπαικών Προγραμμάτων και Πολιτιστικών Σχέσεων θα παρουσιασει προγράμματα χρηματοδότησης και συνεργασίας για συμπαραγωγές ταινιών κι άλλων οπτικοακουστικών έργων\,\nPitching νέων έργων από σκηνοθέτες και παραγωγούς\,\nCinemaLab Pegasos workshop – Kάνε κι εσύ τη δική σου ταινία στο “Κινηματογραφικό Εργαστήρι Πήγασος” – Βιωματικό εργαστήριο με τον Ινδό παραγωγό Vivek Singhania\, όπου θα παραχθεί μια μικρή ταινία μήκους που θα προβληθεί στη τελετή λήξης του Φεστιβάλ\,\nCYIFF Scriptwriting Workshop “Bridging the Second Act” – Σεμινάριο συγγραφής σεναρίου με τον Scott Simpson\,\n“Visions and Voices for Change” – Η δράση περιλαμβάνει:\nα. Έκθεση φωτογραφίας σε συνεργασία με την Φωτογραφική Εταιρεία Κύπρου\, Τμήμα Λευκωσίας με συμμετοχή φωτογράφων από τις δύο κοινότητες\,  την  ελεύθερη και την κατεχόμενη Κύπρο\, και\nβ. Στρογγυλό τραπέζι “Η Ειρήνη μέσα από την Έβδομη Τέχνη” με ομιλητές: Πέτρα Τερζή – Πρόεδρος WIFTCY – Ελλάδα\, η Ινδή βραβευμένη αθλήτρια αγώνων ταχύτητας αυτοκινήτων influencer Garima Avtar\, Lia Beltrami (Women of Faith for Peace)\, σκηνοθέτρια – Ιταλία\, Nuha Farran (Women of Faith for Peace)\, νομικός – Παλαιστίνη\, Nadya Gorshkova – παραγωγός-Ρωσία/Κύπρος\, Julia Vertova – κινηματογραφίστρια-Ουκρανία/Κύπρος\, Άννα Τσιάρτα – παραγωγός\, σκηνοθέτρια\, εκπαιδεύτρια-Κύπρος\, Mine Balman – σκηνοθέτρια-Κύπρος\, Σαΐα Τσαουσίδου – Πρόεδρος της Ένωσης Ευρωπαίων Δημοσιογράφων και Νίκος Γαλάνης – σκηνοθέτης\, εκπαιδευτικός-Ελλάδα\,\nΘα τιμηθούν η ηθοποιός Δέσποινα Μπεμπεδέλη και η αείμνηστη Λένα Μελανίδου\, μαέστρος της Δικοινοτικής χορωδίας για την Ειρήνη – Λένα Μελανίδου\,\nTo Φεστιβάλ τιμά τον πρώτο καλλιτεχνικό διευθυντή του\, τον  Σχεδιaστή Παραγωγής των ταινιών  του John  Cassavetes\, Φαίδων Παπαμιχαήλ και τον γιο του\, Διευθυντή Φωτογραφίας\, Φαίδων Παπαμιχαήλ Jr.\, πολλαπλως υποψήφιο για βραβείο Oscar. Από φέτος το Φεστιβάλ θεσπίζει το τεχνικό βραβείο  Phedon Papamichael για την καλύτερη παραγωγή ή/ και φωτογραφία σε ταινία που συμμετέχει στο Φεστιβάλ\,\nΤο Βραβείο “Χρυσή Αφροδίτη” αναδυκνείεται από μια διακεκριμένη  διεθνή κριτική επιτροπή\, μεταξύ άλλων η Δανέζα σκηνοθέτρια Sofie Vibeke Muasya\, ο ηθοποιός & παραγωγός Valentin Nonyela (Casino Royale)\, η Αμερικανίδα  παραγωγός Tiffany Boyle\, ο Ινδός παραγωγός Vivek Singhania\, ο Αμερικανός παραγωγός George F. Roberson (Venice Festival Queer Lion for Jose)\, η παραγωγός Nadya Gorshkova\, η δημοσιογράφος Bejay Browne κ.ά.\nTo  17ο Διεθνές Φεστιβάλ Κινηματογράφου Κύπρου φιλοξενεί σε όλες τις δράσεις του το Καραϊσκάκειο Ίδρυμα για εθελοντική δειγματοληψία δωρητών μυελού των οστών.\n\nΤο Φεστιβάλ ευχαριστεί τους Δήμους Στροβόλου και Λευκωσίας\, το Υφυπουργείο Τουρισμού\, τον Εθνικό Μηχανισμό για τα Δικαιώματα της Γυναίκας\, το Ίδρυμα Women in Film and Television-Cyprus\, τον Οργανισμό Ευρωπαϊκών Προγραμμάτων και Πολιτιστικών Σχέσεων\, τον Opap Cyprus\, την Ardgon Advertising και την Πρεσβεία της Ιταλίας στην Κύπρο για τη συνεργασία τους. Χορηγοί επικοινωνίας είναι: ΡΙΚ\, ALPHA Κύπρου\, ΕΡΤ3\, INSPIRE TV™\, περιοδικό Cine @ Art. \nΜετά τιμής\,\nΠΕΤΡΑ ΤΕΡΖΗ (κιν. 99798112)\nΔ/νση Διεθνούς Φεστιβάλ Κινηματογράφου Κύπρου \nΠΡΟΓΡΑΜΜΑ ΠΡΟΒΟΛΩΝ & ΕΚΔΗΛΩΣΕΩΝ 12-19/11/22 \n\n12/11-16/11 12:00-23:00 CINE STUDIO\, Έγκωμη\, Λευκωσία\n17/11-18/11 12:00-23:00 ΠΑΛΙΑ ΑΓΟΡΑ ΠΑΛΟΥΡΙΩΤΙΣΣΑΣ\, Λευκωσία\n19/11 19:00-23:00 ΔΗΜΟΤΙΚΟ ΘΕΑΤΡΟ ΣΤΡΟΒΟΛΟΥ\, Λευκωσία\n\n \nΛΙΓΑ ΛΟΓΙΑ ΓΙΑ ΤΟ ΔΙΕΘΝΕΣ ΦΕΣΤΙΒΑΛ ΚΙΝΗΜΑΤΟΓΡΑΦΟΥ ΚΥΠΡΟΥ (CYIFF) \n  \nΤο CΥIFF είναι οργανισμός μη κερδοσκοπικός\, βασίζεται κυρίως σε εθελοντική εργασία και είναι εκπόνημα ομάδας Κυπρίων και Ελλαδιτών επαγγελματιών\, παραγωγών ταινιών και διεθνών συμβούλων του κινηματογράφου. Ο Φαίδων Παπαμιχαήλ\, σχεδιαστής παραγωγής στις ταινίες του John Cassavetes\, μέλος της Κριτικής Επιτροπής του Φεστιβάλ το 2006\, ανέλαβε το 2007 Καλλιτεχνική Διεύθυνση κι έθεσε τις βάσεις του Φεστιβάλ για ένα διεθνές βήμα σε πρωτοεμφανίζομενους σκηνοθέτες. Από το 2006\, στα πλαίσια του Φεστιβάλ\, έχουν πραγματοποιηθεί σημαντικές παράλληλες πολιτιστικές κι εκπαιδευτικές εκδηλώσεις: \n\nΈκθεση Αφίσας των ταινιών του Krzyzstof Kieslowski με παραχώρηση από το Lotz Film\n\nMuseum Πολωνίας στο Ρωσικό Πολιτιστικό Κέντρο (CYIFF 2008) \n\n‘Εκθεση Φωτογραφίας «Βυζαντινά Κάστρα της Ελλάδος»\, των Βαγγέλη & Άγγελου Ρασσιά\, μεταφορά από το Μουσείο Μπενάκη στην Ελλάδα\, στη Καστελλιώτισσα (CYIFF 2006)\nΕργαστήρι «Ειδικά Εφφέ» με τους Alahouzos Brothers στο Hotel Amathus (CYIFF 2006)\nΕργαστήρι «Mακιγιάζ για Κινηματογράφο» -Alahouzos Brothers στο Hotel Amathus (CYIFF 2006)\nΑφιέρωμα στην ιστορία του Ελληνικού Κινούμενου Σχεδίου σε συνεργασία με το Ινστιτούτο Οπτικοακουστικών Μέσων\, (CYIFF 2007)\nΑφιέρωμα στον Ρωσικό Κινηματογράφο σε συνεργασία με το Cine Fantom Club\, την αρχαιότερη κινηματογραφική Λέσχη στη Μόσχα\, στο Ρωσικό Πολιτιστικό Κέντρο (CYIFF 2008)\nΑφιέρωμα σύγχρονος Πολωνέζικος Κινημ/φος\,συνεργασία με Polish Film Institut (CYIFF 2010)\nΣεμινάριο «3D Animation»- με Γιώτης Κατσαμπάς στο Ρωσικό Πολιτιστικό Κέντρο (CYIFF 2008)\nΣεμινάριο «Τα πρώτα βήματα στη συγγραφή Κινηματογραφικού Σεναρίου»-Dr Andrew Horton\, Διευθυντή Κινηματογραφικών Σπουδών στο Πανεπιστήμιο της Οκλαχόμα\, ΗΠΑ\, βραβευμένος σεναριογράφος (‘Η Μαύρη Όψη του Ήλιου’ με τον Brad Pitt) στο Hotel Amathus (CYIFF 2006)\nΣεμινάριο/Εργαστήριο «Ο Ηθοποιός μπροστά στην Κάμερα» με τον βραβευμενο ηθοποιό και σκηνοθέτη Θανάση Σαράντο\, όπου παράχθηκε μία ταινία μικρού μήκους (CYIFF 2010)\nΣεμινάριο Masterclass με την βραβευμένη διευθύντρια Φωτογραφίας Ολυμπία Μυτιληναίου (Στρέλλα\, Miss Violence – CYIFF 2013)\n\nΈχουν διατελέσει ως μέλη των κριτικών επιτροπών από το 2006\, αρκετοί διακεκριμένοι καλλιτέχνες και κινηματογραφιστές όπως οι παρακάτω: \n\n\n\nΦαίδων Παπαμιχαήλ\, σχεδιαστής παραγωγής στις ταινίες του John Cassavetes και Kαλλιτεχνικός Διευθυντής του Φεστιβάλ από το 2007\nΦαίδων Παπαμιχαήλ Jr\, βραβευμένος διευθυντής φωτογραφίας\, (L.A.\, ΗΠΑ) και σύμβουλος του Φεστιβάλ\nDr Andrew Horton\, Διευθυντής Κινηματογραφικών Σπουδών στο Πανεπιστήμιο της Οκλαχόμα\, ΗΠΑ\nStuart Alson\, διευθυντής του New York Film & Video Festival\nΣκηνοθέτες : Chris Eyre (Sundance\, ΗΠΑ)\, Νίκος Κούνδουρος\, Αλίκη Δανέζη-Knutsen\, Διονύσης Αρχιμήδης Ζερβός (L.A. HΠA)\, Tony Srour\, Νικόλας Δημητρίου\, Σωκράτης Λαμπρόπουλος\, Μιχάλης Γεωργιάδης\, Χρίστος Γεωργίου\, Oliver Kyr\nΑλέξανδρος Κακκαβάς\, Πρόεδρος Ένωσης Σεναριογράφων Ελλάδος\nΗθοποιοί: Q-Orianka Kilscher(Pocahontas – New World)\, Anna-Maria Marinca\, Σοφία Σχοινάς\, Kώστας Δημητρίου\, Ελένη Πετροπούλου\, Aλεξάνδρα Παυλίδου\, Xλόη Λιάσκου\, Άννα Συνοδινού\nΠαραγωγοί ταινιών: Gregory Cascante\,Georges Stephanopoulos (Ν.Υ.\, ΗΠΑ)\, Βάσος Γεώργας\, Vivek Singhania (India)\nMoυσικοσυνθέτες: Κώστας Κακογιάννης\, Δημήτρης Κατής\, Μάρω Θεοδωράκη\, Σταύρος Σιδεράς\nΑλέξανδρος Ρωμανός Λιζάρδος\, κριτικός κινηματογράφου (ΕΡΤ)
URL:https://www.strovolos.org.cy/event/o-dimos-strovolou-stirizei-tin-teleti-aponomis-vraveion-sto-17o-diethnes-festival-kinimatografou-kyprou-19-11-22-eisodos-eleftheri/
LOCATION:Δημοτικό Θέατρο Στροβόλου\, Cyprus
CATEGORIES:Εκδηλώσεις Άλλων Φορέων
GEO:35.143943;33.343228
END:VEVENT
BEGIN:VEVENT
DTSTART;TZID=Europe/Athens:20221120T150000
DTEND;TZID=Europe/Athens:20221120T150000
DTSTAMP:20260422T052643
CREATED:20221117T081009Z
LAST-MODIFIED:20221117T081009Z
UID:37549-1668956400-1668956400@www.strovolos.org.cy
SUMMARY:Εκδήλωση του Ιδρύματος Οδικής Ασφάλειας «Γιώργος Μ. Μαυρίκιος» για την Παγκόσμια Ημέρα Μνήμης Θυμάτων της Ασφάλτου\,  20/11/22 (εκκίνηση πορείας από το Δημοτικό Μέγαρο Στροβόλου)
DESCRIPTION:
URL:https://www.strovolos.org.cy/event/ekdilosi-tou-idrymatos-odikis-asfaleias-giorgos-m-mavrikios-gia-tin-pagkosmia-imera-mnimis-thymaton-tis-asfaltou-20-11-22-ekkinisi-poreias-apo-to-dimotiko-megaro-strovolou/
LOCATION:Πάρκο Οδικής Ασφάλειας «Γιώργος Μαυρίκιος»
CATEGORIES:Εκδηλώσεις Δήμου
GEO:35.1381094;33.3372593
END:VEVENT
BEGIN:VEVENT
DTSTART;TZID=Europe/Athens:20221120T180000
DTEND;TZID=Europe/Athens:20221120T180000
DTSTAMP:20260422T052643
CREATED:20221110T095713Z
LAST-MODIFIED:20221110T095713Z
UID:37285-1668967200-1668967200@www.strovolos.org.cy
SUMMARY:Επετειακή εκδήλωση Επιτρόπου Προστασίας Δικαιωμάτων του Παιδιού "The sound of Rights"\, 20/11/2022
DESCRIPTION:
URL:https://www.strovolos.org.cy/event/epeteiaki-ekdilosi-epitropou-prostasias-dikaiomaton-tou-paidiou-the-sound-of-rights-20-11-2022/
LOCATION:Δημοτικό Θέατρο Στροβόλου\, Cyprus
CATEGORIES:Εκδηλώσεις Άλλων Φορέων
GEO:35.143943;33.343228
END:VEVENT
END:VCALENDAR