BEGIN:VCALENDAR
VERSION:2.0
PRODID:-//Strovolos Municipality - ECPv6.15.20//NONSGML v1.0//EN
CALSCALE:GREGORIAN
METHOD:PUBLISH
X-ORIGINAL-URL:https://www.strovolos.org.cy
X-WR-CALDESC:Events for Strovolos Municipality
REFRESH-INTERVAL;VALUE=DURATION:PT1H
X-Robots-Tag:noindex
X-PUBLISHED-TTL:PT1H
BEGIN:VTIMEZONE
TZID:Europe/Athens
BEGIN:DAYLIGHT
TZOFFSETFROM:+0200
TZOFFSETTO:+0300
TZNAME:EEST
DTSTART:20240331T010000
END:DAYLIGHT
BEGIN:STANDARD
TZOFFSETFROM:+0300
TZOFFSETTO:+0200
TZNAME:EET
DTSTART:20241027T010000
END:STANDARD
BEGIN:DAYLIGHT
TZOFFSETFROM:+0200
TZOFFSETTO:+0300
TZNAME:EEST
DTSTART:20250330T010000
END:DAYLIGHT
BEGIN:STANDARD
TZOFFSETFROM:+0300
TZOFFSETTO:+0200
TZNAME:EET
DTSTART:20251026T010000
END:STANDARD
BEGIN:DAYLIGHT
TZOFFSETFROM:+0200
TZOFFSETTO:+0300
TZNAME:EEST
DTSTART:20260329T010000
END:DAYLIGHT
BEGIN:STANDARD
TZOFFSETFROM:+0300
TZOFFSETTO:+0200
TZNAME:EET
DTSTART:20261025T010000
END:STANDARD
END:VTIMEZONE
BEGIN:VEVENT
DTSTART;TZID=Europe/Athens:20251120T181500
DTEND;TZID=Europe/Athens:20251120T181500
DTSTAMP:20260423T220234
CREATED:20251111T131144Z
LAST-MODIFIED:20251111T131144Z
UID:59809-1763662500-1763662500@www.strovolos.org.cy
SUMMARY:7ο  Ενοριακό Συμβούλιο:  Ο Στρόβολος αλλάζει. Μαζί κάνουμε καλύτερη τη γειτονιά μας!  Ενοριακό Συμβούλιο Αγ. Βασιλείου
DESCRIPTION:
URL:https://www.strovolos.org.cy/event/7o-enoriako-symvoulio-o-strovolos-allazei-mazi-kanoume-kalyteri-ti-geitonia-mas-enoriako-symvoulio-ag-vasileiou/
LOCATION:Ι.Ν. Αγίου Βασιλείου
CATEGORIES:Εκδηλώσεις Δήμου
GEO:35.136514;33.338269
END:VEVENT
BEGIN:VEVENT
DTSTART;TZID=Europe/Athens:20251120T203000
DTEND;TZID=Europe/Athens:20251120T203000
DTSTAMP:20260423T220234
CREATED:20251022T140749Z
LAST-MODIFIED:20251022T140749Z
UID:59286-1763670600-1763670600@www.strovolos.org.cy
SUMMARY:Μουσικοθεατρική παράσταση «Ευτυχία Παπαγιαννοπούλου»\, 20/11/25
DESCRIPTION:Ο Δήμος Στροβόλου στο πλαίσιο των φθινοπωρινών\nτου εκδηλώσεων παρουσιάζει\nτη μουσικοθεατρική παράσταση\n«Ευτυχία Παπαγιαννοπούλου» \n20 Νοεμβρίου 2025 │ώρα: 20:30 │Δημοτικό Θέατρο Στροβόλου \nΕισιτήρια πωλούνται από \nhttps://www.ticketmaster.cy/seatingPlan.html?idProduct=9284#venueViewID
URL:https://www.strovolos.org.cy/event/mousikotheatriki-parastasi-eftychia-papagiannopoulou-20-11-25/
LOCATION:Δημοτικό Θέατρο Στροβόλου\, Cyprus
CATEGORIES:Εκδηλώσεις στο Δημοτικό Θέατρο
GEO:35.143943;33.343228
END:VEVENT
BEGIN:VEVENT
DTSTART;TZID=Europe/Athens:20251121T173000
DTEND;TZID=Europe/Athens:20251121T183000
DTSTAMP:20260423T220234
CREATED:20251106T114544Z
LAST-MODIFIED:20251106T114544Z
UID:59644-1763746200-1763749800@www.strovolos.org.cy
SUMMARY:Το Furry Book Club τον Νοέμβριο για παιδιά και εφήβους στη Δημ. Βιβλιοθήκη Στροβόλου!  21/11/25
DESCRIPTION:Δελτίο Τύπου \nΤο Furry Book Club τον Νοέμβριο για παιδιά και εφήβους  \nστη Δημοτική Βιβλιοθήκη Στροβόλου! \nΤο επιτυχημένο πρόγραμμα «Furry Book Club –  Reading Dogs»\, για παιδιά και εφήβους\, συνεχίζεται και τον Νοέμβριο στη Δημοτική Βιβλιοθήκη Στροβόλου\, με δωρεάν συμμετοχή. Απαραίτητη η εκ των προτέρων δήλωση συμμετοχής\, λόγω περιορισμένου αριθμού θέσεων.   \nΤο πρόγραμμα διοργανώνεται από τον Κυπριακό Σύνδεσμο Παιδικού και Νεανικού βιβλίου (ΚΣΠΝΒ)\, σε συνεργασία με το «Assistant Dogs Cyprus» και υποστηρίζεται από τον Δήμο Στροβόλου και τη Eurobank. \nΣτοχεύει στην ανάπτυξη της φιλαναγνωσίας και την προώθηση της κυπριακής παιδικής και νεανικής λογοτεχνίας\, μέσω λογοτεχνικών εργαστηρίων και παρουσιάσεων βιβλίων. Στην εκδήλωση συμμετέχουν ειδικά εκπαιδευμένα σκυλιά «ανάγνωσης – reading dogs»\,  συνοδευόμενα από τους εκπαιδευτές τους\, με στόχο την καλλιέργεια του σεβασμού των ζώων και της φιλοζωικής δράσης\, μέσα από βιωματικές εμπειρίες.  \nΤο πρόγραμμα για τον Νοέμβριο έχει ως εξής: \n\nΠαρασκευή 7/11/25\, 17:30 – 18:30: Παρουσίαση του βιβλίου «ΕΝΑΣ ΑΝΘΡΩΠΟΣ ΑΠΟ ΜΕΤΑΛΛΟ»\, του Νίκου Αντωνίου \n\nΓια δηλώσεις συμμετοχής: \nhttps://docs.google.com/forms/d/1UzzYamegNc_n1zhrsvHb4bldWCeZ1qoKArrsFZDUbQk/edit \n\nΠαρασκευή 21/11/25\, 17:30 – 18:30: Παρουσίαση του βιβλίου «Με το Νι και με το Βήτα» της Ισμήνης Παφίτη \n\nΓια δηλώσεις συμμετοχής: \nhttps://docs.google.com/forms/d/1CpcQVLFse7e2JHSVkdHKhId51rasoLhXzi3v2I_qsjk/edit \n\nΒιογραφικό Νίκος Αντωνίου\nΒιογραφικό Ισμήνης Παφίτη\n\n \n \n  \nΑπό τον Δήμο Στροβόλου και τον Κυπριακό Σύνδεσμο Παιδικού Νεανικού Βιβλίου \n4/11/25
URL:https://www.strovolos.org.cy/event/to-furry-book-club-ton-noemvrio-gia-paidia-kai-efivous-sti-dim-vivliothiki-strovolou-21-11-25/
LOCATION:Πολιτιστικό Κέντρο Στροβόλου
CATEGORIES:Εκδηλώσεις Δήμου
GEO:35.150126;33.343012
END:VEVENT
BEGIN:VEVENT
DTSTART;TZID=Europe/Athens:20251122T100000
DTEND;TZID=Europe/Athens:20251122T170000
DTSTAMP:20260423T220234
CREATED:20251119T152202Z
LAST-MODIFIED:20251119T152202Z
UID:60080-1763805600-1763830800@www.strovolos.org.cy
SUMMARY:The Grand Antiques & Vintage Market\, 22/11/25 | 10:00-17:00  -  προαύλιο Δημ. Μεγάρου
DESCRIPTION:Γυρίστε πίσω στον χρόνο στην Grande Antiques & Vintage Market στο Στρόβολο. \nΑνακαλύψτε κρυμμένους θησαυρούς\, διαχρονικά κομμάτια και ιστορίες από το παρελθόν στην Antiques & Vintage Market — μια μεγάλη συγκέντρωση συλλεκτών\, δημιουργών και λάτρεις της old-soul. \nΠεριπλανηθείτε σε πάγκους γεμάτους με vintage μόδα\, αντίκες\, ρετρό διακόσμηση\, δίσκους βινυλίου\, κοσμήματα\, έργα τέχνης και πολλά άλλα. Κάθε αντικείμενο έχει μια ιστορία — ίσως το επόμενο να είναι δικό σας! \n20+ πωλητές θα βρίσκονται στο market \nΣάββατο 22 Νοεμβρίου\nΠροαύλιο Δημοτικού Μεγάρου Στροβόλου\n10:00 π.μ. – 5:00 μ.μ. \nΕίσοδος Δωρεάν \nΑπολαύστε μια χαλαρή ατμόσφαιρα με μουσική\, πάγκους με φαγητά και υπέροχη παρέα. \nΕίτε είστε συλλέκτης είτε απλώς αγαπάτε τη μαγεία του παρελθόντος\, αυτή είναι μια μέρα που δεν πρέπει να χάσετε. \nΕλάτε για τη νοσταλγία\, μείνετε για τη γοητεία. \nΦέρτε τους φίλους σας και την αγάπη σας για όμορφα πράγματα που διαρκούν. \n————————————————————————————————————– \nStep Back in Time at the Grand Antiques & Vintage Market in Strovolos! \nDiscover hidden treasures\, timeless pieces\, and stories from the past at our Vintage & Antiques Market — a charming gathering of collectors\, creators\, and old-soul enthusiasts.\nWander through stalls filled with vintage fashion\, antique furniture\, retro décor\, vinyl records\, jewelry\, art\, curiosities\, and more. Each item has a story — maybe the next one will be yours! \n20+ vendors will be selling their hand picked treasures \nSaturday 22nd November\nStrovolos Municipal Hall\n10:00 am – 5:00 pm \nFree entrance \nEnjoy a relaxed atmosphere with music\, local food stalls\, and great company.\nWhether you’re a passionate collector or just love the magic of the past\, this is a day not to be missed. \nCome for the nostalgia\, stay for the charm.\nBring your friends\, your curiosity\, and your love for beautiful things that last.
URL:https://www.strovolos.org.cy/event/the-grand-antiques-vintage-market-22-11-25-1000-1700-proavlio-dim-megarou/
LOCATION:Δημοτικό Μέγαρο Στροβόλου
CATEGORIES:Εκδηλώσεις Άλλων Φορέων
GEO:35.144036;33.343467
END:VEVENT
BEGIN:VEVENT
DTSTART;TZID=Europe/Athens:20251122T190000
DTEND;TZID=Europe/Athens:20251122T190000
DTSTAMP:20260423T220234
CREATED:20251114T104015Z
LAST-MODIFIED:20251114T104015Z
UID:59882-1763838000-1763838000@www.strovolos.org.cy
SUMMARY:Συναυλία με το κουαρτέτο εγχόρδων Arte y Musica Quartet\, 22/11/25\, με τη στήριξη του Δήμου Στροβόλου
DESCRIPTION: 
URL:https://www.strovolos.org.cy/event/synavlia-me-to-kouarteto-egchordon-arte-y-musica-quartet-22-11-25-me-ti-stiriksi-tou-dimou-strovolou/
LOCATION:Εκκλησιαστικό Μουσείο Εθνομάρτυρα Κυπριανού στον Στρόβολο
CATEGORIES:Εκδηλώσεις Δήμου
GEO:35.14624242943;33.340136045691
END:VEVENT
BEGIN:VEVENT
DTSTART;TZID=Europe/Athens:20251122T200000
DTEND;TZID=Europe/Athens:20251122T200000
DTSTAMP:20260423T220234
CREATED:20251022T140817Z
LAST-MODIFIED:20251022T140817Z
UID:59287-1763841600-1763841600@www.strovolos.org.cy
SUMMARY:The English School Talent Night 2025\, 22/11/25
DESCRIPTION:Το The English School παρουσιάζει\nτο «Talent Night 2025» \n22 Νοεμβρίου 2025 │ώρα: 20:00 │Δημοτικό Θέατρο Στροβόλου \nΕισιτήρια πωλούνται από \nSoldOut Tickets
URL:https://www.strovolos.org.cy/event/the-english-school-talent-night-2025-22-11-25/
LOCATION:Δημοτικό Θέατρο Στροβόλου\, Cyprus
CATEGORIES:Εκδηλώσεις στο Δημοτικό Θέατρο
GEO:35.143943;33.343228
END:VEVENT
END:VCALENDAR